{"text_format":"1","workbook":"xlsx","n_sheets":26,"sheets":["Auto Team results","Final team results","Overall Festival","All Individuals Day 1","All Individuals Day 2","Day 1 Zones","Day 2 Zones","Bass Festival","Bass Only Day 1","Bass Only Day 2","Non-Bass Day 1","Non-Bass Day 2","Ladies Champs. ","Ladies Day 1","Ladies Day 2","Juniors ","Juniors Day 1","Juniors Day 2","Heaviest Bass","Heaviest Flat Day 1","Heaviest Flat Day 2","Heaviest Catch","Mystery Pairs","Shannock Quads","Final Individual results","Weight Point Table (qtr oz)"],"not_rendered":{"charts":0,"images":0,"macros":1,"external_links":4,"defined_names":106,"comments":0,"pivot_tables":0},"unopened":[],"bounds":{"document_bytes":16777216,"sheet_cells":100000,"rows_first":2000,"rows_last":500,"rows_between":2000,"halvings":0,"cell_chars":16384,"cell_head_chars":4096},"cells_cut":0,"cells_raw":0,"read":"whole","date_system":"1900"}

{"sheet":"Auto Team results","index":0,"n_rows":109,"n_cols":14,"rows_kept":109,"cut":false,"hidden":true,"merged":[[76,5,77,5],[76,4,77,4],[72,4,72,5],[74,4,74,5],[76,0,77,0],[76,1,77,1],[76,2,77,2],[76,3,77,3],[71,2,71,3],[38,13,39,13],[1,0,2,0],[1,1,2,1],[1,12,2,12],[1,13,2,13],[36,2,36,3],[38,0,39,0],[38,1,39,1],[38,12,39,12],[36,4,36,5],[74,8,74,9],[74,10,74,11],[36,6,36,7],[36,8,36,9],[74,6,74,7],[71,6,71,7],[71,8,71,9],[71,10,71,11]]}
["SAMF 2006 National Sea League Final  -  Day 1"]
["Team Name","Team No. ","Zone A",null,"Zone B",null,"Zone C",null,"Zone D",null,"Zone E",null,"Day 1 Points","Day 1 Position"]
[null,null,"Peg","Points & Position","Peg","Points & Position","Peg","Points & Position","Peg","Points & Position","Peg","Points & Position"]
[{"$f":"IF(ISNA(VLOOKUP(B4,#REF!,3,FALSE))=TRUE,\"\",VLOOKUP(B4,#REF!,3,FALSE))","v":{"$error":"#REF!"}},12,{"$f":"B4","v":12},{"$f":"IF(C4=\"\",\"\",VLOOKUP(C4,#REF!,7,FALSE))","v":{"$error":"#REF!"}},{"$f":"IF(C4=\"\",\"\",IF((C4+NpZ+ZP)>2*NpZ,(((C4+NpZ+ZP)-2*NpZ)+NpZ),(C4+NpZ+ZP)))","v":{"$error":"#REF!"}},{"$f":"IF(E4=\"\",\"\",VLOOKUP(E4,#REF!,7,FALSE))","v":{"$error":"#REF!"}},{"$f":"IF(E4=\"\",\"\",IF((E4+NpZ+ZP)>3*NpZ,(((E4+NpZ+ZP)-2*NpZ)+NpZ),(E4+NpZ+ZP)))","v":{"$error":"#REF!"}},{"$f":"IF(G4=\"\",\"\",VLOOKUP(G4,#REF!,7,FALSE))","v":{"$error":"#REF!"}},{"$f":"IF(G4=\"\",\"\",IF((G4+NpZ+ZP)>4*NpZ,(((G4+NpZ+ZP)-2*NpZ)+NpZ),(G4+NpZ+ZP)))","v":{"$error":"#REF!"}},{"$f":"IF(I4=\"\",\"\",VLOOKUP(I4,#REF!,7,FALSE))","v":{"$error":"#REF!"}},{"$f":"IF(I4=\"\",\"\",IF((I4+NpZ+ZP)>5*NpZ,(((I4+NpZ+ZP)-2*NpZ)+NpZ),(I4+NpZ+ZP)))","v":{"$error":"#REF!"}},{"$f":"IF(K4=\"\",\"\",VLOOKUP(K4,#REF!,7,FALSE))","v":{"$error":"#REF!"}},{"$f":"IF(B4=\"\",\"\",(D4+F4+H4+J4+L4))","v":{"$error":"#REF!"}},{"$f":"IF(M4=\"\",\"\",IF(M4=M3,N3,ROW()-3))","v":{"$error":"#REF!"}}]
[{"$f":"IF(ISNA(VLOOKUP(B5,#REF!,3,FALSE))=TRUE,\"\",VLOOKUP(B5,#REF!,3,FALSE))","v":{"$error":"#REF!"}},10,10,{"$f":"IF(C5=\"\",\"\",VLOOKUP(C5,#REF!,7,FALSE))","v":{"$error":"#REF!"}},{"$error":"#REF!"},{"$f":"IF(E5=\"\",\"\",VLOOKUP(E5,#REF!,7,FALSE))","v":{"$error":"#REF!"}},{"$error":"#REF!"},{"$f":"IF(G5=\"\",\"\",VLOOKUP(G5,#REF!,7,FALSE))","v":{"$error":"#REF!"}},{"$error":"#REF!"},{"$f":"IF(I5=\"\",\"\",VLOOKUP(I5,#REF!,7,FALSE))","v":{"$error":"#REF!"}},{"$error":"#REF!"},{"$f":"IF(K5=\"\",\"\",VLOOKUP(K5,#REF!,7,FALSE))","v":{"$error":"#REF!"}},{"$error":"#REF!"},{"$error":"#REF!"}]
[{"$f":"IF(ISNA(VLOOKUP(B6,#REF!,3,FALSE))=TRUE,\"\",VLOOKUP(B6,#REF!,3,FALSE))","v":{"$error":"#REF!"}},9,9,{"$f":"IF(C6=\"\",\"\",VLOOKUP(C6,#REF!,7,FALSE))","v":{"$error":"#REF!"}},{"$error":"#REF!"},{"$f":"IF(E6=\"\",\"\",VLOOKUP(E6,#REF!,7,FALSE))","v":{"$error":"#REF!"}},{"$error":"#REF!"},{"$f":"IF(G6=\"\",\"\",VLOOKUP(G6,#REF!,7,FALSE))","v":{"$error":"#REF!"}},{"$error":"#REF!"},{"$f":"IF(I6=\"\",\"\",VLOOKUP(I6,#REF!,7,FALSE))","v":{"$error":"#REF!"}},{"$error":"#REF!"},{"$f":"IF(K6=\"\",\"\",VLOOKUP(K6,#REF!,7,FALSE))","v":{"$error":"#REF!"}},{"$error":"#REF!"},{"$error":"#REF!"}]
[{"$f":"IF(ISNA(VLOOKUP(B7,#REF!,3,FALSE))=TRUE,\"\",VLOOKUP(B7,#REF!,3,FALSE))","v":{"$error":"#REF!"}},26,26,{"$f":"IF(C7=\"\",\"\",VLOOKUP(C7,#REF!,7,FALSE))","v":{"$error":"#REF!"}},{"$error":"#REF!"},{"$f":"IF(E7=\"\",\"\",VLOOKUP(E7,#REF!,7,FALSE))","v":{"$error":"#REF!"}},{"$error":"#REF!"},{"$f":"IF(G7=\"\",\"\",VLOOKUP(G7,#REF!,7,FALSE))","v":{"$error":"#REF!"}},{"$error":"#REF!"},{"$f":"IF(I7=\"\",\"\",VLOOKUP(I7,#REF!,7,FALSE))","v":{"$error":"#REF!"}},{"$error":"#REF!"},{"$f":"IF(K7=\"\",\"\",VLOOKUP(K7,#REF!,7,FALSE))","v":{"$error":"#REF!"}},{"$error":"#REF!"},{"$error":"#REF!"}]
[{"$f":"IF(ISNA(VLOOKUP(B8,#REF!,3,FALSE))=TRUE,\"\",VLOOKUP(B8,#REF!,3,FALSE))","v":{"$error":"#REF!"}},4,4,{"$f":"IF(C8=\"\",\"\",VLOOKUP(C8,#REF!,7,FALSE))","v":{"$error":"#REF!"}},{"$error":"#REF!"},{"$f":"IF(E8=\"\",\"\",VLOOKUP(E8,#REF!,7,FALSE))","v":{"$error":"#REF!"}},{"$error":"#REF!"},{"$f":"IF(G8=\"\",\"\",VLOOKUP(G8,#REF!,7,FALSE))","v":{"$error":"#REF!"}},{"$error":"#REF!"},{"$f":"IF(I8=\"\",\"\",VLOOKUP(I8,#REF!,7,FALSE))","v":{"$error":"#REF!"}},{"$error":"#REF!"},{"$f":"IF(K8=\"\",\"\",VLOOKUP(K8,#REF!,7,FALSE))","v":{"$error":"#REF!"}},{"$error":"#REF!"},{"$error":"#REF!"}]
[{"$f":"IF(ISNA(VLOOKUP(B9,#REF!,3,FALSE))=TRUE,\"\",VLOOKUP(B9,#REF!,3,FALSE))","v":{"$error":"#REF!"}},11,11,{"$f":"IF(C9=\"\",\"\",VLOOKUP(C9,#REF!,7,FALSE))","v":{"$error":"#REF!"}},{"$error":"#REF!"},{"$f":"IF(E9=\"\",\"\",VLOOKUP(E9,#REF!,7,FALSE))","v":{"$error":"#REF!"}},{"$error":"#REF!"},{"$f":"IF(G9=\"\",\"\",VLOOKUP(G9,#REF!,7,FALSE))","v":{"$error":"#REF!"}},{"$error":"#REF!"},{"$f":"IF(I9=\"\",\"\",VLOOKUP(I9,#REF!,7,FALSE))","v":{"$error":"#REF!"}},{"$error":"#REF!"},{"$f":"IF(K9=\"\",\"\",VLOOKUP(K9,#REF!,7,FALSE))","v":{"$error":"#REF!"}},{"$error":"#REF!"},{"$error":"#REF!"}]
[{"$f":"IF(ISNA(VLOOKUP(B10,#REF!,3,FALSE))=TRUE,\"\",VLOOKUP(B10,#REF!,3,FALSE))","v":{"$error":"#REF!"}},22,22,{"$f":"IF(C10=\"\",\"\",VLOOKUP(C10,#REF!,7,FALSE))","v":{"$error":"#REF!"}},{"$error":"#REF!"},{"$f":"IF(E10=\"\",\"\",VLOOKUP(E10,#REF!,7,FALSE))","v":{"$error":"#REF!"}},{"$error":"#REF!"},{"$f":"IF(G10=\"\",\"\",VLOOKUP(G10,#REF!,7,FALSE))","v":{"$error":"#REF!"}},{"$error":"#REF!"},{"$f":"IF(I10=\"\",\"\",VLOOKUP(I10,#REF!,7,FALSE))","v":{"$error":"#REF!"}},{"$error":"#REF!"},{"$f":"IF(K10=\"\",\"\",VLOOKUP(K10,#REF!,7,FALSE))","v":{"$error":"#REF!"}},{"$error":"#REF!"},{"$error":"#REF!"}]
[{"$f":"IF(ISNA(VLOOKUP(B11,#REF!,3,FALSE))=TRUE,\"\",VLOOKUP(B11,#REF!,3,FALSE))","v":{"$error":"#REF!"}},20,20,{"$f":"IF(C11=\"\",\"\",VLOOKUP(C11,#REF!,7,FALSE))","v":{"$error":"#REF!"}},{"$error":"#REF!"},{"$f":"IF(E11=\"\",\"\",VLOOKUP(E11,#REF!,7,FALSE))","v":{"$error":"#REF!"}},{"$error":"#REF!"},{"$f":"IF(G11=\"\",\"\",VLOOKUP(G11,#REF!,7,FALSE))","v":{"$error":"#REF!"}},{"$error":"#REF!"},{"$f":"IF(I11=\"\",\"\",VLOOKUP(I11,#REF!,7,FALSE))","v":{"$error":"#REF!"}},{"$error":"#REF!"},{"$f":"IF(K11=\"\",\"\",VLOOKUP(K11,#REF!,7,FALSE))","v":{"$error":"#REF!"}},{"$error":"#REF!"},{"$error":"#REF!"}]
[{"$f":"IF(ISNA(VLOOKUP(B12,#REF!,3,FALSE))=TRUE,\"\",VLOOKUP(B12,#REF!,3,FALSE))","v":{"$error":"#REF!"}},21,21,{"$f":"IF(C12=\"\",\"\",VLOOKUP(C12,#REF!,7,FALSE))","v":{"$error":"#REF!"}},{"$error":"#REF!"},{"$f":"IF(E12=\"\",\"\",VLOOKUP(E12,#REF!,7,FALSE))","v":{"$error":"#REF!"}},{"$error":"#REF!"},{"$f":"IF(G12=\"\",\"\",VLOOKUP(G12,#REF!,7,FALSE))","v":{"$error":"#REF!"}},{"$error":"#REF!"},{"$f":"IF(I12=\"\",\"\",VLOOKUP(I12,#REF!,7,FALSE))","v":{"$error":"#REF!"}},{"$error":"#REF!"},{"$f":"IF(K12=\"\",\"\",VLOOKUP(K12,#REF!,7,FALSE))","v":{"$error":"#REF!"}},{"$error":"#REF!"},{"$error":"#REF!"}]
[{"$f":"IF(ISNA(VLOOKUP(B13,#REF!,3,FALSE))=TRUE,\"\",VLOOKUP(B13,#REF!,3,FALSE))","v":{"$error":"#REF!"}},27,27,{"$f":"IF(C13=\"\",\"\",VLOOKUP(C13,#REF!,7,FALSE))","v":{"$error":"#REF!"}},{"$error":"#REF!"},{"$f":"IF(E13=\"\",\"\",VLOOKUP(E13,#REF!,7,FALSE))","v":{"$error":"#REF!"}},{"$error":"#REF!"},{"$f":"IF(G13=\"\",\"\",VLOOKUP(G13,#REF!,7,FALSE))","v":{"$error":"#REF!"}},{"$error":"#REF!"},{"$f":"IF(I13=\"\",\"\",VLOOKUP(I13,#REF!,7,FALSE))","v":{"$error":"#REF!"}},{"$error":"#REF!"},{"$f":"IF(K13=\"\",\"\",VLOOKUP(K13,#REF!,7,FALSE))","v":{"$error":"#REF!"}},{"$error":"#REF!"},{"$error":"#REF!"}]
[{"$f":"IF(ISNA(VLOOKUP(B14,#REF!,3,FALSE))=TRUE,\"\",VLOOKUP(B14,#REF!,3,FALSE))","v":{"$error":"#REF!"}},28,28,{"$f":"IF(C14=\"\",\"\",VLOOKUP(C14,#REF!,7,FALSE))","v":{"$error":"#REF!"}},{"$error":"#REF!"},{"$f":"IF(E14=\"\",\"\",VLOOKUP(E14,#REF!,7,FALSE))","v":{"$error":"#REF!"}},{"$error":"#REF!"},{"$f":"IF(G14=\"\",\"\",VLOOKUP(G14,#REF!,7,FALSE))","v":{"$error":"#REF!"}},{"$error":"#REF!"},{"$f":"IF(I14=\"\",\"\",VLOOKUP(I14,#REF!,7,FALSE))","v":{"$error":"#REF!"}},{"$error":"#REF!"},{"$f":"IF(K14=\"\",\"\",VLOOKUP(K14,#REF!,7,FALSE))","v":{"$error":"#REF!"}},{"$error":"#REF!"},{"$error":"#REF!"}]
[{"$f":"IF(ISNA(VLOOKUP(B15,#REF!,3,FALSE))=TRUE,\"\",VLOOKUP(B15,#REF!,3,FALSE))","v":{"$error":"#REF!"}},30,{"$f":"B15","v":30},{"$f":"IF(C15=\"\",\"\",VLOOKUP(C15,#REF!,7,FALSE))","v":{"$error":"#REF!"}},{"$error":"#REF!"},{"$f":"IF(E15=\"\",\"\",VLOOKUP(E15,#REF!,7,FALSE))","v":{"$error":"#REF!"}},{"$error":"#REF!"},{"$f":"IF(G15=\"\",\"\",VLOOKUP(G15,#REF!,7,FALSE))","v":{"$error":"#REF!"}},{"$error":"#REF!"},{"$f":"IF(I15=\"\",\"\",VLOOKUP(I15,#REF!,7,FALSE))","v":{"$error":"#REF!"}},{"$error":"#REF!"},{"$f":"IF(K15=\"\",\"\",VLOOKUP(K15,#REF!,7,FALSE))","v":{"$error":"#REF!"}},{"$error":"#REF!"},{"$f":"IF(M15=\"\",\"\",IF(M15=M14,N14,ROW()-3))","v":{"$error":"#REF!"}}]
[{"$f":"IF(ISNA(VLOOKUP(B16,#REF!,3,FALSE))=TRUE,\"\",VLOOKUP(B16,#REF!,3,FALSE))","v":{"$error":"#REF!"}},25,25,{"$f":"IF(C16=\"\",\"\",VLOOKUP(C16,#REF!,7,FALSE))","v":{"$error":"#REF!"}},{"$error":"#REF!"},{"$f":"IF(E16=\"\",\"\",VLOOKUP(E16,#REF!,7,FALSE))","v":{"$error":"#REF!"}},{"$error":"#REF!"},{"$f":"IF(G16=\"\",\"\",VLOOKUP(G16,#REF!,7,FALSE))","v":{"$error":"#REF!"}},{"$error":"#REF!"},{"$f":"IF(I16=\"\",\"\",VLOOKUP(I16,#REF!,7,FALSE))","v":{"$error":"#REF!"}},{"$error":"#REF!"},{"$f":"IF(K16=\"\",\"\",VLOOKUP(K16,#REF!,7,FALSE))","v":{"$error":"#REF!"}},{"$error":"#REF!"},{"$error":"#REF!"}]
[{"$f":"IF(ISNA(VLOOKUP(B17,#REF!,3,FALSE))=TRUE,\"\",VLOOKUP(B17,#REF!,3,FALSE))","v":{"$error":"#REF!"}},17,17,{"$f":"IF(C17=\"\",\"\",VLOOKUP(C17,#REF!,7,FALSE))","v":{"$error":"#REF!"}},{"$error":"#REF!"},{"$f":"IF(E17=\"\",\"\",VLOOKUP(E17,#REF!,7,FALSE))","v":{"$error":"#REF!"}},{"$error":"#REF!"},{"$f":"IF(G17=\"\",\"\",VLOOKUP(G17,#REF!,7,FALSE))","v":{"$error":"#REF!"}},{"$error":"#REF!"},{"$f":"IF(I17=\"\",\"\",VLOOKUP(I17,#REF!,7,FALSE))","v":{"$error":"#REF!"}},{"$error":"#REF!"},{"$f":"IF(K17=\"\",\"\",VLOOKUP(K17,#REF!,7,FALSE))","v":{"$error":"#REF!"}},{"$error":"#REF!"},{"$error":"#REF!"}]
[{"$f":"IF(ISNA(VLOOKUP(B18,#REF!,3,FALSE))=TRUE,\"\",VLOOKUP(B18,#REF!,3,FALSE))","v":{"$error":"#REF!"}},2,2,{"$f":"IF(C18=\"\",\"\",VLOOKUP(C18,#REF!,7,FALSE))","v":{"$error":"#REF!"}},{"$error":"#REF!"},{"$f":"IF(E18=\"\",\"\",VLOOKUP(E18,#REF!,7,FALSE))","v":{"$error":"#REF!"}},{"$error":"#REF!"},{"$f":"IF(G18=\"\",\"\",VLOOKUP(G18,#REF!,7,FALSE))","v":{"$error":"#REF!"}},{"$error":"#REF!"},{"$f":"IF(I18=\"\",\"\",VLOOKUP(I18,#REF!,7,FALSE))","v":{"$error":"#REF!"}},{"$error":"#REF!"},{"$f":"IF(K18=\"\",\"\",VLOOKUP(K18,#REF!,7,FALSE))","v":{"$error":"#REF!"}},{"$error":"#REF!"},{"$error":"#REF!"}]
[{"$f":"IF(ISNA(VLOOKUP(B19,#REF!,3,FALSE))=TRUE,\"\",VLOOKUP(B19,#REF!,3,FALSE))","v":{"$error":"#REF!"}},6,6,{"$f":"IF(C19=\"\",\"\",VLOOKUP(C19,#REF!,7,FALSE))","v":{"$error":"#REF!"}},{"$error":"#REF!"},{"$f":"IF(E19=\"\",\"\",VLOOKUP(E19,#REF!,7,FALSE))","v":{"$error":"#REF!"}},{"$error":"#REF!"},{"$f":"IF(G19=\"\",\"\",VLOOKUP(G19,#REF!,7,FALSE))","v":{"$error":"#REF!"}},{"$error":"#REF!"},{"$f":"IF(I19=\"\",\"\",VLOOKUP(I19,#REF!,7,FALSE))","v":{"$error":"#REF!"}},{"$error":"#REF!"},{"$f":"IF(K19=\"\",\"\",VLOOKUP(K19,#REF!,7,FALSE))","v":{"$error":"#REF!"}},{"$error":"#REF!"},{"$error":"#REF!"}]
[{"$f":"IF(ISNA(VLOOKUP(B20,#REF!,3,FALSE))=TRUE,\"\",VLOOKUP(B20,#REF!,3,FALSE))","v":{"$error":"#REF!"}},1,{"$f":"B20","v":1},{"$f":"IF(C20=\"\",\"\",VLOOKUP(C20,#REF!,7,FALSE))","v":{"$error":"#REF!"}},{"$f":"IF(C20=\"\",\"\",IF((C20+NpZ+ZP)>2*NpZ,(((C20+NpZ+ZP)-2*NpZ)+NpZ),(C20+NpZ+ZP)))","v":{"$error":"#REF!"}},{"$f":"IF(E20=\"\",\"\",VLOOKUP(E20,#REF!,7,FALSE))","v":{"$error":"#REF!"}},{"$f":"IF(E20=\"\",\"\",IF((E20+NpZ+ZP)>3*NpZ,(((E20+NpZ+ZP)-2*NpZ)+NpZ),(E20+NpZ+ZP)))","v":{"$error":"#REF!"}},{"$f":"IF(G20=\"\",\"\",VLOOKUP(G20,#REF!,7,FALSE))","v":{"$error":"#REF!"}},{"$f":"IF(G20=\"\",\"\",IF((G20+NpZ+ZP)>4*NpZ,(((G20+NpZ+ZP)-2*NpZ)+NpZ),(G20+NpZ+ZP)))","v":{"$error":"#REF!"}},{"$f":"IF(I20=\"\",\"\",VLOOKUP(I20,#REF!,7,FALSE))","v":{"$error":"#REF!"}},{"$f":"IF(I20=\"\",\"\",IF((I20+NpZ+ZP)>5*NpZ,(((I20+NpZ+ZP)-2*NpZ)+NpZ),(I20+NpZ+ZP)))","v":{"$error":"#REF!"}},{"$f":"IF(K20=\"\",\"\",VLOOKUP(K20,#REF!,7,FALSE))","v":{"$error":"#REF!"}},{"$f":"IF(B20=\"\",\"\",(D20+F20+H20+J20+L20))","v":{"$error":"#REF!"}},{"$f":"IF(M20=\"\",\"\",IF(M20=M19,N19,ROW()-3))","v":{"$error":"#REF!"}}]
[{"$f":"IF(ISNA(VLOOKUP(B21,#REF!,3,FALSE))=TRUE,\"\",VLOOKUP(B21,#REF!,3,FALSE))","v":{"$error":"#REF!"}},29,{"$f":"B21","v":29},{"$f":"IF(C21=\"\",\"\",VLOOKUP(C21,#REF!,7,FALSE))","v":{"$error":"#REF!"}},{"$error":"#REF!"},{"$f":"IF(E21=\"\",\"\",VLOOKUP(E21,#REF!,7,FALSE))","v":{"$error":"#REF!"}},{"$error":"#REF!"},{"$f":"IF(G21=\"\",\"\",VLOOKUP(G21,#REF!,7,FALSE))","v":{"$error":"#REF!"}},{"$error":"#REF!"},{"$f":"IF(I21=\"\",\"\",VLOOKUP(I21,#REF!,7,FALSE))","v":{"$error":"#REF!"}},{"$error":"#REF!"},{"$f":"IF(K21=\"\",\"\",VLOOKUP(K21,#REF!,7,FALSE))","v":{"$error":"#REF!"}},{"$error":"#REF!"},{"$f":"IF(M21=\"\",\"\",IF(M21=M20,N20,ROW()-3))","v":{"$error":"#REF!"}}]
[{"$f":"IF(ISNA(VLOOKUP(B22,#REF!,3,FALSE))=TRUE,\"\",VLOOKUP(B22,#REF!,3,FALSE))","v":{"$error":"#REF!"}},23,23,{"$f":"IF(C22=\"\",\"\",VLOOKUP(C22,#REF!,7,FALSE))","v":{"$error":"#REF!"}},{"$error":"#REF!"},{"$f":"IF(E22=\"\",\"\",VLOOKUP(E22,#REF!,7,FALSE))","v":{"$error":"#REF!"}},{"$error":"#REF!"},{"$f":"IF(G22=\"\",\"\",VLOOKUP(G22,#REF!,7,FALSE))","v":{"$error":"#REF!"}},{"$error":"#REF!"},{"$f":"IF(I22=\"\",\"\",VLOOKUP(I22,#REF!,7,FALSE))","v":{"$error":"#REF!"}},{"$error":"#REF!"},{"$f":"IF(K22=\"\",\"\",VLOOKUP(K22,#REF!,7,FALSE))","v":{"$error":"#REF!"}},{"$error":"#REF!"},{"$error":"#REF!"}]
[{"$f":"IF(ISNA(VLOOKUP(B23,#REF!,3,FALSE))=TRUE,\"\",VLOOKUP(B23,#REF!,3,FALSE))","v":{"$error":"#REF!"}},16,16,{"$f":"IF(C23=\"\",\"\",VLOOKUP(C23,#REF!,7,FALSE))","v":{"$error":"#REF!"}},{"$error":"#REF!"},{"$f":"IF(E23=\"\",\"\",VLOOKUP(E23,#REF!,7,FALSE))","v":{"$error":"#REF!"}},{"$error":"#REF!"},{"$f":"IF(G23=\"\",\"\",VLOOKUP(G23,#REF!,7,FALSE))","v":{"$error":"#REF!"}},{"$error":"#REF!"},{"$f":"IF(I23=\"\",\"\",VLOOKUP(I23,#REF!,7,FALSE))","v":{"$error":"#REF!"}},{"$error":"#REF!"},{"$f":"IF(K23=\"\",\"\",VLOOKUP(K23,#REF!,7,FALSE))","v":{"$error":"#REF!"}},{"$error":"#REF!"},{"$error":"#REF!"}]
[{"$f":"IF(ISNA(VLOOKUP(B24,#REF!,3,FALSE))=TRUE,\"\",VLOOKUP(B24,#REF!,3,FALSE))","v":{"$error":"#REF!"}},14,14,{"$f":"IF(C24=\"\",\"\",VLOOKUP(C24,#REF!,7,FALSE))","v":{"$error":"#REF!"}},{"$error":"#REF!"},{"$f":"IF(E24=\"\",\"\",VLOOKUP(E24,#REF!,7,FALSE))","v":{"$error":"#REF!"}},{"$error":"#REF!"},{"$f":"IF(G24=\"\",\"\",VLOOKUP(G24,#REF!,7,FALSE))","v":{"$error":"#REF!"}},{"$error":"#REF!"},{"$f":"IF(I24=\"\",\"\",VLOOKUP(I24,#REF!,7,FALSE))","v":{"$error":"#REF!"}},{"$error":"#REF!"},{"$f":"IF(K24=\"\",\"\",VLOOKUP(K24,#REF!,7,FALSE))","v":{"$error":"#REF!"}},{"$error":"#REF!"},{"$error":"#REF!"}]
[{"$f":"IF(ISNA(VLOOKUP(B25,#REF!,3,FALSE))=TRUE,\"\",VLOOKUP(B25,#REF!,3,FALSE))","v":{"$error":"#REF!"}},24,24,{"$f":"IF(C25=\"\",\"\",VLOOKUP(C25,#REF!,7,FALSE))","v":{"$error":"#REF!"}},{"$error":"#REF!"},{"$f":"IF(E25=\"\",\"\",VLOOKUP(E25,#REF!,7,FALSE))","v":{"$error":"#REF!"}},{"$error":"#REF!"},{"$f":"IF(G25=\"\",\"\",VLOOKUP(G25,#REF!,7,FALSE))","v":{"$error":"#REF!"}},{"$error":"#REF!"},{"$f":"IF(I25=\"\",\"\",VLOOKUP(I25,#REF!,7,FALSE))","v":{"$error":"#REF!"}},{"$error":"#REF!"},{"$f":"IF(K25=\"\",\"\",VLOOKUP(K25,#REF!,7,FALSE))","v":{"$error":"#REF!"}},{"$error":"#REF!"},{"$error":"#REF!"}]
[{"$f":"IF(ISNA(VLOOKUP(B26,#REF!,3,FALSE))=TRUE,\"\",VLOOKUP(B26,#REF!,3,FALSE))","v":{"$error":"#REF!"}},15,15,{"$f":"IF(C26=\"\",\"\",VLOOKUP(C26,#REF!,7,FALSE))","v":{"$error":"#REF!"}},{"$error":"#REF!"},{"$f":"IF(E26=\"\",\"\",VLOOKUP(E26,#REF!,7,FALSE))","v":{"$error":"#REF!"}},{"$error":"#REF!"},{"$f":"IF(G26=\"\",\"\",VLOOKUP(G26,#REF!,7,FALSE))","v":{"$error":"#REF!"}},{"$error":"#REF!"},{"$f":"IF(I26=\"\",\"\",VLOOKUP(I26,#REF!,7,FALSE))","v":{"$error":"#REF!"}},{"$error":"#REF!"},{"$f":"IF(K26=\"\",\"\",VLOOKUP(K26,#REF!,7,FALSE))","v":{"$error":"#REF!"}},{"$error":"#REF!"},{"$error":"#REF!"}]
[{"$f":"IF(ISNA(VLOOKUP(B27,#REF!,3,FALSE))=TRUE,\"\",VLOOKUP(B27,#REF!,3,FALSE))","v":{"$error":"#REF!"}},19,19,{"$f":"IF(C27=\"\",\"\",VLOOKUP(C27,#REF!,7,FALSE))","v":{"$error":"#REF!"}},{"$error":"#REF!"},{"$f":"IF(E27=\"\",\"\",VLOOKUP(E27,#REF!,7,FALSE))","v":{"$error":"#REF!"}},{"$error":"#REF!"},{"$f":"IF(G27=\"\",\"\",VLOOKUP(G27,#REF!,7,FALSE))","v":{"$error":"#REF!"}},{"$error":"#REF!"},{"$f":"IF(I27=\"\",\"\",VLOOKUP(I27,#REF!,7,FALSE))","v":{"$error":"#REF!"}},{"$error":"#REF!"},{"$f":"IF(K27=\"\",\"\",VLOOKUP(K27,#REF!,7,FALSE))","v":{"$error":"#REF!"}},{"$error":"#REF!"},{"$error":"#REF!"}]
[{"$f":"IF(ISNA(VLOOKUP(B28,#REF!,3,FALSE))=TRUE,\"\",VLOOKUP(B28,#REF!,3,FALSE))","v":{"$error":"#REF!"}},18,18,{"$f":"IF(C28=\"\",\"\",VLOOKUP(C28,#REF!,7,FALSE))","v":{"$error":"#REF!"}},{"$error":"#REF!"},{"$f":"IF(E28=\"\",\"\",VLOOKUP(E28,#REF!,7,FALSE))","v":{"$error":"#REF!"}},{"$error":"#REF!"},{"$f":"IF(G28=\"\",\"\",VLOOKUP(G28,#REF!,7,FALSE))","v":{"$error":"#REF!"}},{"$error":"#REF!"},{"$f":"IF(I28=\"\",\"\",VLOOKUP(I28,#REF!,7,FALSE))","v":{"$error":"#REF!"}},{"$error":"#REF!"},{"$f":"IF(K28=\"\",\"\",VLOOKUP(K28,#REF!,7,FALSE))","v":{"$error":"#REF!"}},{"$error":"#REF!"},{"$error":"#REF!"}]
[{"$f":"IF(ISNA(VLOOKUP(B29,#REF!,3,FALSE))=TRUE,\"\",VLOOKUP(B29,#REF!,3,FALSE))","v":{"$error":"#REF!"}},7,7,{"$f":"IF(C29=\"\",\"\",VLOOKUP(C29,#REF!,7,FALSE))","v":{"$error":"#REF!"}},{"$error":"#REF!"},{"$f":"IF(E29=\"\",\"\",VLOOKUP(E29,#REF!,7,FALSE))","v":{"$error":"#REF!"}},{"$error":"#REF!"},{"$f":"IF(G29=\"\",\"\",VLOOKUP(G29,#REF!,7,FALSE))","v":{"$error":"#REF!"}},{"$error":"#REF!"},{"$f":"IF(I29=\"\",\"\",VLOOKUP(I29,#REF!,7,FALSE))","v":{"$error":"#REF!"}},{"$error":"#REF!"},{"$f":"IF(K29=\"\",\"\",VLOOKUP(K29,#REF!,7,FALSE))","v":{"$error":"#REF!"}},{"$error":"#REF!"},{"$error":"#REF!"}]
[{"$f":"IF(ISNA(VLOOKUP(B30,#REF!,3,FALSE))=TRUE,\"\",VLOOKUP(B30,#REF!,3,FALSE))","v":{"$error":"#REF!"}},3,3,{"$f":"IF(C30=\"\",\"\",VLOOKUP(C30,#REF!,7,FALSE))","v":{"$error":"#REF!"}},{"$error":"#REF!"},{"$f":"IF(E30=\"\",\"\",VLOOKUP(E30,#REF!,7,FALSE))","v":{"$error":"#REF!"}},{"$error":"#REF!"},{"$f":"IF(G30=\"\",\"\",VLOOKUP(G30,#REF!,7,FALSE))","v":{"$error":"#REF!"}},{"$error":"#REF!"},{"$f":"IF(I30=\"\",\"\",VLOOKUP(I30,#REF!,7,FALSE))","v":{"$error":"#REF!"}},{"$error":"#REF!"},{"$f":"IF(K30=\"\",\"\",VLOOKUP(K30,#REF!,7,FALSE))","v":{"$error":"#REF!"}},{"$error":"#REF!"},{"$error":"#REF!"}]
[{"$f":"IF(ISNA(VLOOKUP(B31,#REF!,3,FALSE))=TRUE,\"\",VLOOKUP(B31,#REF!,3,FALSE))","v":{"$error":"#REF!"}},5,5,{"$f":"IF(C31=\"\",\"\",VLOOKUP(C31,#REF!,7,FALSE))","v":{"$error":"#REF!"}},{"$error":"#REF!"},{"$f":"IF(E31=\"\",\"\",VLOOKUP(E31,#REF!,7,FALSE))","v":{"$error":"#REF!"}},{"$error":"#REF!"},{"$f":"IF(G31=\"\",\"\",VLOOKUP(G31,#REF!,7,FALSE))","v":{"$error":"#REF!"}},{"$error":"#REF!"},{"$f":"IF(I31=\"\",\"\",VLOOKUP(I31,#REF!,7,FALSE))","v":{"$error":"#REF!"}},{"$error":"#REF!"},{"$f":"IF(K31=\"\",\"\",VLOOKUP(K31,#REF!,7,FALSE))","v":{"$error":"#REF!"}},{"$error":"#REF!"},{"$error":"#REF!"}]
[{"$f":"IF(ISNA(VLOOKUP(B32,#REF!,2,FALSE))=TRUE,\"\",VLOOKUP(B32,#REF!,2,FALSE))","v":{"$error":"#REF!"}},8,8,{"$f":"IF(C32=\"\",\"\",VLOOKUP(C32,#REF!,7,FALSE))","v":{"$error":"#REF!"}},{"$error":"#REF!"},{"$f":"IF(E32=\"\",\"\",VLOOKUP(E32,#REF!,7,FALSE))","v":{"$error":"#REF!"}},{"$error":"#REF!"},{"$f":"IF(G32=\"\",\"\",VLOOKUP(G32,#REF!,7,FALSE))","v":{"$error":"#REF!"}},{"$error":"#REF!"},{"$f":"IF(I32=\"\",\"\",VLOOKUP(I32,#REF!,7,FALSE))","v":{"$error":"#REF!"}},{"$error":"#REF!"},{"$f":"IF(K32=\"\",\"\",VLOOKUP(K32,#REF!,7,FALSE))","v":{"$error":"#REF!"}},{"$error":"#REF!"},{"$error":"#REF!"}]
[{"$f":"IF(ISNA(VLOOKUP(B33,#REF!,2,FALSE))=TRUE,\"\",VLOOKUP(B33,#REF!,2,FALSE))","v":{"$error":"#REF!"}},13,13,{"$f":"IF(C33=\"\",\"\",VLOOKUP(C33,#REF!,7,FALSE))","v":{"$error":"#REF!"}},{"$error":"#REF!"},{"$f":"IF(E33=\"\",\"\",VLOOKUP(E33,#REF!,7,FALSE))","v":{"$error":"#REF!"}},{"$error":"#REF!"},{"$f":"IF(G33=\"\",\"\",VLOOKUP(G33,#REF!,7,FALSE))","v":{"$error":"#REF!"}},{"$error":"#REF!"},{"$f":"IF(I33=\"\",\"\",VLOOKUP(I33,#REF!,7,FALSE))","v":{"$error":"#REF!"}},{"$error":"#REF!"},{"$f":"IF(K33=\"\",\"\",VLOOKUP(K33,#REF!,7,FALSE))","v":{"$error":"#REF!"}},{"$error":"#REF!"},{"$error":"#REF!"}]
["Day 1 Zone Winner",null,"IAN LAMBERT",null,"IVOR SMITH",null,"WAYNE PERRING",null,"JOE ARCH",null,"KEN SHOVE"]
["Day 1 Zone Second",null,"ALAN PRICE",null,"SIMON DRAYTON",null,"ROB TUCK",null,"JOHN VAN CRUGTEN",null,"LEE CULLEN"]
["Day 1 Zone Third",null,"NEIL CUTLER",null,"MIKE KEMPSTER",null,"TONY THOMAS",null,"JIM GROSS",null,"TONY ANDERSON"]
["Day 1 Zone Third",null,null,null,null,null,null,null,null,null,"C. READ"]
["SAMF 2006 National Sea League Final  -  Day 2"]
["Team Name","Team No. ","Zone A",null,"Zone B",null,"Zone C",null,"Zone D",null,"Zone E",null,"Day 2 Points","Day 2 Position"]
[null,null,"Peg","Points & Position","Peg","Points & Position","Peg","Points & Position","Peg","Points & Position","Peg","Points & Position"]
[{"$f":"IF(ISNA(VLOOKUP(B41,#REF!,3,FALSE))=TRUE,\"\",VLOOKUP(B41,#REF!,3,FALSE))","v":{"$error":"#REF!"}},11,{"$f":"VLOOKUP(B41,#REF!,6,FALSE)","v":{"$error":"#REF!"}},{"$f":"IF(C41=\"\",\"\",VLOOKUP(C41,#REF!,7,FALSE))","v":{"$error":"#REF!"}},{"$f":"IF(C41=\"\",\"\",IF((C41+NpZ+ZP)>2*NpZ,(((C41+NpZ+ZP)-2*NpZ)+NpZ),(C41+NpZ+ZP)))","v":{"$error":"#REF!"}},{"$f":"IF(E41=\"\",\"\",VLOOKUP(E41,#REF!,7,FALSE))","v":{"$error":"#REF!"}},{"$f":"IF(E41=\"\",\"\",IF((E41+NpZ+ZP)>3*NpZ,(((E41+NpZ+ZP)-2*NpZ)+NpZ),(E41+NpZ+ZP)))","v":{"$error":"#REF!"}},{"$f":"IF(G41=\"\",\"\",VLOOKUP(G41,#REF!,7,FALSE))","v":{"$error":"#REF!"}},{"$f":"IF(G41=\"\",\"\",IF((G41+NpZ+ZP)>4*NpZ,(((G41+NpZ+ZP)-2*NpZ)+NpZ),(G41+NpZ+ZP)))","v":{"$error":"#REF!"}},{"$f":"IF(I41=\"\",\"\",VLOOKUP(I41,#REF!,7,FALSE))","v":{"$error":"#REF!"}},{"$f":"IF(I41=\"\",\"\",IF((I41+NpZ+ZP)>5*NpZ,(((I41+NpZ+ZP)-2*NpZ)+NpZ),(I41+NpZ+ZP)))","v":{"$error":"#REF!"}},{"$f":"IF(K41=\"\",\"\",VLOOKUP(K41,#REF!,7,FALSE))","v":{"$error":"#REF!"}},{"$f":"IF(B41=\"\",\"\",(D41+F41+H41+J41+L41))","v":{"$error":"#REF!"}},{"$f":"IF(M41=\"\",\"\",IF(M41=M40,N40,ROW()-40))","v":{"$error":"#REF!"}}]
[{"$f":"IF(ISNA(VLOOKUP(B42,#REF!,3,FALSE))=TRUE,\"\",VLOOKUP(B42,#REF!,3,FALSE))","v":{"$error":"#REF!"}},30,{"$f":"VLOOKUP(B42,#REF!,6,FALSE)","v":{"$error":"#REF!"}},{"$f":"IF(C42=\"\",\"\",VLOOKUP(C42,#REF!,7,FALSE))","v":{"$error":"#REF!"}},{"$f":"IF(C42=\"\",\"\",IF((C42+NpZ+ZP)>2*NpZ,(((C42+NpZ+ZP)-2*NpZ)+NpZ),(C42+NpZ+ZP)))","v":{"$error":"#REF!"}},{"$f":"IF(E42=\"\",\"\",VLOOKUP(E42,#REF!,7,FALSE))","v":{"$error":"#REF!"}},{"$f":"IF(E42=\"\",\"\",IF((E42+NpZ+ZP)>3*NpZ,(((E42+NpZ+ZP)-2*NpZ)+NpZ),(E42+NpZ+ZP)))","v":{"$error":"#REF!"}},{"$f":"IF(G42=\"\",\"\",VLOOKUP(G42,#REF!,7,FALSE))","v":{"$error":"#REF!"}},{"$f":"IF(G42=\"\",\"\",IF((G42+NpZ+ZP)>4*NpZ,(((G42+NpZ+ZP)-2*NpZ)+NpZ),(G42+NpZ+ZP)))","v":{"$error":"#REF!"}},{"$f":"IF(I42=\"\",\"\",VLOOKUP(I42,#REF!,7,FALSE))","v":{"$error":"#REF!"}},{"$f":"IF(I42=\"\",\"\",IF((I42+NpZ+ZP)>5*NpZ,(((I42+NpZ+ZP)-2*NpZ)+NpZ),(I42+NpZ+ZP)))","v":{"$error":"#REF!"}},{"$f":"IF(K42=\"\",\"\",VLOOKUP(K42,#REF!,7,FALSE))","v":{"$error":"#REF!"}},{"$error":"#REF!"},{"$f":"IF(M42=\"\",\"\",IF(M42=M41,N41,ROW()-40))","v":{"$error":"#REF!"}}]
[{"$f":"IF(ISNA(VLOOKUP(B43,#REF!,3,FALSE))=TRUE,\"\",VLOOKUP(B43,#REF!,3,FALSE))","v":{"$error":"#REF!"}},12,{"$f":"VLOOKUP(B43,#REF!,6,FALSE)","v":{"$error":"#REF!"}},{"$f":"IF(C43=\"\",\"\",VLOOKUP(C43,#REF!,7,FALSE))","v":{"$error":"#REF!"}},{"$error":"#REF!"},{"$f":"IF(E43=\"\",\"\",VLOOKUP(E43,#REF!,7,FALSE))","v":{"$error":"#REF!"}},{"$error":"#REF!"},{"$f":"IF(G43=\"\",\"\",VLOOKUP(G43,#REF!,7,FALSE))","v":{"$error":"#REF!"}},{"$error":"#REF!"},{"$f":"IF(I43=\"\",\"\",VLOOKUP(I43,#REF!,7,FALSE))","v":{"$error":"#REF!"}},{"$error":"#REF!"},{"$f":"IF(K43=\"\",\"\",VLOOKUP(K43,#REF!,7,FALSE))","v":{"$error":"#REF!"}},{"$error":"#REF!"},{"$error":"#REF!"}]
[{"$f":"IF(ISNA(VLOOKUP(B44,#REF!,3,FALSE))=TRUE,\"\",VLOOKUP(B44,#REF!,3,FALSE))","v":{"$error":"#REF!"}},9,{"$f":"VLOOKUP(B44,#REF!,6,FALSE)","v":{"$error":"#REF!"}},{"$f":"IF(C44=\"\",\"\",VLOOKUP(C44,#REF!,7,FALSE))","v":{"$error":"#REF!"}},{"$error":"#REF!"},{"$f":"IF(E44=\"\",\"\",VLOOKUP(E44,#REF!,7,FALSE))","v":{"$error":"#REF!"}},{"$error":"#REF!"},{"$f":"IF(G44=\"\",\"\",VLOOKUP(G44,#REF!,7,FALSE))","v":{"$error":"#REF!"}},{"$error":"#REF!"},{"$f":"IF(I44=\"\",\"\",VLOOKUP(I44,#REF!,7,FALSE))","v":{"$error":"#REF!"}},{"$error":"#REF!"},{"$f":"IF(K44=\"\",\"\",VLOOKUP(K44,#REF!,7,FALSE))","v":{"$error":"#REF!"}},{"$error":"#REF!"},{"$f":"IF(M44=\"\",\"\",IF(M44=M43,N43,ROW()-40))","v":{"$error":"#REF!"}}]
[{"$f":"IF(ISNA(VLOOKUP(B45,#REF!,3,FALSE))=TRUE,\"\",VLOOKUP(B45,#REF!,3,FALSE))","v":{"$error":"#REF!"}},20,{"$f":"VLOOKUP(B45,#REF!,6,FALSE)","v":{"$error":"#REF!"}},{"$f":"IF(C45=\"\",\"\",VLOOKUP(C45,#REF!,7,FALSE))","v":{"$error":"#REF!"}},{"$error":"#REF!"},{"$f":"IF(E45=\"\",\"\",VLOOKUP(E45,#REF!,7,FALSE))","v":{"$error":"#REF!"}},{"$error":"#REF!"},{"$f":"IF(G45=\"\",\"\",VLOOKUP(G45,#REF!,7,FALSE))","v":{"$error":"#REF!"}},{"$error":"#REF!"},{"$f":"IF(I45=\"\",\"\",VLOOKUP(I45,#REF!,7,FALSE))","v":{"$error":"#REF!"}},{"$error":"#REF!"},{"$f":"IF(K45=\"\",\"\",VLOOKUP(K45,#REF!,7,FALSE))","v":{"$error":"#REF!"}},{"$error":"#REF!"},{"$error":"#REF!"}]
[{"$f":"IF(ISNA(VLOOKUP(B46,#REF!,3,FALSE))=TRUE,\"\",VLOOKUP(B46,#REF!,3,FALSE))","v":{"$error":"#REF!"}},10,{"$f":"VLOOKUP(B46,#REF!,6,FALSE)","v":{"$error":"#REF!"}},{"$f":"IF(C46=\"\",\"\",VLOOKUP(C46,#REF!,7,FALSE))","v":{"$error":"#REF!"}},{"$error":"#REF!"},{"$f":"IF(E46=\"\",\"\",VLOOKUP(E46,#REF!,7,FALSE))","v":{"$error":"#REF!"}},{"$error":"#REF!"},{"$f":"IF(G46=\"\",\"\",VLOOKUP(G46,#REF!,7,FALSE))","v":{"$error":"#REF!"}},{"$error":"#REF!"},{"$f":"IF(I46=\"\",\"\",VLOOKUP(I46,#REF!,7,FALSE))","v":{"$error":"#REF!"}},{"$error":"#REF!"},{"$f":"IF(K46=\"\",\"\",VLOOKUP(K46,#REF!,7,FALSE))","v":{"$error":"#REF!"}},{"$error":"#REF!"},{"$error":"#REF!"}]
[{"$f":"IF(ISNA(VLOOKUP(B47,#REF!,3,FALSE))=TRUE,\"\",VLOOKUP(B47,#REF!,3,FALSE))","v":{"$error":"#REF!"}},2,{"$f":"VLOOKUP(B47,#REF!,6,FALSE)","v":{"$error":"#REF!"}},{"$f":"IF(C47=\"\",\"\",VLOOKUP(C47,#REF!,7,FALSE))","v":{"$error":"#REF!"}},{"$error":"#REF!"},{"$f":"IF(E47=\"\",\"\",VLOOKUP(E47,#REF!,7,FALSE))","v":{"$error":"#REF!"}},{"$error":"#REF!"},{"$f":"IF(G47=\"\",\"\",VLOOKUP(G47,#REF!,7,FALSE))","v":{"$error":"#REF!"}},{"$error":"#REF!"},{"$f":"IF(I47=\"\",\"\",VLOOKUP(I47,#REF!,7,FALSE))","v":{"$error":"#REF!"}},{"$error":"#REF!"},{"$f":"IF(K47=\"\",\"\",VLOOKUP(K47,#REF!,7,FALSE))","v":{"$error":"#REF!"}},{"$error":"#REF!"},{"$error":"#REF!"}]
[{"$f":"IF(ISNA(VLOOKUP(B48,#REF!,3,FALSE))=TRUE,\"\",VLOOKUP(B48,#REF!,3,FALSE))","v":{"$error":"#REF!"}},27,{"$f":"VLOOKUP(B48,#REF!,6,FALSE)","v":{"$error":"#REF!"}},{"$f":"IF(C48=\"\",\"\",VLOOKUP(C48,#REF!,7,FALSE))","v":{"$error":"#REF!"}},{"$error":"#REF!"},{"$f":"IF(E48=\"\",\"\",VLOOKUP(E48,#REF!,7,FALSE))","v":{"$error":"#REF!"}},{"$error":"#REF!"},{"$f":"IF(G48=\"\",\"\",VLOOKUP(G48,#REF!,7,FALSE))","v":{"$error":"#REF!"}},{"$error":"#REF!"},{"$f":"IF(I48=\"\",\"\",VLOOKUP(I48,#REF!,7,FALSE))","v":{"$error":"#REF!"}},{"$error":"#REF!"},{"$f":"IF(K48=\"\",\"\",VLOOKUP(K48,#REF!,7,FALSE))","v":{"$error":"#REF!"}},{"$error":"#REF!"},{"$error":"#REF!"}]
[{"$f":"IF(ISNA(VLOOKUP(B49,#REF!,3,FALSE))=TRUE,\"\",VLOOKUP(B49,#REF!,3,FALSE))","v":{"$error":"#REF!"}},22,{"$f":"VLOOKUP(B49,#REF!,6,FALSE)","v":{"$error":"#REF!"}},{"$f":"IF(C49=\"\",\"\",VLOOKUP(C49,#REF!,7,FALSE))","v":{"$error":"#REF!"}},{"$error":"#REF!"},{"$f":"IF(E49=\"\",\"\",VLOOKUP(E49,#REF!,7,FALSE))","v":{"$error":"#REF!"}},{"$error":"#REF!"},{"$f":"IF(G49=\"\",\"\",VLOOKUP(G49,#REF!,7,FALSE))","v":{"$error":"#REF!"}},{"$error":"#REF!"},{"$f":"IF(I49=\"\",\"\",VLOOKUP(I49,#REF!,7,FALSE))","v":{"$error":"#REF!"}},{"$error":"#REF!"},{"$f":"IF(K49=\"\",\"\",VLOOKUP(K49,#REF!,7,FALSE))","v":{"$error":"#REF!"}},{"$error":"#REF!"},{"$error":"#REF!"}]
[{"$f":"IF(ISNA(VLOOKUP(B50,#REF!,3,FALSE))=TRUE,\"\",VLOOKUP(B50,#REF!,3,FALSE))","v":{"$error":"#REF!"}},15,{"$f":"VLOOKUP(B50,#REF!,6,FALSE)","v":{"$error":"#REF!"}},{"$f":"IF(C50=\"\",\"\",VLOOKUP(C50,#REF!,7,FALSE))","v":{"$error":"#REF!"}},{"$error":"#REF!"},{"$f":"IF(E50=\"\",\"\",VLOOKUP(E50,#REF!,7,FALSE))","v":{"$error":"#REF!"}},{"$error":"#REF!"},{"$f":"IF(G50=\"\",\"\",VLOOKUP(G50,#REF!,7,FALSE))","v":{"$error":"#REF!"}},{"$error":"#REF!"},{"$f":"IF(I50=\"\",\"\",VLOOKUP(I50,#REF!,7,FALSE))","v":{"$error":"#REF!"}},{"$error":"#REF!"},{"$f":"IF(K50=\"\",\"\",VLOOKUP(K50,#REF!,7,FALSE))","v":{"$error":"#REF!"}},{"$error":"#REF!"},{"$error":"#REF!"}]
[{"$f":"IF(ISNA(VLOOKUP(B51,#REF!,3,FALSE))=TRUE,\"\",VLOOKUP(B51,#REF!,3,FALSE))","v":{"$error":"#REF!"}},24,{"$f":"VLOOKUP(B51,#REF!,6,FALSE)","v":{"$error":"#REF!"}},{"$f":"IF(C51=\"\",\"\",VLOOKUP(C51,#REF!,7,FALSE))","v":{"$error":"#REF!"}},{"$error":"#REF!"},{"$f":"IF(E51=\"\",\"\",VLOOKUP(E51,#REF!,7,FALSE))","v":{"$error":"#REF!"}},{"$error":"#REF!"},{"$f":"IF(G51=\"\",\"\",VLOOKUP(G51,#REF!,7,FALSE))","v":{"$error":"#REF!"}},{"$error":"#REF!"},{"$f":"IF(I51=\"\",\"\",VLOOKUP(I51,#REF!,7,FALSE))","v":{"$error":"#REF!"}},{"$error":"#REF!"},{"$f":"IF(K51=\"\",\"\",VLOOKUP(K51,#REF!,7,FALSE))","v":{"$error":"#REF!"}},{"$error":"#REF!"},{"$error":"#REF!"}]
[{"$f":"IF(ISNA(VLOOKUP(B52,#REF!,3,FALSE))=TRUE,\"\",VLOOKUP(B52,#REF!,3,FALSE))","v":{"$error":"#REF!"}},1,{"$f":"VLOOKUP(B52,#REF!,6,FALSE)","v":{"$error":"#REF!"}},{"$f":"IF(C52=\"\",\"\",VLOOKUP(C52,#REF!,7,FALSE))","v":{"$error":"#REF!"}},{"$error":"#REF!"},{"$f":"IF(E52=\"\",\"\",VLOOKUP(E52,#REF!,7,FALSE))","v":{"$error":"#REF!"}},{"$error":"#REF!"},{"$f":"IF(G52=\"\",\"\",VLOOKUP(G52,#REF!,7,FALSE))","v":{"$error":"#REF!"}},{"$error":"#REF!"},{"$f":"IF(I52=\"\",\"\",VLOOKUP(I52,#REF!,7,FALSE))","v":{"$error":"#REF!"}},{"$error":"#REF!"},{"$f":"IF(K52=\"\",\"\",VLOOKUP(K52,#REF!,7,FALSE))","v":{"$error":"#REF!"}},{"$error":"#REF!"},{"$error":"#REF!"}]
[{"$f":"IF(ISNA(VLOOKUP(B53,#REF!,3,FALSE))=TRUE,\"\",VLOOKUP(B53,#REF!,3,FALSE))","v":{"$error":"#REF!"}},29,{"$f":"VLOOKUP(B53,#REF!,6,FALSE)","v":{"$error":"#REF!"}},{"$f":"IF(C53=\"\",\"\",VLOOKUP(C53,#REF!,7,FALSE))","v":{"$error":"#REF!"}},{"$error":"#REF!"},{"$f":"IF(E53=\"\",\"\",VLOOKUP(E53,#REF!,7,FALSE))","v":{"$error":"#REF!"}},{"$error":"#REF!"},{"$f":"IF(G53=\"\",\"\",VLOOKUP(G53,#REF!,7,FALSE))","v":{"$error":"#REF!"}},{"$error":"#REF!"},{"$f":"IF(I53=\"\",\"\",VLOOKUP(I53,#REF!,7,FALSE))","v":{"$error":"#REF!"}},{"$error":"#REF!"},{"$f":"IF(K53=\"\",\"\",VLOOKUP(K53,#REF!,7,FALSE))","v":{"$error":"#REF!"}},{"$error":"#REF!"},{"$error":"#REF!"}]
[{"$f":"IF(ISNA(VLOOKUP(B54,#REF!,3,FALSE))=TRUE,\"\",VLOOKUP(B54,#REF!,3,FALSE))","v":{"$error":"#REF!"}},26,{"$f":"VLOOKUP(B54,#REF!,6,FALSE)","v":{"$error":"#REF!"}},{"$f":"IF(C54=\"\",\"\",VLOOKUP(C54,#REF!,7,FALSE))","v":{"$error":"#REF!"}},{"$error":"#REF!"},{"$f":"IF(E54=\"\",\"\",VLOOKUP(E54,#REF!,7,FALSE))","v":{"$error":"#REF!"}},{"$error":"#REF!"},{"$f":"IF(G54=\"\",\"\",VLOOKUP(G54,#REF!,7,FALSE))","v":{"$error":"#REF!"}},{"$error":"#REF!"},{"$f":"IF(I54=\"\",\"\",VLOOKUP(I54,#REF!,7,FALSE))","v":{"$error":"#REF!"}},{"$error":"#REF!"},{"$f":"IF(K54=\"\",\"\",VLOOKUP(K54,#REF!,7,FALSE))","v":{"$error":"#REF!"}},{"$error":"#REF!"},{"$error":"#REF!"}]
[{"$f":"IF(ISNA(VLOOKUP(B55,#REF!,3,FALSE))=TRUE,\"\",VLOOKUP(B55,#REF!,3,FALSE))","v":{"$error":"#REF!"}},14,{"$f":"VLOOKUP(B55,#REF!,6,FALSE)","v":{"$error":"#REF!"}},{"$f":"IF(C55=\"\",\"\",VLOOKUP(C55,#REF!,7,FALSE))","v":{"$error":"#REF!"}},{"$error":"#REF!"},{"$f":"IF(E55=\"\",\"\",VLOOKUP(E55,#REF!,7,FALSE))","v":{"$error":"#REF!"}},{"$error":"#REF!"},{"$f":"IF(G55=\"\",\"\",VLOOKUP(G55,#REF!,7,FALSE))","v":{"$error":"#REF!"}},{"$error":"#REF!"},{"$f":"IF(I55=\"\",\"\",VLOOKUP(I55,#REF!,7,FALSE))","v":{"$error":"#REF!"}},{"$error":"#REF!"},{"$f":"IF(K55=\"\",\"\",VLOOKUP(K55,#REF!,7,FALSE))","v":{"$error":"#REF!"}},{"$error":"#REF!"},{"$error":"#REF!"}]
[{"$f":"IF(ISNA(VLOOKUP(B56,#REF!,3,FALSE))=TRUE,\"\",VLOOKUP(B56,#REF!,3,FALSE))","v":{"$error":"#REF!"}},28,{"$f":"VLOOKUP(B56,#REF!,6,FALSE)","v":{"$error":"#REF!"}},{"$f":"IF(C56=\"\",\"\",VLOOKUP(C56,#REF!,7,FALSE))","v":{"$error":"#REF!"}},{"$error":"#REF!"},{"$f":"IF(E56=\"\",\"\",VLOOKUP(E56,#REF!,7,FALSE))","v":{"$error":"#REF!"}},{"$error":"#REF!"},{"$f":"IF(G56=\"\",\"\",VLOOKUP(G56,#REF!,7,FALSE))","v":{"$error":"#REF!"}},{"$error":"#REF!"},{"$f":"IF(I56=\"\",\"\",VLOOKUP(I56,#REF!,7,FALSE))","v":{"$error":"#REF!"}},{"$error":"#REF!"},{"$f":"IF(K56=\"\",\"\",VLOOKUP(K56,#REF!,7,FALSE))","v":{"$error":"#REF!"}},{"$error":"#REF!"},{"$error":"#REF!"}]
[{"$f":"IF(ISNA(VLOOKUP(B57,#REF!,3,FALSE))=TRUE,\"\",VLOOKUP(B57,#REF!,3,FALSE))","v":{"$error":"#REF!"}},4,{"$f":"VLOOKUP(B57,#REF!,6,FALSE)","v":{"$error":"#REF!"}},{"$f":"IF(C57=\"\",\"\",VLOOKUP(C57,#REF!,7,FALSE))","v":{"$error":"#REF!"}},{"$error":"#REF!"},{"$f":"IF(E57=\"\",\"\",VLOOKUP(E57,#REF!,7,FALSE))","v":{"$error":"#REF!"}},{"$error":"#REF!"},{"$f":"IF(G57=\"\",\"\",VLOOKUP(G57,#REF!,7,FALSE))","v":{"$error":"#REF!"}},{"$error":"#REF!"},{"$f":"IF(I57=\"\",\"\",VLOOKUP(I57,#REF!,7,FALSE))","v":{"$error":"#REF!"}},{"$error":"#REF!"},{"$f":"IF(K57=\"\",\"\",VLOOKUP(K57,#REF!,7,FALSE))","v":{"$error":"#REF!"}},{"$error":"#REF!"},{"$error":"#REF!"}]
[{"$f":"IF(ISNA(VLOOKUP(B58,#REF!,3,FALSE))=TRUE,\"\",VLOOKUP(B58,#REF!,3,FALSE))","v":{"$error":"#REF!"}},21,{"$f":"VLOOKUP(B58,#REF!,6,FALSE)","v":{"$error":"#REF!"}},{"$f":"IF(C58=\"\",\"\",VLOOKUP(C58,#REF!,7,FALSE))","v":{"$error":"#REF!"}},{"$error":"#REF!"},{"$f":"IF(E58=\"\",\"\",VLOOKUP(E58,#REF!,7,FALSE))","v":{"$error":"#REF!"}},{"$error":"#REF!"},{"$f":"IF(G58=\"\",\"\",VLOOKUP(G58,#REF!,7,FALSE))","v":{"$error":"#REF!"}},{"$error":"#REF!"},{"$f":"IF(I58=\"\",\"\",VLOOKUP(I58,#REF!,7,FALSE))","v":{"$error":"#REF!"}},{"$error":"#REF!"},{"$f":"IF(K58=\"\",\"\",VLOOKUP(K58,#REF!,7,FALSE))","v":{"$error":"#REF!"}},{"$error":"#REF!"},{"$error":"#REF!"}]
[{"$f":"IF(ISNA(VLOOKUP(B59,#REF!,3,FALSE))=TRUE,\"\",VLOOKUP(B59,#REF!,3,FALSE))","v":{"$error":"#REF!"}},17,{"$f":"VLOOKUP(B59,#REF!,6,FALSE)","v":{"$error":"#REF!"}},{"$f":"IF(C59=\"\",\"\",VLOOKUP(C59,#REF!,7,FALSE))","v":{"$error":"#REF!"}},{"$error":"#REF!"},{"$f":"IF(E59=\"\",\"\",VLOOKUP(E59,#REF!,7,FALSE))","v":{"$error":"#REF!"}},{"$error":"#REF!"},{"$f":"IF(G59=\"\",\"\",VLOOKUP(G59,#REF!,7,FALSE))","v":{"$error":"#REF!"}},{"$error":"#REF!"},{"$f":"IF(I59=\"\",\"\",VLOOKUP(I59,#REF!,7,FALSE))","v":{"$error":"#REF!"}},{"$error":"#REF!"},{"$f":"IF(K59=\"\",\"\",VLOOKUP(K59,#REF!,7,FALSE))","v":{"$error":"#REF!"}},{"$error":"#REF!"},{"$error":"#REF!"}]
[{"$f":"IF(ISNA(VLOOKUP(B60,#REF!,3,FALSE))=TRUE,\"\",VLOOKUP(B60,#REF!,3,FALSE))","v":{"$error":"#REF!"}},16,{"$f":"VLOOKUP(B60,#REF!,6,FALSE)","v":{"$error":"#REF!"}},{"$f":"IF(C60=\"\",\"\",VLOOKUP(C60,#REF!,7,FALSE))","v":{"$error":"#REF!"}},{"$error":"#REF!"},{"$f":"IF(E60=\"\",\"\",VLOOKUP(E60,#REF!,7,FALSE))","v":{"$error":"#REF!"}},{"$error":"#REF!"},{"$f":"IF(G60=\"\",\"\",VLOOKUP(G60,#REF!,7,FALSE))","v":{"$error":"#REF!"}},{"$error":"#REF!"},{"$f":"IF(I60=\"\",\"\",VLOOKUP(I60,#REF!,7,FALSE))","v":{"$error":"#REF!"}},{"$error":"#REF!"},{"$f":"IF(K60=\"\",\"\",VLOOKUP(K60,#REF!,7,FALSE))","v":{"$error":"#REF!"}},{"$error":"#REF!"},{"$error":"#REF!"}]
[{"$f":"IF(ISNA(VLOOKUP(B61,#REF!,3,FALSE))=TRUE,\"\",VLOOKUP(B61,#REF!,3,FALSE))","v":{"$error":"#REF!"}},25,{"$f":"VLOOKUP(B61,#REF!,6,FALSE)","v":{"$error":"#REF!"}},{"$f":"IF(C61=\"\",\"\",VLOOKUP(C61,#REF!,7,FALSE))","v":{"$error":"#REF!"}},{"$error":"#REF!"},{"$f":"IF(E61=\"\",\"\",VLOOKUP(E61,#REF!,7,FALSE))","v":{"$error":"#REF!"}},{"$error":"#REF!"},{"$f":"IF(G61=\"\",\"\",VLOOKUP(G61,#REF!,7,FALSE))","v":{"$error":"#REF!"}},{"$error":"#REF!"},{"$f":"IF(I61=\"\",\"\",VLOOKUP(I61,#REF!,7,FALSE))","v":{"$error":"#REF!"}},{"$error":"#REF!"},{"$f":"IF(K61=\"\",\"\",VLOOKUP(K61,#REF!,7,FALSE))","v":{"$error":"#REF!"}},{"$error":"#REF!"},{"$error":"#REF!"}]
[{"$f":"IF(ISNA(VLOOKUP(B62,#REF!,3,FALSE))=TRUE,\"\",VLOOKUP(B62,#REF!,3,FALSE))","v":{"$error":"#REF!"}},19,{"$f":"VLOOKUP(B62,#REF!,6,FALSE)","v":{"$error":"#REF!"}},{"$f":"IF(C62=\"\",\"\",VLOOKUP(C62,#REF!,7,FALSE))","v":{"$error":"#REF!"}},{"$error":"#REF!"},{"$f":"IF(E62=\"\",\"\",VLOOKUP(E62,#REF!,7,FALSE))","v":{"$error":"#REF!"}},{"$error":"#REF!"},{"$f":"IF(G62=\"\",\"\",VLOOKUP(G62,#REF!,7,FALSE))","v":{"$error":"#REF!"}},{"$error":"#REF!"},{"$f":"IF(I62=\"\",\"\",VLOOKUP(I62,#REF!,7,FALSE))","v":{"$error":"#REF!"}},{"$error":"#REF!"},{"$f":"IF(K62=\"\",\"\",VLOOKUP(K62,#REF!,7,FALSE))","v":{"$error":"#REF!"}},{"$f":"IF(B62=\"\",\"\",(D62+F62+H62+J62+L62))","v":{"$error":"#REF!"}},{"$error":"#REF!"}]
[{"$f":"IF(ISNA(VLOOKUP(B63,#REF!,3,FALSE))=TRUE,\"\",VLOOKUP(B63,#REF!,3,FALSE))","v":{"$error":"#REF!"}},3,{"$f":"VLOOKUP(B63,#REF!,6,FALSE)","v":{"$error":"#REF!"}},{"$f":"IF(C63=\"\",\"\",VLOOKUP(C63,#REF!,7,FALSE))","v":{"$error":"#REF!"}},{"$error":"#REF!"},{"$f":"IF(E63=\"\",\"\",VLOOKUP(E63,#REF!,7,FALSE))","v":{"$error":"#REF!"}},{"$error":"#REF!"},{"$f":"IF(G63=\"\",\"\",VLOOKUP(G63,#REF!,7,FALSE))","v":{"$error":"#REF!"}},{"$error":"#REF!"},{"$f":"IF(I63=\"\",\"\",VLOOKUP(I63,#REF!,7,FALSE))","v":{"$error":"#REF!"}},{"$error":"#REF!"},{"$f":"IF(K63=\"\",\"\",VLOOKUP(K63,#REF!,7,FALSE))","v":{"$error":"#REF!"}},{"$error":"#REF!"},{"$error":"#REF!"}]
[{"$f":"IF(ISNA(VLOOKUP(B64,#REF!,3,FALSE))=TRUE,\"\",VLOOKUP(B64,#REF!,3,FALSE))","v":{"$error":"#REF!"}},5,{"$f":"VLOOKUP(B64,#REF!,6,FALSE)","v":{"$error":"#REF!"}},{"$f":"IF(C64=\"\",\"\",VLOOKUP(C64,#REF!,7,FALSE))","v":{"$error":"#REF!"}},{"$error":"#REF!"},{"$f":"IF(E64=\"\",\"\",VLOOKUP(E64,#REF!,7,FALSE))","v":{"$error":"#REF!"}},{"$error":"#REF!"},{"$f":"IF(G64=\"\",\"\",VLOOKUP(G64,#REF!,7,FALSE))","v":{"$error":"#REF!"}},{"$error":"#REF!"},{"$f":"IF(I64=\"\",\"\",VLOOKUP(I64,#REF!,7,FALSE))","v":{"$error":"#REF!"}},{"$error":"#REF!"},{"$f":"IF(K64=\"\",\"\",VLOOKUP(K64,#REF!,7,FALSE))","v":{"$error":"#REF!"}},{"$error":"#REF!"},{"$error":"#REF!"}]
[{"$f":"IF(ISNA(VLOOKUP(B65,#REF!,3,FALSE))=TRUE,\"\",VLOOKUP(B65,#REF!,3,FALSE))","v":{"$error":"#REF!"}},6,{"$f":"VLOOKUP(B65,#REF!,6,FALSE)","v":{"$error":"#REF!"}},{"$f":"IF(C65=\"\",\"\",VLOOKUP(C65,#REF!,7,FALSE))","v":{"$error":"#REF!"}},{"$error":"#REF!"},{"$f":"IF(E65=\"\",\"\",VLOOKUP(E65,#REF!,7,FALSE))","v":{"$error":"#REF!"}},{"$error":"#REF!"},{"$f":"IF(G65=\"\",\"\",VLOOKUP(G65,#REF!,7,FALSE))","v":{"$error":"#REF!"}},{"$error":"#REF!"},{"$f":"IF(I65=\"\",\"\",VLOOKUP(I65,#REF!,7,FALSE))","v":{"$error":"#REF!"}},{"$error":"#REF!"},{"$f":"IF(K65=\"\",\"\",VLOOKUP(K65,#REF!,7,FALSE))","v":{"$error":"#REF!"}},{"$error":"#REF!"},{"$error":"#REF!"}]
[{"$f":"IF(ISNA(VLOOKUP(B66,#REF!,3,FALSE))=TRUE,\"\",VLOOKUP(B66,#REF!,3,FALSE))","v":{"$error":"#REF!"}},7,{"$f":"VLOOKUP(B66,#REF!,6,FALSE)","v":{"$error":"#REF!"}},{"$f":"IF(C66=\"\",\"\",VLOOKUP(C66,#REF!,7,FALSE))","v":{"$error":"#REF!"}},{"$error":"#REF!"},{"$f":"IF(E66=\"\",\"\",VLOOKUP(E66,#REF!,7,FALSE))","v":{"$error":"#REF!"}},{"$error":"#REF!"},{"$f":"IF(G66=\"\",\"\",VLOOKUP(G66,#REF!,7,FALSE))","v":{"$error":"#REF!"}},{"$error":"#REF!"},{"$f":"IF(I66=\"\",\"\",VLOOKUP(I66,#REF!,7,FALSE))","v":{"$error":"#REF!"}},{"$error":"#REF!"},{"$f":"IF(K66=\"\",\"\",VLOOKUP(K66,#REF!,7,FALSE))","v":{"$error":"#REF!"}},{"$error":"#REF!"},{"$error":"#REF!"}]
[{"$f":"IF(ISNA(VLOOKUP(B67,#REF!,3,FALSE))=TRUE,\"\",VLOOKUP(B67,#REF!,3,FALSE))","v":{"$error":"#REF!"}},8,{"$f":"VLOOKUP(B67,#REF!,6,FALSE)","v":{"$error":"#REF!"}},{"$f":"IF(C67=\"\",\"\",VLOOKUP(C67,#REF!,7,FALSE))","v":{"$error":"#REF!"}},{"$error":"#REF!"},{"$f":"IF(E67=\"\",\"\",VLOOKUP(E67,#REF!,7,FALSE))","v":{"$error":"#REF!"}},{"$error":"#REF!"},{"$f":"IF(G67=\"\",\"\",VLOOKUP(G67,#REF!,7,FALSE))","v":{"$error":"#REF!"}},{"$error":"#REF!"},{"$f":"IF(I67=\"\",\"\",VLOOKUP(I67,#REF!,7,FALSE))","v":{"$error":"#REF!"}},{"$error":"#REF!"},{"$f":"IF(K67=\"\",\"\",VLOOKUP(K67,#REF!,7,FALSE))","v":{"$error":"#REF!"}},{"$error":"#REF!"},{"$error":"#REF!"}]
[{"$f":"IF(ISNA(VLOOKUP(B68,#REF!,3,FALSE))=TRUE,\"\",VLOOKUP(B68,#REF!,3,FALSE))","v":{"$error":"#REF!"}},13,{"$f":"VLOOKUP(B68,#REF!,6,FALSE)","v":{"$error":"#REF!"}},{"$f":"IF(C68=\"\",\"\",VLOOKUP(C68,#REF!,7,FALSE))","v":{"$error":"#REF!"}},{"$error":"#REF!"},{"$f":"IF(E68=\"\",\"\",VLOOKUP(E68,#REF!,7,FALSE))","v":{"$error":"#REF!"}},{"$error":"#REF!"},{"$f":"IF(G68=\"\",\"\",VLOOKUP(G68,#REF!,7,FALSE))","v":{"$error":"#REF!"}},{"$error":"#REF!"},{"$f":"IF(I68=\"\",\"\",VLOOKUP(I68,#REF!,7,FALSE))","v":{"$error":"#REF!"}},{"$error":"#REF!"},{"$f":"IF(K68=\"\",\"\",VLOOKUP(K68,#REF!,7,FALSE))","v":{"$error":"#REF!"}},{"$error":"#REF!"},{"$error":"#REF!"}]
[{"$f":"IF(ISNA(VLOOKUP(B69,#REF!,3,FALSE))=TRUE,\"\",VLOOKUP(B69,#REF!,3,FALSE))","v":{"$error":"#REF!"}},18,{"$f":"VLOOKUP(B69,#REF!,6,FALSE)","v":{"$error":"#REF!"}},{"$f":"IF(C69=\"\",\"\",VLOOKUP(C69,#REF!,7,FALSE))","v":{"$error":"#REF!"}},{"$error":"#REF!"},{"$f":"IF(E69=\"\",\"\",VLOOKUP(E69,#REF!,7,FALSE))","v":{"$error":"#REF!"}},{"$error":"#REF!"},{"$f":"IF(G69=\"\",\"\",VLOOKUP(G69,#REF!,7,FALSE))","v":{"$error":"#REF!"}},{"$error":"#REF!"},{"$f":"IF(I69=\"\",\"\",VLOOKUP(I69,#REF!,7,FALSE))","v":{"$error":"#REF!"}},{"$error":"#REF!"},{"$f":"IF(K69=\"\",\"\",VLOOKUP(K69,#REF!,7,FALSE))","v":{"$error":"#REF!"}},{"$error":"#REF!"},{"$error":"#REF!"}]
[{"$f":"IF(ISNA(VLOOKUP(B70,#REF!,3,FALSE))=TRUE,\"\",VLOOKUP(B70,#REF!,3,FALSE))","v":{"$error":"#REF!"}},23,{"$f":"VLOOKUP(B70,#REF!,6,FALSE)","v":{"$error":"#REF!"}},{"$f":"IF(C70=\"\",\"\",VLOOKUP(C70,#REF!,7,FALSE))","v":{"$error":"#REF!"}},{"$error":"#REF!"},{"$f":"IF(E70=\"\",\"\",VLOOKUP(E70,#REF!,7,FALSE))","v":{"$error":"#REF!"}},{"$error":"#REF!"},{"$f":"IF(G70=\"\",\"\",VLOOKUP(G70,#REF!,7,FALSE))","v":{"$error":"#REF!"}},{"$error":"#REF!"},{"$f":"IF(I70=\"\",\"\",VLOOKUP(I70,#REF!,7,FALSE))","v":{"$error":"#REF!"}},{"$error":"#REF!"},{"$f":"IF(K70=\"\",\"\",VLOOKUP(K70,#REF!,7,FALSE))","v":{"$error":"#REF!"}},{"$error":"#REF!"},{"$error":"#REF!"}]
["Day 2 Zone Winner",null,"A. PRICE",null,"DAVE READ",null,"FRANCIS JONES",null,"SIMON DRAYTON",null,"CRAIG BUY"]
["Day 2 Zone Winner",null,null,null,"A. HUTCHINGS"]
["Day 2 Zone Second",null,"IAN DAVIS",null,null,null,"BRADLEY BONE",null,"JOE ARCH",null,"ALLAN SMITH"]
["Day 2 Zone Third",null,"MARK SHARMAN",null,"RICHARD POTTS",null,"IAN BELLFIELD",null,"MARK VERINDER",null,"JAMES BROWN"]
["Day 2 Zone Third",null,"GERRY BELL"]
["SAMF 2006 National Sea League Final  -  Final Positions"]
["Team Name","Team No. ","Day 1 Points","Day 2 Points","Total Points","Overall Position"]
[]
[{"$f":"IF(ISNA(VLOOKUP(B79,#REF!,3,FALSE))=TRUE,\"\",VLOOKUP(B79,#REF!,3,FALSE))","v":{"$error":"#REF!"}},12,{"$f":"VLOOKUP(B79,$B$4:$M$32,12,FALSE)","v":{"$error":"#REF!"}},{"$f":"VLOOKUP(B79,$B$41:$M$70,12,FALSE)","v":{"$error":"#REF!"}},{"$f":"IF(B79=\"\",\"\",(C79+D79))","v":{"$error":"#REF!"}},{"$f":"IF(E79=\"\",\"\",IF(E79=E78,F78,ROW()-78))","v":{"$error":"#REF!"}}]
[{"$f":"IF(ISNA(VLOOKUP(B80,#REF!,3,FALSE))=TRUE,\"\",VLOOKUP(B80,#REF!,3,FALSE))","v":{"$error":"#REF!"}},11,{"$error":"#REF!"},{"$error":"#REF!"},{"$error":"#REF!"},{"$f":"IF(E80=\"\",\"\",IF(E80=E79,F79,ROW()-78))","v":{"$error":"#REF!"}}]
[{"$f":"IF(ISNA(VLOOKUP(B81,#REF!,3,FALSE))=TRUE,\"\",VLOOKUP(B81,#REF!,3,FALSE))","v":{"$error":"#REF!"}},9,{"$error":"#REF!"},{"$error":"#REF!"},{"$error":"#REF!"},{"$error":"#REF!"}]
[{"$f":"IF(ISNA(VLOOKUP(B82,#REF!,3,FALSE))=TRUE,\"\",VLOOKUP(B82,#REF!,3,FALSE))","v":{"$error":"#REF!"}},30,{"$error":"#REF!"},{"$error":"#REF!"},{"$error":"#REF!"},{"$error":"#REF!"}]
[{"$f":"IF(ISNA(VLOOKUP(B83,#REF!,3,FALSE))=TRUE,\"\",VLOOKUP(B83,#REF!,3,FALSE))","v":{"$error":"#REF!"}},10,{"$error":"#REF!"},{"$error":"#REF!"},{"$error":"#REF!"},{"$error":"#REF!"}]
[{"$f":"IF(ISNA(VLOOKUP(B84,#REF!,3,FALSE))=TRUE,\"\",VLOOKUP(B84,#REF!,3,FALSE))","v":{"$error":"#REF!"}},20,{"$error":"#REF!"},{"$error":"#REF!"},{"$error":"#REF!"},{"$error":"#REF!"}]
[{"$f":"IF(ISNA(VLOOKUP(B85,#REF!,3,FALSE))=TRUE,\"\",VLOOKUP(B85,#REF!,3,FALSE))","v":{"$error":"#REF!"}},27,{"$error":"#REF!"},{"$error":"#REF!"},{"$error":"#REF!"},{"$error":"#REF!"}]
[{"$f":"IF(ISNA(VLOOKUP(B86,#REF!,3,FALSE))=TRUE,\"\",VLOOKUP(B86,#REF!,3,FALSE))","v":{"$error":"#REF!"}},22,{"$error":"#REF!"},{"$error":"#REF!"},{"$error":"#REF!"},{"$error":"#REF!"}]
[{"$f":"IF(ISNA(VLOOKUP(B87,#REF!,3,FALSE))=TRUE,\"\",VLOOKUP(B87,#REF!,3,FALSE))","v":{"$error":"#REF!"}},26,{"$error":"#REF!"},{"$error":"#REF!"},{"$error":"#REF!"},{"$error":"#REF!"}]
[{"$f":"IF(ISNA(VLOOKUP(B88,#REF!,3,FALSE))=TRUE,\"\",VLOOKUP(B88,#REF!,3,FALSE))","v":{"$error":"#REF!"}},2,{"$error":"#REF!"},{"$error":"#REF!"},{"$error":"#REF!"},{"$error":"#REF!"}]
[{"$f":"IF(ISNA(VLOOKUP(B89,#REF!,3,FALSE))=TRUE,\"\",VLOOKUP(B89,#REF!,3,FALSE))","v":{"$error":"#REF!"}},4,{"$error":"#REF!"},{"$error":"#REF!"},{"$error":"#REF!"},{"$error":"#REF!"}]
[{"$f":"IF(ISNA(VLOOKUP(B90,#REF!,3,FALSE))=TRUE,\"\",VLOOKUP(B90,#REF!,3,FALSE))","v":{"$error":"#REF!"}},21,{"$error":"#REF!"},{"$error":"#REF!"},{"$error":"#REF!"},{"$error":"#REF!"}]
[{"$f":"IF(ISNA(VLOOKUP(B91,#REF!,3,FALSE))=TRUE,\"\",VLOOKUP(B91,#REF!,3,FALSE))","v":{"$error":"#REF!"}},1,{"$f":"VLOOKUP(B91,$B$4:$M$32,12,FALSE)","v":{"$error":"#REF!"}},{"$f":"VLOOKUP(B91,$B$41:$M$70,12,FALSE)","v":{"$error":"#REF!"}},{"$f":"IF(B91=\"\",\"\",(C91+D91))","v":{"$error":"#REF!"}},{"$error":"#REF!"}]
[{"$f":"IF(ISNA(VLOOKUP(B92,#REF!,3,FALSE))=TRUE,\"\",VLOOKUP(B92,#REF!,3,FALSE))","v":{"$error":"#REF!"}},28,{"$error":"#REF!"},{"$error":"#REF!"},{"$error":"#REF!"},{"$error":"#REF!"}]
[{"$f":"IF(ISNA(VLOOKUP(B93,#REF!,3,FALSE))=TRUE,\"\",VLOOKUP(B93,#REF!,3,FALSE))","v":{"$error":"#REF!"}},29,{"$error":"#REF!"},{"$f":"VLOOKUP(B93,$B$41:$M$70,12,FALSE)","v":{"$error":"#REF!"}},{"$f":"IF(B93=\"\",\"\",(C93+D93))","v":{"$error":"#REF!"}},{"$error":"#REF!"}]
[{"$f":"IF(ISNA(VLOOKUP(B94,#REF!,3,FALSE))=TRUE,\"\",VLOOKUP(B94,#REF!,3,FALSE))","v":{"$error":"#REF!"}},25,{"$error":"#REF!"},{"$error":"#REF!"},{"$error":"#REF!"},{"$error":"#REF!"}]
[{"$f":"IF(ISNA(VLOOKUP(B95,#REF!,3,FALSE))=TRUE,\"\",VLOOKUP(B95,#REF!,3,FALSE))","v":{"$error":"#REF!"}},17,{"$error":"#REF!"},{"$error":"#REF!"},{"$error":"#REF!"},{"$error":"#REF!"}]
[{"$f":"IF(ISNA(VLOOKUP(B96,#REF!,3,FALSE))=TRUE,\"\",VLOOKUP(B96,#REF!,3,FALSE))","v":{"$error":"#REF!"}},24,{"$error":"#REF!"},{"$error":"#REF!"},{"$error":"#REF!"},{"$error":"#REF!"}]
[{"$f":"IF(ISNA(VLOOKUP(B97,#REF!,3,FALSE))=TRUE,\"\",VLOOKUP(B97,#REF!,3,FALSE))","v":{"$error":"#REF!"}},15,{"$error":"#REF!"},{"$error":"#REF!"},{"$error":"#REF!"},{"$error":"#REF!"}]
[{"$f":"IF(ISNA(VLOOKUP(B98,#REF!,3,FALSE))=TRUE,\"\",VLOOKUP(B98,#REF!,3,FALSE))","v":{"$error":"#REF!"}},14,{"$error":"#REF!"},{"$error":"#REF!"},{"$error":"#REF!"},{"$error":"#REF!"}]
[{"$f":"IF(ISNA(VLOOKUP(B99,#REF!,3,FALSE))=TRUE,\"\",VLOOKUP(B99,#REF!,3,FALSE))","v":{"$error":"#REF!"}},16,{"$error":"#REF!"},{"$error":"#REF!"},{"$error":"#REF!"},{"$error":"#REF!"}]
[{"$f":"IF(ISNA(VLOOKUP(B100,#REF!,3,FALSE))=TRUE,\"\",VLOOKUP(B100,#REF!,3,FALSE))","v":{"$error":"#REF!"}},6,{"$error":"#REF!"},{"$error":"#REF!"},{"$error":"#REF!"},{"$error":"#REF!"}]
[{"$f":"IF(ISNA(VLOOKUP(B101,#REF!,3,FALSE))=TRUE,\"\",VLOOKUP(B101,#REF!,3,FALSE))","v":{"$error":"#REF!"}},19,{"$error":"#REF!"},{"$error":"#REF!"},{"$error":"#REF!"},{"$error":"#REF!"}]
[{"$f":"IF(ISNA(VLOOKUP(B102,#REF!,3,FALSE))=TRUE,\"\",VLOOKUP(B102,#REF!,3,FALSE))","v":{"$error":"#REF!"}},23,{"$error":"#REF!"},{"$error":"#REF!"},{"$error":"#REF!"},{"$error":"#REF!"}]
[{"$f":"IF(ISNA(VLOOKUP(B103,#REF!,3,FALSE))=TRUE,\"\",VLOOKUP(B103,#REF!,3,FALSE))","v":{"$error":"#REF!"}},18,{"$error":"#REF!"},{"$error":"#REF!"},{"$error":"#REF!"},{"$error":"#REF!"}]
[{"$f":"IF(ISNA(VLOOKUP(B104,#REF!,3,FALSE))=TRUE,\"\",VLOOKUP(B104,#REF!,3,FALSE))","v":{"$error":"#REF!"}},7,{"$error":"#REF!"},{"$error":"#REF!"},{"$error":"#REF!"},{"$error":"#REF!"}]
[{"$f":"IF(ISNA(VLOOKUP(B105,#REF!,3,FALSE))=TRUE,\"\",VLOOKUP(B105,#REF!,3,FALSE))","v":{"$error":"#REF!"}},3,{"$error":"#REF!"},{"$error":"#REF!"},{"$error":"#REF!"},{"$error":"#REF!"}]
[{"$f":"IF(ISNA(VLOOKUP(B106,#REF!,3,FALSE))=TRUE,\"\",VLOOKUP(B106,#REF!,3,FALSE))","v":{"$error":"#REF!"}},5,{"$error":"#REF!"},{"$error":"#REF!"},{"$error":"#REF!"},{"$error":"#REF!"}]
[{"$f":"IF(ISNA(VLOOKUP(B107,#REF!,3,FALSE))=TRUE,\"\",VLOOKUP(B107,#REF!,3,FALSE))","v":{"$error":"#REF!"}},8,{"$error":"#REF!"},{"$f":"VLOOKUP(B107,$B$41:$M$70,12,FALSE)","v":{"$error":"#REF!"}},{"$f":"IF(B107=\"\",\"\",(C107+D107))","v":{"$error":"#REF!"}},{"$error":"#REF!"}]
[{"$f":"IF(ISNA(VLOOKUP(B108,#REF!,3,FALSE))=TRUE,\"\",VLOOKUP(B108,#REF!,3,FALSE))","v":{"$error":"#REF!"}},13,{"$f":"VLOOKUP(B108,$B$4:$M$33,12,FALSE)","v":{"$error":"#REF!"}},{"$f":"VLOOKUP(B108,$B$41:$M$70,12,FALSE)","v":{"$error":"#REF!"}},{"$f":"IF(B108=\"\",\"\",(C108+D108))","v":{"$error":"#REF!"}},{"$error":"#REF!"}]
[{"$f":"IF(ISNA(VLOOKUP(B109,#REF!,2,FALSE))=TRUE,\"\",VLOOKUP(B109,#REF!,2,FALSE))","v":{"$error":"#REF!"}}]

{"sheet":"Final team results","index":1,"n_rows":31,"n_cols":6,"rows_kept":31,"cut":false,"hidden":true,"merged":[[1,5,2,5],[1,4,2,4],[1,0,2,0],[1,1,2,1],[1,2,2,2],[1,3,2,3]]}
["SAMF 2006 National Sea League Final  -  Final Positions"]
["Team Name","Team No. ","Day 1 Points","Day 2 Points","Total Points","Overall Position"]
[]
[{"$f":"'Auto Team results'!A79","v":{"$error":"#REF!"}},{"$f":"'Auto Team results'!B79","v":12},{"$f":"'Auto Team results'!C79","v":{"$error":"#REF!"}},{"$f":"'Auto Team results'!D79","v":{"$error":"#REF!"}},{"$f":"IF(B4=\"\",\"\",(C4+D4))","v":{"$error":"#REF!"}},{"$f":"IF(E4=\"\",\"\",IF(E4=E3,F3,ROW()-3))","v":{"$error":"#REF!"}}]
[{"$f":"'Auto Team results'!A80","v":{"$error":"#REF!"}},{"$f":"'Auto Team results'!B80","v":11},{"$f":"'Auto Team results'!C80","v":{"$error":"#REF!"}},{"$f":"'Auto Team results'!D80","v":{"$error":"#REF!"}},{"$f":"IF(B5=\"\",\"\",(C5+D5))","v":{"$error":"#REF!"}},{"$f":"IF(E5=\"\",\"\",IF(E5=E4,F4,ROW()-3))","v":{"$error":"#REF!"}}]
[{"$f":"'Auto Team results'!A81","v":{"$error":"#REF!"}},{"$f":"'Auto Team results'!B81","v":9},{"$f":"'Auto Team results'!C81","v":{"$error":"#REF!"}},{"$f":"'Auto Team results'!D81","v":{"$error":"#REF!"}},{"$error":"#REF!"},{"$error":"#REF!"}]
[{"$f":"'Auto Team results'!A82","v":{"$error":"#REF!"}},{"$f":"'Auto Team results'!B82","v":30},{"$f":"'Auto Team results'!C82","v":{"$error":"#REF!"}},{"$f":"'Auto Team results'!D82","v":{"$error":"#REF!"}},{"$error":"#REF!"},{"$error":"#REF!"}]
[{"$f":"'Auto Team results'!A83","v":{"$error":"#REF!"}},{"$f":"'Auto Team results'!B83","v":10},{"$f":"'Auto Team results'!C83","v":{"$error":"#REF!"}},{"$f":"'Auto Team results'!D83","v":{"$error":"#REF!"}},{"$error":"#REF!"},{"$error":"#REF!"}]
[{"$f":"'Auto Team results'!A84","v":{"$error":"#REF!"}},{"$f":"'Auto Team results'!B84","v":20},{"$f":"'Auto Team results'!C84","v":{"$error":"#REF!"}},{"$f":"'Auto Team results'!D84","v":{"$error":"#REF!"}},{"$error":"#REF!"},{"$error":"#REF!"}]
[{"$f":"'Auto Team results'!A85","v":{"$error":"#REF!"}},{"$f":"'Auto Team results'!B85","v":27},{"$f":"'Auto Team results'!C85","v":{"$error":"#REF!"}},{"$f":"'Auto Team results'!D85","v":{"$error":"#REF!"}},{"$error":"#REF!"},{"$error":"#REF!"}]
[{"$f":"'Auto Team results'!A86","v":{"$error":"#REF!"}},{"$f":"'Auto Team results'!B86","v":22},{"$f":"'Auto Team results'!C86","v":{"$error":"#REF!"}},{"$f":"'Auto Team results'!D86","v":{"$error":"#REF!"}},{"$error":"#REF!"},{"$error":"#REF!"}]
[{"$f":"'Auto Team results'!A87","v":{"$error":"#REF!"}},{"$f":"'Auto Team results'!B87","v":26},{"$f":"'Auto Team results'!C87","v":{"$error":"#REF!"}},{"$f":"'Auto Team results'!D87","v":{"$error":"#REF!"}},{"$error":"#REF!"},{"$error":"#REF!"}]
[{"$f":"'Auto Team results'!A88","v":{"$error":"#REF!"}},{"$f":"'Auto Team results'!B88","v":2},{"$f":"'Auto Team results'!C88","v":{"$error":"#REF!"}},{"$f":"'Auto Team results'!D88","v":{"$error":"#REF!"}},{"$error":"#REF!"},{"$error":"#REF!"}]
[{"$f":"'Auto Team results'!A89","v":{"$error":"#REF!"}},{"$f":"'Auto Team results'!B89","v":4},{"$f":"'Auto Team results'!C89","v":{"$error":"#REF!"}},{"$f":"'Auto Team results'!D89","v":{"$error":"#REF!"}},{"$error":"#REF!"},{"$error":"#REF!"}]
[{"$f":"'Auto Team results'!A90","v":{"$error":"#REF!"}},{"$f":"'Auto Team results'!B90","v":21},{"$f":"'Auto Team results'!C90","v":{"$error":"#REF!"}},{"$f":"'Auto Team results'!D90","v":{"$error":"#REF!"}},{"$error":"#REF!"},{"$error":"#REF!"}]
[{"$f":"'Auto Team results'!A91","v":{"$error":"#REF!"}},{"$f":"'Auto Team results'!B91","v":1},{"$f":"'Auto Team results'!C91","v":{"$error":"#REF!"}},{"$f":"'Auto Team results'!D91","v":{"$error":"#REF!"}},{"$error":"#REF!"},{"$error":"#REF!"}]
[{"$f":"'Auto Team results'!A92","v":{"$error":"#REF!"}},{"$f":"'Auto Team results'!B92","v":28},{"$f":"'Auto Team results'!C92","v":{"$error":"#REF!"}},{"$f":"'Auto Team results'!D92","v":{"$error":"#REF!"}},{"$error":"#REF!"},{"$error":"#REF!"}]
[{"$f":"'Auto Team results'!A93","v":{"$error":"#REF!"}},{"$f":"'Auto Team results'!B93","v":29},{"$f":"'Auto Team results'!C93","v":{"$error":"#REF!"}},{"$f":"'Auto Team results'!D93","v":{"$error":"#REF!"}},{"$error":"#REF!"},{"$error":"#REF!"}]
[{"$f":"'Auto Team results'!A94","v":{"$error":"#REF!"}},{"$f":"'Auto Team results'!B94","v":25},{"$f":"'Auto Team results'!C94","v":{"$error":"#REF!"}},{"$f":"'Auto Team results'!D94","v":{"$error":"#REF!"}},{"$error":"#REF!"},{"$error":"#REF!"}]
[{"$f":"'Auto Team results'!A95","v":{"$error":"#REF!"}},{"$f":"'Auto Team results'!B95","v":17},{"$f":"'Auto Team results'!C95","v":{"$error":"#REF!"}},{"$f":"'Auto Team results'!D95","v":{"$error":"#REF!"}},{"$error":"#REF!"},{"$error":"#REF!"}]
[{"$f":"'Auto Team results'!A96","v":{"$error":"#REF!"}},{"$f":"'Auto Team results'!B96","v":24},{"$f":"'Auto Team results'!C96","v":{"$error":"#REF!"}},{"$f":"'Auto Team results'!D96","v":{"$error":"#REF!"}},{"$error":"#REF!"},{"$error":"#REF!"}]
[{"$f":"'Auto Team results'!A97","v":{"$error":"#REF!"}},{"$f":"'Auto Team results'!B97","v":15},{"$f":"'Auto Team results'!C97","v":{"$error":"#REF!"}},{"$f":"'Auto Team results'!D97","v":{"$error":"#REF!"}},{"$error":"#REF!"},{"$error":"#REF!"}]
[{"$f":"'Auto Team results'!A98","v":{"$error":"#REF!"}},{"$f":"'Auto Team results'!B98","v":14},{"$f":"'Auto Team results'!C98","v":{"$error":"#REF!"}},{"$f":"'Auto Team results'!D98","v":{"$error":"#REF!"}},{"$error":"#REF!"},{"$error":"#REF!"}]
[{"$f":"'Auto Team results'!A99","v":{"$error":"#REF!"}},{"$f":"'Auto Team results'!B99","v":16},{"$f":"'Auto Team results'!C99","v":{"$error":"#REF!"}},{"$f":"'Auto Team results'!D99","v":{"$error":"#REF!"}},{"$error":"#REF!"},{"$error":"#REF!"}]
[{"$f":"'Auto Team results'!A100","v":{"$error":"#REF!"}},{"$f":"'Auto Team results'!B100","v":6},{"$f":"'Auto Team results'!C100","v":{"$error":"#REF!"}},{"$f":"'Auto Team results'!D100","v":{"$error":"#REF!"}},{"$error":"#REF!"},{"$error":"#REF!"}]
[{"$f":"'Auto Team results'!A101","v":{"$error":"#REF!"}},{"$f":"'Auto Team results'!B101","v":19},{"$f":"'Auto Team results'!C101","v":{"$error":"#REF!"}},{"$f":"'Auto Team results'!D101","v":{"$error":"#REF!"}},{"$error":"#REF!"},{"$error":"#REF!"}]
[{"$f":"'Auto Team results'!A102","v":{"$error":"#REF!"}},{"$f":"'Auto Team results'!B102","v":23},{"$f":"'Auto Team results'!C102","v":{"$error":"#REF!"}},{"$f":"'Auto Team results'!D102","v":{"$error":"#REF!"}},{"$error":"#REF!"},{"$error":"#REF!"}]
[{"$f":"'Auto Team results'!A103","v":{"$error":"#REF!"}},{"$f":"'Auto Team results'!B103","v":18},{"$f":"'Auto Team results'!C103","v":{"$error":"#REF!"}},{"$f":"'Auto Team results'!D103","v":{"$error":"#REF!"}},{"$error":"#REF!"},{"$error":"#REF!"}]
[{"$f":"'Auto Team results'!A104","v":{"$error":"#REF!"}},{"$f":"'Auto Team results'!B104","v":7},{"$f":"'Auto Team results'!C104","v":{"$error":"#REF!"}},{"$f":"'Auto Team results'!D104","v":{"$error":"#REF!"}},{"$f":"IF(B29=\"\",\"\",(C29+D29))","v":{"$error":"#REF!"}},{"$f":"IF(E29=\"\",\"\",IF(E29=E28,F28,ROW()-3))","v":{"$error":"#REF!"}}]
[{"$f":"'Auto Team results'!A105","v":{"$error":"#REF!"}},{"$f":"'Auto Team results'!B105","v":3},{"$f":"'Auto Team results'!C105","v":{"$error":"#REF!"}},{"$f":"'Auto Team results'!D105","v":{"$error":"#REF!"}},{"$f":"IF(B30=\"\",\"\",(C30+D30))","v":{"$error":"#REF!"}},{"$f":"IF(E30=\"\",\"\",IF(E30=E29,F29,ROW()-3))","v":{"$error":"#REF!"}}]
[{"$f":"'Auto Team results'!A106","v":{"$error":"#REF!"}},{"$f":"'Auto Team results'!B106","v":5},{"$f":"'Auto Team results'!C106","v":{"$error":"#REF!"}},{"$f":"'Auto Team results'!D106","v":{"$error":"#REF!"}},{"$f":"IF(B31=\"\",\"\",(C31+D31))","v":{"$error":"#REF!"}},{"$f":"IF(E31=\"\",\"\",IF(E31=E30,F30,ROW()-3))","v":{"$error":"#REF!"}}]

{"sheet":"Overall Festival","index":2,"n_rows":111,"n_cols":9,"rows_kept":111,"cut":false,"hidden":false,"merged":[[1,8,2,8],[0,1,0,3],[0,4,0,8],[1,0,2,0],[1,1,2,1],[1,2,2,2],[1,3,2,3],[1,4,2,4],[1,5,2,5],[1,6,2,6],[1,7,2,7]]}
[null,"NORTH NORFOLK BASS FESTIVAL 2017",null,null,"Overall - Final Positions"]
["Overall Number","Angler Name","Angler No","Total No. Fish","Total No. Fish Points","Day 1 Points","Day 2 Points","Total Points","Overall Position"]
[null,{"$error":"#N/A"}]
[1,"DRAYTON, Simon",37,58,1264,1,1,1.9873020000000001,1]
[2,"CLEMENT, Alby",27,52,2679,1,2,2.9731579999999997,2]
[3,"ADAMS, Stephen",4,71,2676,1,2,2.973169,3]
[4,"BURT, Richard",22,53,2280,2,1,2.977147,4]
[5,"PINDER, Mark",84,34,2107,1,2,2.9788960000000002,5]
[6,"PROVINS, Colin",85,60,1988,1,2,2.9800599999999999,6]
[7,"NANGLE, Karl",80,66,1572,2,1,2.9842140000000001,7]
[8,"SMITH, George",93,54,2163,1,3,3.978316,8]
[9,"CROSBY, Ralf",34,27,1046,3,2,4.9895129999999996,9]
[10,"LAY-FLURRIE, Matt",65,43,1766,3,3,5.982297,10]
[11,"BUY, Craig",23,42,1579,4,2,5.9841680000000004,11]
[12,"BOWELL, Ian",12,39,1381,5,1,5.9861509999999996,12]
[13,"TURNER, Cameron",104,47,1971,3,4,6.9802429999999998,13]
[14,"BRIGHTON, Tarrick",16,38,1080,2,5,6.9891620000000003,14]
[15,"GOOCH, Mark",45,44,858,5,2,6.9913759999999998,15]
[16,"THOMAS, Tony",98,34,744,2,5,6.9925259999999998,16]
[17,"ADAMS, Graham",2,36,1007,5,3,7.9898940000000005,17]
[18,"MILLS, Rodney",74,49,987,5,3,7.990081,18]
[19,"McKENZIE, Brian",69,45,845,2,6,7.9915050000000001,19]
[20,"ELEY, Kevin",39,44,771,3,5,7.9922459999999997,20]
[21,"RANDELL, Henry",86,44,692,5,3,7.993036,21]
[22,"TUCK, Rob",103,52,799,6,3,8.9919580000000003,22]
[23,"AKESTER, Jack",5,39,778,4,5,8.9921810000000004,23]
[24,"HUTSON, Garry",57,39,1781,2,8,9.982151,24]
[25,"FROST, Mattew",42,36,824,4,6,9.9917239999999996,25]
[26,"COOPER, Jake",30,21,821,6,4,9.9917689999999997,26]
[27,"SPALL, Chris",95,48,767,9,1,9.9922820000000012,27]
[28,"ROPER, Liam",88,36,767,6,4,9.9922940000000011,28]
[29,"CROSBY, Colin",33,37,2013,2,9,10.979832999999999,29]
[30,"HAWARD, Nick",52,35,1720,4,7,10.982764999999999,30]
[31,"DIAPER, Greg",35,32,1552,5,6,10.984448,31]
[32,"COOPER, Gary",29,29,1551,6,5,10.984461,32]
[33,"TOVELL, Paul",102,31,1549,4,7,10.984479,33]
[34,"CHAMBERLAIN, Darren",25,43,1047,1,10,10.989487,34]
[35,"THORPE, Doug",99,39,888,7,4,10.991081000000001,35]
[36,"LEE, Martin",66,68,764,4,7,10.992291999999999,36]
[37,"ADAMS, Lee",3,46,760,1,10,10.992354000000001,37]
[38,"GALLACHER, Andy",43,56,695,8,3,10.992993999999999,38]
[39,"MICKELSEN, Jon",71,25,472,3,8,10.995254999999998,39]
[40,"LILL, Jarrod",67,25,1780,3,9,11.982175,40]
[41,"KENDRICK, Paul",59,24,957,11,1,11.990406,41]
[42,"LAMBERT, Ian",61,12,863,6,6,11.991358,42]
[43,"MORLEY, Keith",78,33,663,6,6,11.993337,43]
[44,"PICKARD, Colin",83,30,547,11,1,11.994499999999999,44]
[45,"LAWN, Kimberley",62,38,505,8,4,11.994911999999999,45]
[46,"ADAMS, Becky",1,24,478,7,5,11.995196,46]
[47,"HARVEY, John",50,41,1085,2,11,12.989109000000001,47]
[48,"GREEN, Kevin",46,27,797,8,5,12.992003,48]
[49,"READ, David",87,31,604,12,1,12.993929,49]
[50,"HADDOCK, Roy",48,45,591,9,4,12.994045,50]
[51,"STEBBINGS, Robert",96,45,576,11,2,12.994194999999999,51]
[52,"ASHWORTH, Paul",8,27,1144,4,10,13.988533,52]
[53,"HARRISON, Paul",49,50,657,6,8,13.99338,53]
[54,"GROSSMAN, Martin",47,25,657,5,9,13.993404999999999,54]
[55,"BRADSHAW, Craig",13,41,587,8,6,13.994089000000001,55]
[56,"SMITH, John",94,44,580,11,3,13.994155999999998,56]
[57,"PEARSON, Luke",82,44,577,6,8,13.994185999999999,57]
[58,"BRADSHAW, Daine",14,23,573,3,11,13.994247,58]
[59,"DOY, Alan",36,31,1488,8,7,14.985089,59]
[60,"HINXMAN, Mark",53,35,1472,7,8,14.985244999999999,60]
[61,"HURCOMBE, Mark",56,29,1238,3,12,14.987591,61]
[62,"LAWRENCE, John",63,27,1157,10,5,14.988403,62]
[63,"MOLLOY, Adam",75,59,623,9,6,14.993710999999999,63]
[64,"BURR, Dave",21,27,577,4,11,14.994203000000001,64]
[65,"ALDOUS, David",6,32,543,8,7,14.994538,65]
[66,"BROWN, Harry",19,27,529,9,6,14.994683,66]
[67,"AUSTIN, John",9,18,892,5,11,15.991061999999999,67]
[68,"SHARMAN, Mark",89,29,648,7,9,15.993491000000001,68]
[69,"HARVEY, Mark",51,30,458,12,4,15.995389999999999,69]
[70,"CLARKE, James",26,29,504,10,7,16.994930999999998,70]
[71,"SMITH, Adele",92,26,462,7,10,16.995354000000003,71]
[72,"EAGLE, Dan",38,34,633,7,11,17.993636000000002,72]
[73,"MORSE, Peter",79,38,481,11,7,17.995152000000001,73]
[74,"CHARLESWORTH, Nev",108,15,335,15,4,18.996634999999998,74]
[75,"BIRD, Stacey",11,21,1077,9,11,19.989208999999999,75]
[76,"SIBLEY, Jon",90,33,543,10,10,19.994537000000001,76]
[77,"GIBBS, Tom",44,27,424,7,13,19.995733000000001,77]
[78,"FRARY, Charlie",40,27,413,12,8,19.995843000000001,78]
[79,"BRIERLEY, Luke",15,25,343,10,10,19.996544999999998,79]
[80,"BROWN, Danny",18,23,342,8,12,19.996557000000003,80]
[81,"CRAWFORD, Vince",31,34,430,13,8,20.995666,81]
[82,"CREASEY, Shaun",32,17,278,9,12,20.997202999999999,82]
[83,"BROCK, Peter",17,19,704,12,10,21.992940999999998,83]
[84,"COLLIER, Andy",28,29,445,10,12,21.995521,84]
[85,"TEMPLE, Billy",97,5,338,7,15,21.996614999999998,85]
[86,"RICHARDSON, Callum",107,17,278,15,7,21.997202999999999,86]
[87,"PARROTT, Ade",81,20,255,13,9,21.997430000000001,87]
[88,"KING, Simon",60,11,194,9,13,21.998048999999998,88]
[89,"CARTER, John",24,21,456,9,14,22.995418999999998,89]
[90,"BETTINSON, Charles",10,22,402,11,12,22.995957999999998,90]
[91,"BROWN, Kay",20,12,290,8,15,22.997087999999998,91]
[92,"MILLER, Mark",73,17,269,14,9,22.997292999999999,92]
[93,"SMART, Neil",91,16,179,10,13,22.998194000000002,93]
[94,"LOKE, Peter",68,22,282,15,9,23.997157999999999,94]
[95,"TOPPING, Mike",101,19,282,10,15,24.997160999999998,95]
[96,"FRARY, June",41,14,272,14,11,24.997266,96]
[97,"NEAVE, John",106,6,55,10,15,24.999444,97]
[98,"TOPPING, Jack",100,24,281,14,12,25.997166,98]
[99,"MICKELSEN, Rory",72,8,177,13,13,25.998221999999998,99]
[100,"HIPPERSON, Richard",54,7,246,12,15,26.997533000000001,100]
[101,"HORE, Malcolm",55,9,224,12,15,26.997751000000001,101]
[102,"LAWSON, Savannah",64,6,136,15,12,26.998634000000003,102]
[103,"ALLISON, Ivan",7,14,612,13,15,27.993866000000001,103]
[104,"MOLLOY, Iain",76,26,261,15,13,27.997364000000001,104]
[105,"MOORE, Gary",77,3,258,13,15,27.997417000000002,105]
[106,"WOODS, Graham",105,12,231,13,15,27.997677999999997,106]
[107,"JONES, Mark",58,0,0,15,15,30,107]
[108,"METCALFE, Wendy",70,0,0,15,15,30,107]

{"sheet":"All Individuals Day 1","index":3,"n_rows":107,"n_cols":10,"rows_kept":107,"cut":false,"hidden":false,"merged":[[1,0,2,0],[0,0,0,3],[0,4,0,9],[1,1,2,1],[1,8,2,8],[1,9,2,9],[1,2,2,2],[1,3,2,3],[1,4,2,4],[1,5,2,5]]}
["NORTH NORFOLK BASS FESTIVAL 2017",null,null,null,"Day 1 (All Fish)"]
["Individual No.","Angler Name","Zone","Peg","No. Fish","Fish Points","Weight",null,"Day 1 Points","Day 1 Position"]
[null,null,null,null,null,null,"lbs","oz"]
[1,"CLEMENT, Alby","G",95,27,2469,51,7,1,1]
[2,"ADAMS, Stephen","E",64,46,2404,50,1.3333333333333333,1,2]
[3,"SMITH, George","H",107,37,1986,41,6,1,3]
[4,"BURT, Richard","G",100,38,1982,41,4.666666666666667,2,4]
[5,"CROSBY, Colin","E",72,30,1919,39,15.666666666666666,2,5]
[6,"PINDER, Mark","F",88,23,1912,39,13.333333333333334,1,6]
[7,"TURNER, Cameron","G",99,35,1788,37,4,3,7]
[8,"LILL, Jarrod","E",66,20,1707,35,9,3,8]
[9,"HUTSON, Garry","H",109,29,1692,35,4,2,9]
[10,"HAWARD, Nick","E",71,26,1606,33,7.333333333333333,4,10]
[11,"PROVINS, Colin","C",40,27,1574,32,12.666666666666666,1,11]
[12,"LAY-FLURRIE, Matt","H",119,25,1561,32,8.3333333333333339,3,12]
[13,"TOVELL, Paul","H",111,23,1467,30,9,4,13]
[14,"DIAPER, Greg","H",117,18,1438,29,15.333333333333334,5,14]
[15,"COOPER, Gary","H",110,21,1436,29,14.666666666666666,6,15]
[16,"HINXMAN, Mark","H",115,26,1392,29,0,7,16]
[17,"DOY, Alan","H",112,18,1387,28,14.333333333333334,8,17]
[18,"BUY, Craig","G",104,32,1333,27,12.333333333333334,4,18]
[19,"NANGLE, Karl","F",84,36,1289,26,13.666666666666666,2,19]
[20,"HURCOMBE, Mark","F",79,25,1207,25,2.3333333333333335,3,20]
[21,"ASHWORTH, Paul","F",86,20,1058,22,0.66666666666666663,4,21]
[22,"BIRD, Stacey","H",120,17,1033,21,8.3333333333333339,9,22]
[23,"LAWRENCE, John","H",106,17,1027,21,6.333333333333333,10,23]
[24,"AUSTIN, John","G",91,16,878,18,4.666666666666667,5,24]
[25,"HARVEY, John","C",32,25,871,18,2.3333333333333335,2,25]
[26,"MILLS, Rodney","E",61,33,867,18,1,5,26]
[27,"ADAMS, Graham","F",80,24,855,17,13,5,27]
[28,"CHAMBERLAIN, Darren","D",59,22,802,16,11.333333333333334,1,28]
[29,"BRIGHTON, Tarrick","D",58,18,761,15,13.666666666666666,2,29]
[30,"KENDRICK, Paul","H",116,16,759,15,13,11,30]
[31,"LAMBERT, Ian","E",67,9,758,15,12.666666666666666,6,31]
[32,"THORPE, Doug","E",74,29,757,15,12.333333333333334,7,32]
[33,"DRAYTON, Simon","B",20,28,737,15,5.666666666666667,1,33]
[34,"COOPER, Jake","F",87,9,701,14,9.6666666666666661,6,34]
[35,"GREEN, Kevin","E",73,13,663,13,13,8,35]
[36,"CROSBY, Ralf","D",51,13,661,13,12.333333333333334,3,36]
[37,"BROCK, Peter","H",118,14,650,13,8.6666666666666661,12,37]
[38,"ALLISON, Ivan","H",108,14,612,12,12,13,38]
[39,"McKENZIE, Brian","B",16,22,567,11,13,2,39]
[40,"MORLEY, Keith","G",105,19,565,11,12.333333333333334,6,40]
[41,"FROST, Mattew","D",55,9,506,10,8.6666666666666661,4,41]
[42,"ADAMS, Lee","A",4,28,484,10,1.3333333333333333,1,42]
[43,"ELEY, Kevin","C",43,18,484,10,1.3333333333333333,3,43]
[44,"BRADSHAW, Daine","B",24,15,476,9,14.666666666666666,3,44]
[45,"BOWELL, Ian","D",47,14,469,9,12.333333333333334,5,45]
[46,"LEE, Martin","B",30,40,461,9,9.6666666666666661,4,46]
[47,"AKESTER, Jack","C",41,15,444,9,4,4,47]
[48,"SMITH, Adele","G",94,22,430,8,15.333333333333334,7,48]
[49,"GOOCH, Mark","C",34,13,419,8,11.666666666666666,5,49]
[50,"THOMAS, Tony","A",7,17,418,8,11.333333333333334,2,50]
[51,"ROPER, Liam","C",35,13,413,8,9.6666666666666661,6,51]
[52,"BROWN, Harry","E",70,20,401,8,5.666666666666667,9,52]
[53,"GROSSMAN, Martin","B",17,8,398,8,4.666666666666667,5,53]
[54,"TUCK, Rob","B",22,25,394,8,3.3333333333333335,6,54]
[55,"CLARKE, James","E",63,16,390,8,2,10,55]
[56,"EAGLE, Dan","C",36,15,382,7,15.333333333333334,7,56]
[57,"SHARMAN, Mark","B",29,15,380,7,14.666666666666666,7,57]
[58,"GALLACHER, Andy","C",33,19,374,7,12.666666666666666,8,58]
[59,"HARRISON, Paul","D",60,22,371,7,11.666666666666666,6,59]
[60,"BRADSHAW, Craig","B",23,22,358,7,7.333333333333333,8,60]
[61,"CARTER, John","C",45,11,358,7,7.333333333333333,9,61]
[62,"MICKELSEN, Jon","A",15,12,341,7,1.6666666666666667,3,62]
[63,"TEMPLE, Billy","D",56,5,338,7,0.66666666666666663,7,63]
[64,"ADAMS, Becky","F",89,12,337,7,0.33333333333333331,7,64]
[65,"BURR, Dave","A",9,16,336,7,0,4,65]
[66,"PICKARD, Colin","E",75,15,336,7,0,11,66]
[67,"LAWN, Kimberley","F",85,20,332,6,14.666666666666666,8,67]
[68,"SIBLEY, Jon","C",42,15,319,6,10.333333333333334,10,68]
[69,"RANDELL, Henry","A",11,14,318,6,10,5,69]
[70,"ALDOUS, David","D",52,12,318,6,10,8,70]
[71,"FRARY, Charlie","E",68,18,301,6,4.333333333333333,12,71]
[72,"MOLLOY, Adam","B",18,24,299,6,3.6666666666666665,9,72]
[73,"BROWN, Kay","G",101,12,290,6,0.66666666666666663,8,73]
[74,"TOPPING, Mike","B",27,19,282,5,14,10,74]
[75,"PEARSON, Luke","A",5,18,280,5,13.333333333333334,6,75]
[76,"SPALL, Chris","D",46,16,277,5,12.333333333333334,9,76]
[77,"GIBBS, Tom","A",8,15,262,5,7.333333333333333,7,77]
[78,"MOORE, Gary","E",62,3,258,5,6,13,78]
[79,"COLLIER, Andy","D",49,14,253,5,4.333333333333333,10,79]
[80,"BETTINSON, Charles","C",31,11,250,5,3.3333333333333335,11,80]
[81,"BROWN, Danny","A",10,13,247,5,2.3333333333333335,8,81]
[82,"CREASEY, Shaun","G",92,13,247,5,2.3333333333333335,9,81]
[83,"HIPPERSON, Richard","C",37,7,246,5,2,12,83]
[84,"SMITH, John","D",50,12,245,5,1.6666666666666667,11,84]
[85,"HADDOCK, Roy","A",12,16,241,5,0.33333333333333331,9,85]
[86,"BRIERLEY, Luke","A",6,14,235,4,14.333333333333334,10,86]
[87,"WOODS, Graham","C",44,12,231,4,13,13,87]
[88,"FRARY, June","E",69,9,228,4,12,14,88]
[89,"STEBBINGS, Robert","A",13,21,224,4,10.666666666666666,11,89]
[90,"HORE, Malcolm","D",57,9,224,4,10.666666666666666,12,90]
[91,"MILLER, Mark","H",114,9,195,4,1,14,91]
[92,"MORSE, Peter","B",25,15,193,4,0.33333333333333331,11,92]
[93,"KING, Simon","F",83,9,181,3,12.333333333333334,9,93]
[94,"READ, David","B",26,6,174,3,10,12,94]
[95,"SMART, Neil","F",78,14,166,3,7.333333333333333,10,95]
[96,"CRAWFORD, Vince","B",21,14,163,3,6.333333333333333,13,96]
[97,"TOPPING, Jack","B",28,13,142,2,15.333333333333334,14,97]
[98,"PARROTT, Ade","D",48,9,140,2,14.666666666666666,13,98]
[99,"HARVEY, Mark","A",1,11,138,2,14,12,99]
[100,"MOLLOY, Iain","B",19,15,127,2,10.333333333333334,15,100]
[101,"MICKELSEN, Rory","A",14,1,109,2,4.333333333333333,13,101]
[102,"LAWSON, Savannah","H",113,2,99,2,1,15,102]
[103,"NEAVE, John","G",103,6,55,1,2.3333333333333335,10,103]
[118,"METCALFE, Wendy","G",97,0,0,0,0,15,104]

{"sheet":"All Individuals Day 2","index":4,"n_rows":103,"n_cols":10,"rows_kept":103,"cut":false,"hidden":false,"merged":[[0,0,0,3],[0,4,0,9],[1,0,2,0],[1,1,2,1],[1,2,2,2],[1,3,2,3],[1,4,2,4],[1,5,2,5],[1,8,2,8],[1,9,2,9]]}
["NORTH NORFOLK BASS FESTIVAL 2017",null,null,null,"Day 2 (All Fish)"]
["Individual No.","Angler Name","Zone","Peg","No. Fish","Fish Points","Weight",null,"Day 2 Points","Day 2 Position"]
[null,null,null,null,null,null,"lbs","oz"]
[1,"BOWELL, Ian","F",78,25,912,19,0,1,1]
[2,"DRAYTON, Simon","H",120,30,527,10,15.666666666666666,1,2]
[3,"SPALL, Chris","E",63,32,490,10,3.3333333333333335,1,3]
[4,"GOOCH, Mark","F",79,31,439,9,2.3333333333333335,2,4]
[5,"READ, David","G",92,25,430,8,15.333333333333334,1,5]
[6,"PROVINS, Colin","H",112,33,414,8,10,2,6]
[7,"TUCK, Rob","H",119,27,405,8,7,3,7]
[8,"CROSBY, Ralf","E",64,14,385,8,0.33333333333333331,2,8]
[9,"RANDELL, Henry","F",89,30,374,7,12.666666666666666,3,9]
[10,"ROPER, Liam","H",107,23,354,7,6,4,10]
[11,"STEBBINGS, Robert","G",104,24,352,7,5.333333333333333,2,11]
[12,"HADDOCK, Roy","F",87,29,350,7,4.666666666666667,4,12]
[13,"SMITH, John","G",96,32,335,6,15.666666666666666,3,13]
[14,"CHARLESWORTH, Nev","G",98,15,335,6,15.666666666666666,4,14]
[15,"AKESTER, Jack","G",102,24,334,6,15.333333333333334,5,15]
[16,"THOMAS, Tony","F",77,17,326,6,12.666666666666666,5,16]
[17,"MOLLOY, Adam","G",93,35,324,6,12,6,17]
[18,"GALLACHER, Andy","E",67,37,321,6,11,3,18]
[19,"HARVEY, Mark","E",61,19,320,6,10.666666666666666,4,19]
[20,"BRIGHTON, Tarrick","E",66,20,319,6,10.333333333333334,5,20]
[21,"FROST, Mattew","E",70,27,318,6,10,6,21]
[22,"LEE, Martin","E",71,28,303,6,5,7,22]
[23,"BURT, Richard","C",33,15,298,6,3.3333333333333335,1,23]
[24,"PEARSON, Luke","E",65,26,297,6,3,8,24]
[25,"MORSE, Peter","G",105,23,288,6,0,7,25]
[26,"ELEY, Kevin","H",117,26,287,5,15.666666666666666,5,26]
[27,"HARRISON, Paul","G",100,28,286,5,15.333333333333334,8,27]
[28,"NANGLE, Karl","B",26,30,283,5,14.333333333333334,1,28]
[29,"LOKE, Peter","E",72,22,282,5,14,9,29]
[30,"McKENZIE, Brian","H",116,23,278,5,12.666666666666666,6,30]
[31,"RICHARDSON, Callum","H",106,17,278,5,12.666666666666666,7,31]
[32,"ADAMS, Lee","E",62,18,276,5,12,10,32]
[33,"ADAMS, Stephen","C",32,25,272,5,10.666666666666666,2,33]
[34,"SHARMAN, Mark","G",103,14,268,5,9.3333333333333339,9,34]
[35,"CRAWFORD, Vince","H",111,20,267,5,9,8,35]
[36,"GROSSMAN, Martin","H",108,17,259,5,6.333333333333333,9,36]
[37,"EAGLE, Dan","E",73,19,251,5,3.6666666666666665,11,37]
[38,"BUY, Craig","B",16,10,246,5,2,2,38]
[39,"CHAMBERLAIN, Darren","H",115,21,245,5,1.6666666666666667,10,39]
[40,"BURR, Dave","H",109,11,241,5,0.33333333333333331,11,40]
[41,"BRADSHAW, Craig","F",85,19,229,4,12.333333333333334,6,41]
[42,"ALDOUS, David","F",83,20,225,4,11,7,42]
[43,"SIBLEY, Jon","G",91,18,224,4,10.666666666666666,10,43]
[44,"HARVEY, John","G",95,16,214,4,7.333333333333333,11,44]
[45,"PICKARD, Colin","A",8,15,211,4,6.333333333333333,1,45]
[46,"CLEMENT, Alby","A",9,25,210,4,6,2,46]
[47,"LAY-FLURRIE, Matt","C",34,18,205,4,4.333333333333333,3,47]
[48,"KENDRICK, Paul","D",50,8,198,4,2,1,48]
[49,"PINDER, Mark","D",51,11,195,4,1,2,49]
[50,"COLLIER, Andy","E",75,15,192,4,0,12,50]
[51,"TURNER, Cameron","C",40,12,183,3,13,4,51]
[52,"SMITH, George","A",3,17,177,3,11,3,52]
[53,"LAWN, Kimberley","A",2,18,173,3,9.6666666666666661,4,53]
[54,"GIBBS, Tom","E",74,12,162,3,6,13,54]
[55,"ADAMS, Graham","D",56,12,152,3,2.6666666666666665,3,55]
[56,"BETTINSON, Charles","H",118,11,152,3,2.6666666666666665,12,56]
[57,"ADAMS, Becky","A",14,12,141,2,15,5,57]
[58,"TOPPING, Jack","G",101,11,139,2,14.333333333333334,12,58]
[59,"GREEN, Kevin","C",45,14,134,2,12.666666666666666,5,59]
[60,"MOLLOY, Iain","G",94,11,134,2,12.666666666666666,13,60]
[61,"MICKELSEN, Jon","F",82,13,131,2,11.666666666666666,8,61]
[62,"THORPE, Doug","D",55,10,131,2,11.666666666666666,4,62]
[63,"LAWRENCE, John","D",52,10,130,2,11.333333333333334,5,63]
[64,"BROWN, Harry","C",36,7,128,2,10.666666666666666,6,64]
[65,"MILLS, Rodney","B",22,16,120,2,8,3,65]
[66,"COOPER, Jake","B",20,12,120,2,8,4,66]
[67,"PARROTT, Ade","F",88,11,115,2,6.333333333333333,9,67]
[68,"COOPER, Gary","B",30,8,115,2,6.333333333333333,5,68]
[69,"DIAPER, Greg","D",57,14,114,2,6,6,69]
[70,"CLARKE, James","C",44,13,114,2,6,7,70]
[71,"HAWARD, Nick","D",47,9,114,2,6,7,71]
[72,"FRARY, Charlie","D",53,9,112,2,5.333333333333333,8,72]
[73,"BRIERLEY, Luke","F",76,11,108,2,4,10,73]
[74,"LAMBERT, Ian","A",1,3,105,2,3,6,74]
[75,"DOY, Alan","A",12,13,101,2,1.6666666666666667,7,75]
[76,"MORLEY, Keith","B",29,14,98,2,0.66666666666666663,6,76]
[77,"CARTER, John","G",99,10,98,2,0.66666666666666663,14,77]
[78,"BRADSHAW, Daine","F",86,8,97,2,0.33333333333333331,11,78]
[79,"BROWN, Danny","F",90,10,95,1,15.666666666666666,12,79]
[80,"CROSBY, Colin","D",60,7,94,1,15.333333333333334,9,80]
[81,"HUTSON, Garry","A",13,10,89,1,13.666666666666666,8,81]
[82,"ASHWORTH, Paul","D",46,7,86,1,12.666666666666666,10,82]
[83,"TOVELL, Paul","B",25,8,82,1,11.333333333333334,7,83]
[84,"HINXMAN, Mark","C",41,9,80,1,10.666666666666666,8,84]
[85,"MILLER, Mark","C",39,8,74,1,8.6666666666666661,9,85]
[86,"LILL, Jarrod","A",5,5,73,1,8.3333333333333339,9,86]
[87,"MICKELSEN, Rory","F",81,7,68,1,6.666666666666667,13,87]
[88,"BROCK, Peter","C",31,5,54,1,2,10,88]
[89,"FRARY, June","D",54,5,44,0,14.666666666666666,11,89]
[90,"BIRD, Stacey","C",37,4,44,0,14.666666666666666,11,90]
[91,"LAWSON, Savannah","C",38,4,37,0,12.333333333333334,12,91]
[92,"SMITH, Adele","A",10,4,32,0,10.666666666666666,10,92]
[93,"CREASEY, Shaun","D",49,4,31,0,10.333333333333334,12,93]
[94,"HURCOMBE, Mark","D",58,4,31,0,10.333333333333334,12,93]
[95,"AUSTIN, John","A",4,2,14,0,4.666666666666667,11,95]
[96,"SMART, Neil","C",35,2,13,0,4.333333333333333,13,96]
[97,"KING, Simon","C",42,2,13,0,4.333333333333333,13,96]
[116,"WOODS, Graham","F",84,0,0,0,0,15,98]
[112,"MOORE, Gary","D",59,0,0,0,0,15,98]
[115,"HORE, Malcolm","F",80,0,0,0,0,15,98]

{"sheet":"Day 1 Zones","index":5,"n_rows":262,"n_cols":10,"rows_kept":262,"cut":false,"hidden":false,"merged":[[231,1,231,4],[231,5,231,9],[232,0,233,0],[232,1,233,1],[232,2,233,2],[232,3,233,3],[232,4,233,4],[232,7,233,7],[232,8,233,8],[232,9,233,9],[198,1,198,4],[198,5,198,9],[199,0,200,0],[199,1,200,1],[199,2,200,2],[199,3,200,3],[199,4,200,4],[199,7,200,7],[199,8,200,8],[199,9,200,9],[165,1,165,4],[165,5,165,9],[166,0,167,0],[166,1,167,1],[166,2,167,2],[166,3,167,3],[166,4,167,4],[166,7,167,7],[166,8,167,8],[166,9,167,9],[132,1,132,4],[132,5,132,9],[133,0,134,0],[133,1,134,1],[133,2,134,2],[133,3,134,3],[133,4,134,4],[133,7,134,7],[133,8,134,8],[133,9,134,9],[99,1,99,4],[99,5,99,9],[100,0,101,0],[100,1,101,1],[100,2,101,2],[100,3,101,3],[100,4,101,4],[100,7,101,7],[100,8,101,8],[100,9,101,9],[66,1,66,4],[66,5,66,9],[67,0,68,0],[67,1,68,1],[67,2,68,2],[67,3,68,3],[67,4,68,4],[67,7,68,7],[67,8,68,8],[67,9,68,9],[33,1,33,4],[33,5,33,9],[34,0,35,0],[34,1,35,1],[34,2,35,2],[34,3,35,3],[34,4,35,4],[34,7,35,7],[34,8,35,8],[34,9,35,9],[0,1,0,4],[0,5,0,9],[1,0,2,0],[1,1,2,1],[1,2,2,2],[1,3,2,3],[1,4,2,4],[1,7,2,7],[1,8,2,8],[1,9,2,9]]}
[null,"NORTH NORFOLK BASS FESTIVAL 2017",null,null,null,"Day 1  ZONE A"]
["Zone Number","Peg","Name","No. Fish","Total Weight Points","Weight",null,"Optional Pools","Day 1 Points ","Zone Position"]
[null,null,null,null,null,"(lbs)","(ozs)"]
[1,4,"ADAMS, Lee",28,484,10,1.3333333333333333,"X",1,1]
[2,7,"THOMAS, Tony",17,418,8,11.333333333333334,"X",2,2]
[3,15,"MICKELSEN, Jon",12,341,7,1.6666666666666667,"X",3,3]
[4,9,"BURR, Dave",16,336,7,0,"X",4,4]
[5,11,"RANDELL, Henry",14,318,6,10,"X",5,5]
[6,5,"PEARSON, Luke",18,280,5,13.333333333333334,"X",6,6]
[7,8,"GIBBS, Tom",15,262,5,7.333333333333333,"X",7,7]
[8,10,"BROWN, Danny",13,247,5,2.3333333333333335,"",8,8]
[9,12,"HADDOCK, Roy",16,241,5,0.33333333333333331,"X",9,9]
[10,6,"BRIERLEY, Luke",14,235,4,14.333333333333334,"",10,10]
[11,13,"STEBBINGS, Robert",21,224,4,10.666666666666666,"X",11,11]
[12,1,"HARVEY, Mark",11,138,2,14,"X",12,12]
[13,14,"MICKELSEN, Rory",1,109,2,4.333333333333333,"",13,13]
[14,2,"Empty Peg",0,0,0,0,"X",15,15]
[15,3,"Empty Peg",0,0,0,0,"",15,15]
[16,"","","","","","","","",""]
[17,"","","","","","","","",""]
[18,"","","","","","","","",""]
[19,"","","","","","","","",""]
[20,"","","","","","","","",""]
[21,"","","","","","","","",""]
[22,"","","","","","","","",""]
[23,"","","","","","","","",""]
[24,"","","","","","","","",""]
[25,"","","","","","","","",""]
[26,"","","","","","","","",""]
[27,"","","","","","","","",""]
[28,"","","","","","","","",""]
[29,"","","","","","","","",""]
[30,"","","","","","","","",""]
[null,"NORTH NORFOLK BASS FESTIVAL 2017",null,null,null,"Day 1  ZONE B"]
["Zone Number","Peg","Name","No. Fish","Total Weight Points","Weight",null,"Optional Pools","Day 1 Points ","Zone Position"]
[null,null,null,null,null,"(lbs)","(ozs)"]
[1,20,"DRAYTON, Simon",28,737,15,5.666666666666667,"X",1,1]
[2,16,"McKENZIE, Brian",22,567,11,13,"X",2,2]
[3,24,"BRADSHAW, Daine",15,476,9,14.666666666666666,"",3,3]
[4,30,"LEE, Martin",40,461,9,9.6666666666666661,"X",4,4]
[5,17,"GROSSMAN, Martin",8,398,8,4.666666666666667,"X",5,5]
[6,22,"TUCK, Rob",25,394,8,3.3333333333333335,"X",6,6]
[7,29,"SHARMAN, Mark",15,380,7,14.666666666666666,"X",7,7]
[8,23,"BRADSHAW, Craig",22,358,7,7.333333333333333,"X",8,8]
[9,18,"MOLLOY, Adam",24,299,6,3.6666666666666665,"",9,9]
[10,27,"TOPPING, Mike",19,282,5,14,"X",10,10]
[11,25,"MORSE, Peter",15,193,4,0.33333333333333331,"X",11,11]
[12,26,"READ, David",6,174,3,10,"X",12,12]
[13,21,"CRAWFORD, Vince",14,163,3,6.333333333333333,"X",13,13]
[14,28,"TOPPING, Jack",13,142,2,15.333333333333334,"",14,14]
[15,19,"MOLLOY, Iain",15,127,2,10.333333333333334,"X",15,15]
[16,"","","","","","","","",""]
[17,"","","","","","","","",""]
[18,"","","","","","","","",""]
[19,"","","","","","","","",""]
[20,"","","","","","","","",""]
[21,"","","","","","","","",""]
[22,"","","","","","","","",""]
[23,"","","","","","","","",""]
[24,"","","","","","","","",""]
[25,"","","","","","","","",""]
[26,"","","","","","","","",""]
[27,"","","","","","","","",""]
[28,"","","","","","","","",""]
[29,"","","","","","","","",""]
[30,"","","","","","","","",""]
[null,"NORTH NORFOLK BASS FESTIVAL 2017",null,null,null,"Day 1  ZONE C"]
["Zone Number","Peg","Name","No. Fish","Total Weight Points","Weight",null,"Optional Pools","Day 1 Points ","Zone Position"]
[null,null,null,null,null,"(lbs)","(ozs)"]
[1,40,"PROVINS, Colin",27,1574,32,12.666666666666666,"X",1,1]
[2,32,"HARVEY, John",25,871,18,2.3333333333333335,"X",2,2]
[3,43,"ELEY, Kevin",18,484,10,1.3333333333333333,"X",3,3]
[4,41,"AKESTER, Jack",15,444,9,4,"X",4,4]
[5,34,"GOOCH, Mark",13,419,8,11.666666666666666,"X",5,5]
[6,35,"ROPER, Liam",13,413,8,9.6666666666666661,"X",6,6]
[7,36,"EAGLE, Dan",15,382,7,15.333333333333334,"X",7,7]
[8,33,"GALLACHER, Andy",19,374,7,12.666666666666666,"X",8,8]
[9,45,"CARTER, John",11,358,7,7.333333333333333,"X",9,9]
[10,42,"SIBLEY, Jon",15,319,6,10.333333333333334,"",10,10]
[11,31,"BETTINSON, Charles",11,250,5,3.3333333333333335,"X",11,11]
[12,37,"HIPPERSON, Richard",7,246,5,2,"X",12,12]
[13,44,"WOODS, Graham",12,231,4,13,"X",13,13]
[14,38,"Empty Peg",0,0,0,0,"",15,15]
[15,39,"Empty Peg",0,0,0,0,"",15,15]
[16,"","","","","","","","",""]
[17,"","","","","","","","",""]
[18,"","","","","","","","",""]
[19,"","","","","","","","",""]
[20,"","","","","","","","",""]
[21,"","","","","","","","",""]
[22,"","","","","","","","",""]
[23,"","","","","","","","",""]
[24,"","","","","","","","",""]
[25,"","","","","","","","",""]
[26,"","","","","","","","",""]
[27,"","","","","","","","",""]
[28,"","","","","","","","",""]
[29,"","","","","","","","",""]
[30,"","","","","","","","",""]
[null,"NORTH NORFOLK BASS FESTIVAL 2017",null,null,null,"Day 1  ZONE D"]
["Zone Number","Peg","Name","No. Fish","Total Weight Points","Weight",null,"Optional Pools","Day 1 Points ","Zone Position"]
[null,null,null,null,null,"(lbs)","(ozs)"]
[1,59,"CHAMBERLAIN, Darren",22,802,16,11.333333333333334,"X",1,1]
[2,58,"BRIGHTON, Tarrick",18,761,15,13.666666666666666,"X",2,2]
[3,51,"CROSBY, Ralf",13,661,13,12.333333333333334,"X",3,3]
[4,55,"FROST, Mattew",9,506,10,8.6666666666666661,"X",4,4]
[5,47,"BOWELL, Ian",14,469,9,12.333333333333334,"X",5,5]
[6,60,"HARRISON, Paul",22,371,7,11.666666666666666,"X",6,6]
[7,56,"TEMPLE, Billy",5,338,7,0.66666666666666663,"X",7,7]
[8,52,"ALDOUS, David",12,318,6,10,"X",8,8]
[9,46,"SPALL, Chris",16,277,5,12.333333333333334,"X",9,9]
[10,49,"COLLIER, Andy",14,253,5,4.333333333333333,"X",10,10]
[11,50,"SMITH, John",12,245,5,1.6666666666666667,"X",11,11]
[12,57,"HORE, Malcolm",9,224,4,10.666666666666666,"X",12,12]
[13,48,"PARROTT, Ade",9,140,2,14.666666666666666,"X",13,13]
[14,53,"Empty Peg",0,0,0,0,"",15,15]
[15,54,"Empty Peg",0,0,0,0,"",15,15]
[16,"","","","","","","","",""]
[17,"","","","","","","","",""]
[18,"","","","","","","","",""]
[19,"","","","","","","","",""]
[20,"","","","","","","","",""]
[21,"","","","","","","","",""]
[22,"","","","","","","","",""]
[23,"","","","","","","","",""]
[24,"","","","","","","","",""]
[25,"","","","","","","","",""]
[26,"","","","","","","","",""]
[27,"","","","","","","","",""]
[28,"","","","","","","","",""]
[29,"","","","","","","","",""]
[30,"","","","","","","","",""]
[null,"NORTH NORFOLK BASS FESTIVAL 2017",null,null,null,"Day 1  ZONE E"]
["Zone Number","Peg","Name","No. Fish","Total Weight Points","Weight",null,"Optional Pools","Day 1 Points ","Zone Position"]
[null,null,null,null,null,"(lbs)","(ozs)"]
[1,64,"ADAMS, Stephen",46,2404,50,1.3333333333333333,"X",1,1]
[2,72,"CROSBY, Colin",30,1919,39,15.666666666666666,"X",2,2]
[3,66,"LILL, Jarrod",20,1707,35,9,"X",3,3]
[4,71,"HAWARD, Nick",26,1606,33,7.333333333333333,"X",4,4]
[5,61,"MILLS, Rodney",33,867,18,1,"X",5,5]
[6,67,"LAMBERT, Ian",9,758,15,12.666666666666666,"X",6,6]
[7,74,"THORPE, Doug",29,757,15,12.333333333333334,"X",7,7]
[8,73,"GREEN, Kevin",13,663,13,13,"X",8,8]
[9,70,"BROWN, Harry",20,401,8,5.666666666666667,"X",9,9]
[10,63,"CLARKE, James",16,390,8,2,"",10,10]
[11,75,"PICKARD, Colin",15,336,7,0,"X",11,11]
[12,68,"FRARY, Charlie",18,301,6,4.333333333333333,"X",12,12]
[13,62,"MOORE, Gary",3,258,5,6,"X",13,13]
[14,69,"FRARY, June",9,228,4,12,"X",14,14]
[15,65,"Empty Peg",0,0,0,0,"",15,15]
[16,"","","","","","","","",""]
[17,"","","","","","","","",""]
[18,"","","","","","","","",""]
[19,"","","","","","","","",""]
[20,"","","","","","","","",""]
[21,"","","","","","","","",""]
[22,"","","","","","","","",""]
[23,"","","","","","","","",""]
[24,"","","","","","","","",""]
[25,"","","","","","","","",""]
[26,"","","","","","","","",""]
[27,"","","","","","","","",""]
[28,"","","","","","","","",""]
[29,"","","","","","","","",""]
[30,"","","","","","","","",""]
[null,"NORTH NORFOLK BASS FESTIVAL 2017",null,null,null,"Day 1  ZONE F"]
["Zone Number","Peg","Name","No. Fish","Total Weight Points","Weight",null,"Optional Pools","Day 1 Points ","Zone Position"]
[null,null,null,null,null,"(lbs)","(ozs)"]
[1,88,"PINDER, Mark",23,1912,39,13.333333333333334,"X",1,1]
[2,84,"NANGLE, Karl",36,1289,26,13.666666666666666,"X",2,2]
[3,79,"HURCOMBE, Mark",25,1207,25,2.3333333333333335,"X",3,3]
[4,86,"ASHWORTH, Paul",20,1058,22,0.66666666666666663,"X",4,4]
[5,80,"ADAMS, Graham",24,855,17,13,"X",5,5]
[6,87,"COOPER, Jake",9,701,14,9.6666666666666661,"X",6,6]
[7,89,"ADAMS, Becky",12,337,7,0.33333333333333331,"",7,7]
[8,85,"LAWN, Kimberley",20,332,6,14.666666666666666,"",8,8]
[9,83,"KING, Simon",9,181,3,12.333333333333334,"X",9,9]
[10,78,"SMART, Neil",14,166,3,7.333333333333333,"X",10,10]
[11,76,"Empty Peg",0,0,0,0,"",15,15]
[12,77,"Empty Peg",0,0,0,0,"",15,15]
[13,81,"Empty Peg",0,0,0,0,"",15,15]
[14,82,"Empty Peg",0,0,0,0,"",15,15]
[15,90,"Empty Peg",0,0,0,0,"",15,15]
[16,"","","","","","","","",""]
[17,"","","","","","","","",""]
[18,"","","","","","","","",""]
[19,"","","","","","","","",""]
[20,"","","","","","","","",""]
[21,"","","","","","","","",""]
[22,"","","","","","","","",""]
[23,"","","","","","","","",""]
[24,"","","","","","","","",""]
[25,"","","","","","","","",""]
[26,"","","","","","","","",""]
[27,"","","","","","","","",""]
[28,"","","","","","","","",""]
[29,"","","","","","","","",""]
[30,"","","","","","","","",""]
[null,"NORTH NORFOLK BASS FESTIVAL 2017",null,null,null,"Day 1  ZONE G"]
["Zone Number","Peg","Name","No. Fish","Total Weight Points","Weight",null,"Optional Pools","Day 1 Points ","Zone Position"]
[null,null,null,null,null,"(lbs)","(ozs)"]
[1,95,"CLEMENT, Alby",27,2469,51,7,"X",1,1]
[2,100,"BURT, Richard",38,1982,41,4.666666666666667,"X",2,2]
[3,99,"TURNER, Cameron",35,1788,37,4,"X",3,3]
[4,104,"BUY, Craig",32,1333,27,12.333333333333334,"X",4,4]
[5,91,"AUSTIN, John",16,878,18,4.666666666666667,"X",5,5]
[6,105,"MORLEY, Keith",19,565,11,12.333333333333334,"X",6,6]
[7,94,"SMITH, Adele",22,430,8,15.333333333333334,"X",7,7]
[8,101,"BROWN, Kay",12,290,6,0.66666666666666663,"",8,8]
[9,92,"CREASEY, Shaun",13,247,5,2.3333333333333335,"X",9,9]
[10,103,"NEAVE, John",6,55,1,2.3333333333333335,"",10,10]
[11,93,"JONES, Mark",0,0,0,0,"X",15,15]
[12,97,"METCALFE, Wendy",0,0,0,0,"",15,15]
[13,96,"Empty Peg",0,0,0,0,"",15,15]
[14,98,"Empty Peg",0,0,0,0,"",15,15]
[15,102,"Empty Peg",0,0,0,0,"",15,15]
[16,"","","","","","","","",""]
[17,"","","","","","","","",""]
[18,"","","","","","","","",""]
[19,"","","","","","","","",""]
[20,"","","","","","","","",""]
[21,"","","","","","","","",""]
[22,"","","","","","","","",""]
[23,"","","","","","","","",""]
[24,"","","","","","","","",""]
[25,"","","","","","","","",""]
[26,"","","","","","","","",""]
[27,"","","","","","","","",""]
[28,"","","","","","","","",""]
[29,"","","","","","","","",""]
[30,"","","","","","","","",""]
[null,"NORTH NORFOLK BASS FESTIVAL 2017",null,null,null,"Day 1  ZONE H"]
["Zone Number","Peg","Name","No. Fish","Total Weight Points","Weight",null,"Optional Pools","Day 1 Points ","Zone Position"]
[null,null,null,null,null,"(lbs)","(ozs)"]
[1,107,"SMITH, George",37,1986,41,6,"X",1,1]
[2,109,"HUTSON, Garry",29,1692,35,4,"X",2,2]
[3,119,"LAY-FLURRIE, Matt",25,1561,32,8.3333333333333339,"X",3,3]
[4,111,"TOVELL, Paul",23,1467,30,9,"X",4,4]
[5,117,"DIAPER, Greg",18,1438,29,15.333333333333334,"X",5,5]
[6,110,"COOPER, Gary",21,1436,29,14.666666666666666,"X",6,6]
[7,115,"HINXMAN, Mark",26,1392,29,0,"X",7,7]
[8,112,"DOY, Alan",18,1387,28,14.333333333333334,"X",8,8]
[9,120,"BIRD, Stacey",17,1033,21,8.3333333333333339,"X",9,9]
[10,106,"LAWRENCE, John",17,1027,21,6.333333333333333,"X",10,10]
[11,116,"KENDRICK, Paul",16,759,15,13,"X",11,11]
[12,118,"BROCK, Peter",14,650,13,8.6666666666666661,"X",12,12]
[13,108,"ALLISON, Ivan",14,612,12,12,"X",13,13]
[14,114,"MILLER, Mark",9,195,4,1,"X",14,14]
[15,113,"LAWSON, Savannah",2,99,2,1,"",15,15]
[16,"","","","","","","","",""]
[17,"","","","","","","","",""]
[18,"","","","","","","","",""]
[19,"","","","","","","","",""]
[20,"","","","","","","","",""]
[21,"","","","","","","","",""]
[22,"","","","","","","","",""]
[23,"","","","","","","","",""]
[24,"","","","","","","","",""]
[25,"","","","","","","","",""]
[26,"","","","","","","","",""]
[27,"","","","","","","","",""]
[28,"","","","","","","","",""]

{"sheet":"Day 2 Zones","index":6,"n_rows":262,"n_cols":10,"rows_kept":262,"cut":false,"hidden":false,"merged":[[231,1,231,4],[231,5,231,9],[232,0,233,0],[232,1,233,1],[232,2,233,2],[232,3,233,3],[232,4,233,4],[232,7,233,7],[232,8,233,8],[232,9,233,9],[198,1,198,4],[198,5,198,9],[199,0,200,0],[199,1,200,1],[199,2,200,2],[199,3,200,3],[199,4,200,4],[199,7,200,7],[199,8,200,8],[199,9,200,9],[165,1,165,4],[165,5,165,9],[166,0,167,0],[166,1,167,1],[166,2,167,2],[166,3,167,3],[166,4,167,4],[166,7,167,7],[166,8,167,8],[166,9,167,9],[132,1,132,4],[132,5,132,9],[133,0,134,0],[133,1,134,1],[133,2,134,2],[133,3,134,3],[133,4,134,4],[133,7,134,7],[133,8,134,8],[133,9,134,9],[99,1,99,4],[99,5,99,9],[100,0,101,0],[100,1,101,1],[100,2,101,2],[100,3,101,3],[100,4,101,4],[100,7,101,7],[100,8,101,8],[100,9,101,9],[66,1,66,4],[66,5,66,9],[67,0,68,0],[67,1,68,1],[67,2,68,2],[67,3,68,3],[67,4,68,4],[67,7,68,7],[67,8,68,8],[67,9,68,9],[33,1,33,4],[33,5,33,9],[34,0,35,0],[34,1,35,1],[34,2,35,2],[34,3,35,3],[34,4,35,4],[34,7,35,7],[34,8,35,8],[34,9,35,9],[0,1,0,4],[0,5,0,9],[1,0,2,0],[1,1,2,1],[1,2,2,2],[1,3,2,3],[1,4,2,4],[1,7,2,7],[1,8,2,8],[1,9,2,9]]}
[null,"NORTH NORFOLK BASS FESTIVAL 2017",null,null,null,"Day 2  ZONE A"]
["Zone Number","Peg","Name","No. Fish","Total Weight Points","Weight",null,"Optional Pools","Day 2 Points ","Zone Position"]
[null,null,null,null,null,"(lbs)","(ozs)"]
[1,8,"PICKARD, Colin",15,211,4,6.333333333333333,"X",1,1]
[2,9,"CLEMENT, Alby",25,210,4,6,"X",2,2]
[3,3,"SMITH, George",17,177,3,11,"X",3,3]
[4,2,"LAWN, Kimberley",18,173,3,9.6666666666666661,"",4,4]
[5,14,"ADAMS, Becky",12,141,2,15,"",5,5]
[6,1,"LAMBERT, Ian",3,105,2,3,"X",6,6]
[7,12,"DOY, Alan",13,101,2,1.6666666666666667,"X",7,7]
[8,13,"HUTSON, Garry",10,89,1,13.666666666666666,"X",8,8]
[9,5,"LILL, Jarrod",5,73,1,8.3333333333333339,"X",9,9]
[10,10,"SMITH, Adele",4,32,0,10.666666666666666,"X",10,10]
[11,4,"AUSTIN, John",2,14,0,4.666666666666667,"X",11,11]
[12,6,"Empty Peg",0,0,0,0,"",15,15]
[13,7,"Empty Peg",0,0,0,0,"",15,15]
[14,11,"Empty Peg",0,0,0,0,"",15,15]
[15,15,"JONES, Mark",0,0,0,0,"X",15,15]
[16,"","","","","","","","",""]
[17,"","","","","","","","",""]
[18,"","","","","","","","",""]
[19,"","","","","","","","",""]
[20,"","","","","","","","",""]
[21,"","","","","","","","",""]
[22,"","","","","","","","",""]
[23,"","","","","","","","",""]
[24,"","","","","","","","",""]
[25,"","","","","","","","",""]
[26,"","","","","","","","",""]
[27,"","","","","","","","",""]
[28,"","","","","","","","",""]
[29,"","","","","","","","",""]
[30,"","","","","","","","",""]
[null,"NORTH NORFOLK BASS FESTIVAL 2017",null,null,null,"Day 2  ZONE B"]
["Zone Number","Peg","Name","No. Fish","Total Weight Points","Weight",null,"Optional Pools","Day 2 Points ","Zone Position"]
[null,null,null,null,null,"(lbs)","(ozs)"]
[1,26,"NANGLE, Karl",30,283,5,14.333333333333334,"X",1,1]
[2,16,"BUY, Craig",10,246,5,2,"X",2,2]
[3,22,"MILLS, Rodney",16,120,2,8,"X",3,3]
[4,20,"COOPER, Jake",12,120,2,8,"X",4,4]
[5,30,"COOPER, Gary",8,115,2,6.333333333333333,"X",5,5]
[6,29,"MORLEY, Keith",14,98,2,0.66666666666666663,"X",6,6]
[7,25,"TOVELL, Paul",8,82,1,11.333333333333334,"X",7,7]
[8,17,"Empty Peg",0,0,0,0,"",15,15]
[9,18,"Empty Peg",0,0,0,0,"",15,15]
[10,19,"Empty Peg",0,0,0,0,"",15,15]
[11,21,"Empty Peg",0,0,0,0,"",15,15]
[12,23,"Empty Peg",0,0,0,0,"",15,15]
[13,24,"Empty Peg",0,0,0,0,"",15,15]
[14,27,"Empty Peg",0,0,0,0,"",15,15]
[15,28,"Empty Peg",0,0,0,0,"",15,15]
[16,"","","","","","","","",""]
[17,"","","","","","","","",""]
[18,"","","","","","","","",""]
[19,"","","","","","","","",""]
[20,"","","","","","","","",""]
[21,"","","","","","","","",""]
[22,"","","","","","","","",""]
[23,"","","","","","","","",""]
[24,"","","","","","","","",""]
[25,"","","","","","","","",""]
[26,"","","","","","","","",""]
[27,"","","","","","","","",""]
[28,"","","","","","","","",""]
[29,"","","","","","","","",""]
[30,"","","","","","","","",""]
[null,"NORTH NORFOLK BASS FESTIVAL 2017",null,null,null,"Day 2  ZONE C"]
["Zone Number","Peg","Name","No. Fish","Total Weight Points","Weight",null,"Optional Pools","Day 2 Points ","Zone Position"]
[null,null,null,null,null,"(lbs)","(ozs)"]
[1,33,"BURT, Richard",15,298,6,3.3333333333333335,"X",1,1]
[2,32,"ADAMS, Stephen",25,272,5,10.666666666666666,"X",2,2]
[3,34,"LAY-FLURRIE, Matt",18,205,4,4.333333333333333,"X",3,3]
[4,40,"TURNER, Cameron",12,183,3,13,"X",4,4]
[5,45,"GREEN, Kevin",14,134,2,12.666666666666666,"X",5,5]
[6,36,"BROWN, Harry",7,128,2,10.666666666666666,"X",6,6]
[7,44,"CLARKE, James",13,114,2,6,"",7,7]
[8,41,"HINXMAN, Mark",9,80,1,10.666666666666666,"X",8,8]
[9,39,"MILLER, Mark",8,74,1,8.6666666666666661,"X",9,9]
[10,31,"BROCK, Peter",5,54,1,2,"X",10,10]
[11,37,"BIRD, Stacey",4,44,0,14.666666666666666,"X",11,11]
[12,38,"LAWSON, Savannah",4,37,0,12.333333333333334,"",12,12]
[13,35,"SMART, Neil",2,13,0,4.333333333333333,"X",13,13]
[14,42,"KING, Simon",2,13,0,4.333333333333333,"",13,13]
[15,43,"Empty Peg",0,0,0,0,"",15,15]
[16,"","","","","","","","",""]
[17,"","","","","","","","",""]
[18,"","","","","","","","",""]
[19,"","","","","","","","",""]
[20,"","","","","","","","",""]
[21,"","","","","","","","",""]
[22,"","","","","","","","",""]
[23,"","","","","","","","",""]
[24,"","","","","","","","",""]
[25,"","","","","","","","",""]
[26,"","","","","","","","",""]
[27,"","","","","","","","",""]
[28,"","","","","","","","",""]
[29,"","","","","","","","",""]
[30,"","","","","","","","",""]
[null,"NORTH NORFOLK BASS FESTIVAL 2017",null,null,null,"Day 2  ZONE D"]
["Zone Number","Peg","Name","No. Fish","Total Weight Points","Weight",null,"Optional Pools","Day 2 Points ","Zone Position"]
[null,null,null,null,null,"(lbs)","(ozs)"]
[1,50,"KENDRICK, Paul",8,198,4,2,"X",1,1]
[2,51,"PINDER, Mark",11,195,4,1,"X",2,2]
[3,56,"ADAMS, Graham",12,152,3,2.6666666666666665,"X",3,3]
[4,55,"THORPE, Doug",10,131,2,11.666666666666666,"X",4,4]
[5,52,"LAWRENCE, John",10,130,2,11.333333333333334,"X",5,5]
[6,57,"DIAPER, Greg",14,114,2,6,"X",6,6]
[7,47,"HAWARD, Nick",9,114,2,6,"X",7,7]
[8,53,"FRARY, Charlie",9,112,2,5.333333333333333,"X",8,8]
[9,60,"CROSBY, Colin",7,94,1,15.333333333333334,"X",9,9]
[10,46,"ASHWORTH, Paul",7,86,1,12.666666666666666,"X",10,10]
[11,54,"FRARY, June",5,44,0,14.666666666666666,"X",11,11]
[12,49,"CREASEY, Shaun",4,31,0,10.333333333333334,"X",12,12]
[13,58,"HURCOMBE, Mark",4,31,0,10.333333333333334,"X",12,12]
[15,59,"MOORE, Gary",0,0,0,0,"X",15,15]
[14,48,"Empty Peg",0,0,0,0,"",15,15]
[16,"","","","","","","","",""]
[17,"","","","","","","","",""]
[18,"","","","","","","","",""]
[19,"","","","","","","","",""]
[20,"","","","","","","","",""]
[21,"","","","","","","","",""]
[22,"","","","","","","","",""]
[23,"","","","","","","","",""]
[24,"","","","","","","","",""]
[25,"","","","","","","","",""]
[26,"","","","","","","","",""]
[27,"","","","","","","","",""]
[28,"","","","","","","","",""]
[29,"","","","","","","","",""]
[30,"","","","","","","","",""]
[null,"NORTH NORFOLK BASS FESTIVAL 2017",null,null,null,"Day 2  ZONE E"]
["Zone Number","Peg","Name","No. Fish","Total Weight Points","Weight",null,"Optional Pools","Day 2 Points ","Zone Position"]
[null,null,null,null,null,"(lbs)","(ozs)"]
[1,63,"SPALL, Chris",32,490,10,3.3333333333333335,"X",1,1]
[2,64,"CROSBY, Ralf",14,385,8,0.33333333333333331,"X",2,2]
[3,67,"GALLACHER, Andy",37,321,6,11,"X",3,3]
[4,61,"HARVEY, Mark",19,320,6,10.666666666666666,"X",4,4]
[5,66,"BRIGHTON, Tarrick",20,319,6,10.333333333333334,"X",5,5]
[6,70,"FROST, Mattew",27,318,6,10,"X",6,6]
[7,71,"LEE, Martin",28,303,6,5,"X",7,7]
[8,65,"PEARSON, Luke",26,297,6,3,"X",8,8]
[9,72,"LOKE, Peter",22,282,5,14,"X",9,9]
[10,62,"ADAMS, Lee",18,276,5,12,"X",10,10]
[11,73,"EAGLE, Dan",19,251,5,3.6666666666666665,"X",11,11]
[12,75,"COLLIER, Andy",15,192,4,0,"X",12,12]
[13,74,"GIBBS, Tom",12,162,3,6,"X",13,13]
[14,68,"Empty Peg",0,0,0,0,"",15,15]
[15,69,"Empty Peg",0,0,0,0,"",15,15]
[16,"","","","","","","","",""]
[17,"","","","","","","","",""]
[18,"","","","","","","","",""]
[19,"","","","","","","","",""]
[20,"","","","","","","","",""]
[21,"","","","","","","","",""]
[22,"","","","","","","","",""]
[23,"","","","","","","","",""]
[24,"","","","","","","","",""]
[25,"","","","","","","","",""]
[26,"","","","","","","","",""]
[27,"","","","","","","","",""]
[28,"","","","","","","","",""]
[29,"","","","","","","","",""]
[30,"","","","","","","","",""]
[null,"NORTH NORFOLK BASS FESTIVAL 2017",null,null,null,"Day 2  ZONE F"]
["Zone Number","Peg","Name","No. Fish","Total Weight Points","Weight",null,"Optional Pools","Day 2 Points ","Zone Position"]
[null,null,null,null,null,"(lbs)","(ozs)"]
[1,78,"BOWELL, Ian",25,912,19,0,"X",1,1]
[2,79,"GOOCH, Mark",31,439,9,2.3333333333333335,"X",2,2]
[3,89,"RANDELL, Henry",30,374,7,12.666666666666666,"X",3,3]
[4,87,"HADDOCK, Roy",29,350,7,4.666666666666667,"X",4,4]
[5,77,"THOMAS, Tony",17,326,6,12.666666666666666,"X",5,5]
[6,85,"BRADSHAW, Craig",19,229,4,12.333333333333334,"X",6,6]
[7,83,"ALDOUS, David",20,225,4,11,"X",7,7]
[8,82,"MICKELSEN, Jon",13,131,2,11.666666666666666,"X",8,8]
[9,88,"PARROTT, Ade",11,115,2,6.333333333333333,"X",9,9]
[10,76,"BRIERLEY, Luke",11,108,2,4,"",10,10]
[11,86,"BRADSHAW, Daine",8,97,2,0.33333333333333331,"",11,11]
[12,90,"BROWN, Danny",10,95,1,15.666666666666666,"",12,12]
[13,81,"MICKELSEN, Rory",7,68,1,6.666666666666667,"",13,13]
[14,80,"HORE, Malcolm",0,0,0,0,"X",15,15]
[15,84,"WOODS, Graham",0,0,0,0,"X",15,15]
[16,"","","","","","","","",""]
[17,"","","","","","","","",""]
[18,"","","","","","","","",""]
[19,"","","","","","","","",""]
[20,"","","","","","","","",""]
[21,"","","","","","","","",""]
[22,"","","","","","","","",""]
[23,"","","","","","","","",""]
[24,"","","","","","","","",""]
[25,"","","","","","","","",""]
[26,"","","","","","","","",""]
[27,"","","","","","","","",""]
[28,"","","","","","","","",""]
[29,"","","","","","","","",""]
[30,"","","","","","","","",""]
[null,"NORTH NORFOLK BASS FESTIVAL 2017",null,null,null,"Day 2  ZONE G"]
["Zone Number","Peg","Name","No. Fish","Total Weight Points","Weight",null,"Optional Pools","Day 2 Points ","Zone Position"]
[null,null,null,null,null,"(lbs)","(ozs)"]
[1,92,"READ, David",25,430,8,15.333333333333334,"X",1,1]
[2,104,"STEBBINGS, Robert",24,352,7,5.333333333333333,"X",2,2]
[3,96,"SMITH, John",32,335,6,15.666666666666666,"X",3,3]
[4,98,"CHARLESWORTH, Nev",15,335,6,15.666666666666666,"X",4,4]
[5,102,"AKESTER, Jack",24,334,6,15.333333333333334,"X",5,5]
[6,93,"MOLLOY, Adam",35,324,6,12,"",6,6]
[7,105,"MORSE, Peter",23,288,6,0,"X",7,7]
[8,100,"HARRISON, Paul",28,286,5,15.333333333333334,"X",8,8]
[9,103,"SHARMAN, Mark",14,268,5,9.3333333333333339,"X",9,9]
[10,91,"SIBLEY, Jon",18,224,4,10.666666666666666,"",10,10]
[11,95,"HARVEY, John",16,214,4,7.333333333333333,"X",11,11]
[12,101,"TOPPING, Jack",11,139,2,14.333333333333334,"",12,12]
[13,94,"MOLLOY, Iain",11,134,2,12.666666666666666,"X",13,13]
[14,99,"CARTER, John",10,98,2,0.66666666666666663,"X",14,14]
[15,97,"Empty Peg",0,0,0,0,"X",15,15]
[16,"","","","","","","","",""]
[17,"","","","","","","","",""]
[18,"","","","","","","","",""]
[19,"","","","","","","","",""]
[20,"","","","","","","","",""]
[21,"","","","","","","","",""]
[22,"","","","","","","","",""]
[23,"","","","","","","","",""]
[24,"","","","","","","","",""]
[25,"","","","","","","","",""]
[26,"","","","","","","","",""]
[27,"","","","","","","","",""]
[28,"","","","","","","","",""]
[29,"","","","","","","","",""]
[30,"","","","","","","","",""]
[null,"NORTH NORFOLK BASS FESTIVAL 2017",null,null,null,"Day 2  ZONE H"]
["Zone Number","Peg","Name","No. Fish","Total Weight Points","Weight",null,"Optional Pools","Day 2 Points ","Zone Position"]
[null,null,null,null,null,"(lbs)","(ozs)"]
[1,120,"DRAYTON, Simon",30,527,10,15.666666666666666,"X",1,1]
[2,112,"PROVINS, Colin",33,414,8,10,"X",2,2]
[3,119,"TUCK, Rob",27,405,8,7,"X",3,3]
[4,107,"ROPER, Liam",23,354,7,6,"X",4,4]
[5,117,"ELEY, Kevin",26,287,5,15.666666666666666,"X",5,5]
[6,116,"McKENZIE, Brian",23,278,5,12.666666666666666,"X",6,6]
[7,106,"RICHARDSON, Callum",17,278,5,12.666666666666666,"X",7,7]
[8,111,"CRAWFORD, Vince",20,267,5,9,"X",8,8]
[9,108,"GROSSMAN, Martin",17,259,5,6.333333333333333,"X",9,9]
[10,115,"CHAMBERLAIN, Darren",21,245,5,1.6666666666666667,"X",10,10]
[11,109,"BURR, Dave",11,241,5,0.33333333333333331,"X",11,11]
[12,118,"BETTINSON, Charles",11,152,3,2.6666666666666665,"X",12,12]
[13,110,"Empty Peg",0,0,0,0,"",15,15]
[14,113,"Empty Peg",0,0,0,0,"",15,15]
[15,114,"Empty Peg",0,0,0,0,"",15,15]
[16,"","","","","","","","",""]
[17,"","","","","","","","",""]
[18,"","","","","","","","",""]
[19,"","","","","","","","",""]
[20,"","","","","","","","",""]
[21,"","","","","","","","",""]
[22,"","","","","","","","",""]
[23,"","","","","","","","",""]
[24,"","","","","","","","",""]
[25,"","","","","","","","",""]
[26,"","","","","","","","",""]
[27,"","","","","","","","",""]
[28,"","","","","","","","",""]

{"sheet":"Bass Festival","index":7,"n_rows":88,"n_cols":8,"rows_kept":88,"cut":false,"hidden":false,"merged":[[1,7,2,7],[0,1,0,2],[0,3,0,7],[1,0,2,0],[1,1,2,1],[1,2,2,2],[1,3,2,3],[1,4,2,4],[1,5,2,5],[1,6,2,6]]}
[null,"BASS FESTIVAL 2017",null,"Overall - Final Positions"]
["Overall Number","Angler Name","Total No. Fish","Total No. Fish Points","Day 1 Points","Day 2 Points","Total Points","Overall Position"]
[null,{"$error":"#N/A"}]
[1,"DRAYTON, Simon",58,1264,1.0000013563368055,1.0000018964536317,1.9873052527904371,1]
[2,"CLEMENT, Alby",52,2679,1.0000004049779894,2.0000047562425682,2.9731631612205573,2]
[3,"ADAMS, Stephen",71,2676,1.0000004158937974,2.0000036730945823,2.9731730889883798,3]
[4,"BURT, Richard",53,2280,2.0000005044441531,1.0000033540164346,2.9771508584605875,4]
[5,"PINDER, Mark",34,2107,1.0000005229496451,2.0000051253139253,2.9789016482635708,5]
[6,"PROVINS, Colin",60,1988,1.0000006352150521,2.0000024135351047,2.9800630487501567,6]
[7,"NANGLE, Karl",66,1572,2.0000007755785818,1.0000035298270384,2.9842183054056206,7]
[8,"SMITH, George",54,2163,1.0000005034308814,3.0000056442964382,3.9783221477273192,8]
[9,"CROSBY, Ralf",27,1046,3.000001512561826,2.0000025964584305,4.9895171090202561,9]
[10,"LAY-FLURRIE, Matt",43,1766,3.0000006405124098,3.0000048737693734,5.9823025142817832,10]
[11,"BUY, Craig",42,1579,4.0000007500074997,2.0000040633888663,5.9841728133963663,11]
[12,"BOWELL, Ian",39,1381,5.0000021315598753,1.0000010961907373,5.9861542277506121,12]
[13,"BRIGHTON, Tarrick",38,1080,2.0000013137497046,5.00000313283208,6.9891664465817849,13]
[14,"GOOCH, Mark",44,858,5.0000023858945912,2.0000022762969203,6.9913806621915109,14]
[15,"THOMAS, Tony",34,744,2.0000023913719303,5.0000030658858874,6.992531457257817,15]
[16,"ADAMS, Graham",36,1007,5.0000011692624291,3.0000065737575596,7.9899017430199892,16]
[17,"MILLS, Rodney",49,987,5.0000011529636934,3.0000083222370173,7.9900904752007111,17]
[18,"McKENZIE, Brian",45,845,2.0000017629843798,6.0000035941487262,7.9915103571331052,18]
[19,"AKESTER, Jack",39,778,4.0000022514916136,4.0000029918621349,7.9921862433537472,19]
[20,"ELEY, Kevin",44,771,3.0000020653475978,5.0000034811668872,7.9922515465144848,20]
[21,"RANDELL, Henry",44,692,5.0000031432702583,3.0000026716537538,7.9930418149240126,21]
[22,"HUTSON, Garry",39,1781,2.0000005909152687,7.0000112233445568,8.9821628142598247,22]
[23,"SPALL, Chris",48,767,8.0000036080242456,1.0000020394844182,8.9922876475086646,23]
[24,"CHAMBERLAIN, Darren",43,1047,1.0000012465408492,9.0000040781371062,9.9894923246779559,24]
[25,"FROST, Mattew",36,824,4.0000019759331344,6.0000031419863635,9.9917291179194976,25]
[26,"COOPER, Jake",21,821,6.0000014263503969,4.0000083250083254,9.9917787513587211,26]
[27,"LEE, Martin",68,764,3.0000021673168615,7.0000032972830386,9.9922974645998988,27]
[28,"ROPER, Liam",36,767,6.0000024205455906,4.0000028230245883,9.9922992435701801,28]
[29,"ADAMS, Lee",46,760,1.0000020649211201,9.0000036208269965,9.9923596857481165,29]
[30,"READ, David",31,604,9.0000057451453515,1.0000023242300988,9.9939370693754501,30]
[31,"CROSBY, Colin",37,2013,2.0000005210232898,9.000010630381631,10.979844151404921,31]
[32,"LILL, Jarrod",25,1780,3.0000005857544516,8.0000136892539349,10.982189275008386,32]
[33,"HAWARD, Nick",35,1720,4.0000006225642171,7.0000087650100795,10.982774387574295,33]
[34,"DIAPER, Greg",32,1552,5.0000006953232559,6.0000087611704922,10.984457456493748,34]
[35,"COOPER, Gary",29,1551,6.0000006962770067,5.0000086896072293,10.984470385884237,35]
[36,"HARVEY, John",41,1085,2.0000011477761834,9.0000046694060511,10.989114817182235,36]
[37,"THORPE, Doug",39,888,7.0000013204980922,4.0000076277650649,10.991089948263159,37]
[38,"LAMBERT, Ian",12,863,6.0000013191045918,5.000009521089213,10.991368840193806,38]
[39,"GALLACHER, Andy",56,695,8.0000026724391358,3.0000031116781281,10.992999784117263,39]
[40,"STEBBINGS, Robert",45,576,9.0000044601043658,2.000002838973427,10.994202299077793,40]
[41,"ADAMS, Becky",24,478,7.0000029663027998,4.0000070861678001,10.9952060524706,41]
[42,"MICKELSEN, Jon",25,472,3.0000029315196999,8.0000076260199808,10.99526555753968,42]
[43,"KENDRICK, Paul",24,957,11.000001317245376,1.0000050484652665,11.990412365710643,43]
[44,"MORLEY, Keith",33,663,6.0000017693165129,6.0000101895251685,11.993348958841683,44]
[45,"HARRISON, Paul",50,657,6.0000026938203757,6.0000034930836943,11.99338618690407,45]
[46,"GROSSMAN, Martin",25,657,4.0000025120578782,8.000003858471274,11.993411370529152,46]
[47,"HADDOCK, Roy",45,591,8.0000041466246472,4.0000028547774704,11.994052001402117,47]
[48,"PICKARD, Colin",30,547,11.000002974862413,1.0000047359696898,11.994507710832101,48]
[49,"GREEN, Kevin",27,797,8.00000150799994,5.0000074548978679,12.992011962897809,49]
[50,"SHARMAN, Mark",29,648,6.0000026305405765,7.0000037293950923,12.993497359935668,50]
[51,"BRADSHAW, Craig",41,587,7.0000027915805934,6.0000043631921116,12.994096154772706,51]
[52,"SMITH, John",44,580,10.000004079634465,3.0000029822259333,12.994163061860396,52]
[53,"MORSE, Peter",38,481,8.0000051773233238,5.0000034694514799,12.995160646774803,53]
[54,"DOY, Alan",31,1488,8.0000007208869786,6.0000098882626318,13.985099609149611,54]
[55,"ASHWORTH, Paul",27,1144,4.0000009450009451,10.000011618450099,13.988545563451044,55]
[56,"PEARSON, Luke",44,577,6.0000035691341278,8.0000033640584007,13.994192933192528,56]
[57,"BURR, Dave",27,577,4.000002974773917,10.000004147484551,13.994210122258469,57]
[58,"ALDOUS, David",32,543,7.0000031434678736,7.0000044404973361,13.994545583965211,58]
[59,"HARVEY, Mark",30,458,10.000007240605315,4.0000031231456319,13.995400363750946,59]
[60,"HINXMAN, Mark",35,1472,7.000000718256647,8.0000124859533024,14.985258204209948,60]
[61,"HURCOMBE, Mark",29,1238,3.0000008283288464,12.000032216494846,14.987624044823692,61]
[62,"LAWRENCE, John",27,1157,10.000000973548682,5.0000076863950804,14.988411659943763,62]
[63,"AUSTIN, John",18,892,5.0000011387446479,10.000071326676176,14.991134465420824,63]
[64,"BROWN, Harry",27,529,9.000002492522432,6.0000078082298742,14.994693300752306,64]
[65,"SMITH, Adele",26,462,7.0000023243921712,9.0000312109862666,15.995387535378439,65]
[66,"EAGLE, Dan",34,633,7.0000026167735179,10.000003981050201,16.993642597823722,66]
[67,"CLARKE, James",29,504,10.000002563051057,7.0000087619381404,16.994942324989193,67]
[68,"CRAWFORD, Vince",34,430,10.000006129704548,7.0000037425149699,16.995675872219518,68]
[69,"SIBLEY, Jon",33,543,10.000003133322888,8.0000044607012217,17.994544594024113,69]
[70,"GIBBS, Tom",27,424,7.0000038146099559,12.000006168270417,18.995742982880373,70]
[71,"BIRD, Stacey",21,1077,9.0000009678949251,11.000022706630336,19.989232674525258,71]
[72,"CARTER, John",21,456,9.0000027924380781,11.000010193679918,19.995431986117993,72]
[73,"COLLIER, Andy",29,445,9.0000039503831868,11.000005204267499,19.995530154650684,73]
[74,"FRARY, Charlie",27,413,12.00000332027359,8.0000089214024452,19.995855241676036,74]
[75,"CREASEY, Shaun",17,278,8.0000040464532844,12.000032216494846,19.997239262948128,75]
[76,"KING, Simon",11,194,8.0000055221160746,12.000076804915514,19.998131327031587,76]
[77,"MOLLOY, Iain",26,261,11.000007864726701,10.000007456565505,20.997379321292208,77]
[78,"PARROTT, Ade",20,255,12.000007138268256,9.0000086873425413,20.997445825610797,78]
[79,"SMART, Neil",16,179,9.0000060190201037,12.000076804915514,20.998276823935619,79]
[80,"BROCK, Peter",19,704,12.000001538130249,10.000018501387604,21.992961039517851,80]
[81,"BETTINSON, Charles",22,402,11.000003998240775,11.000006574189731,21.995968572430503,81]
[82,"MILLER, Mark",17,269,13.000005125839357,9.0000134989200866,21.99731162475944,82]
[83,"FRARY, June",14,272,14.000004384234293,11.000022701475595,24.997293085709888,83]
[84,"HORE, Malcolm",9,224,11.000004462492749,15,25.997755462492748,84]
[85,"MOORE, Gary",3,258,13.000003875518351,15,27.997420875518355,85]

{"sheet":"Bass Only Day 1","index":8,"n_rows":33,"n_cols":9,"rows_kept":33,"cut":false,"hidden":false,"merged":[[1,8,2,8],[0,0,0,3],[0,4,0,8],[1,0,2,0],[1,1,2,1],[1,2,2,2],[1,3,2,3],[1,4,2,4],[1,5,2,5]]}
["BASS FESTIVAL 2017",null,null,null,"Day 1 (Bass)"]
["Individual No.","Angler Name","Zone","Peg","No. Fish","Fish Points","Weight",null,"Day 1 Position"]
[null,null,null,null,null,null,"lbs","oz"]
[1,"AKESTER, Jack","C",41,4,221,4,9.6666666666666661,1]
[2,"GALLACHER, Andy","C",33,4,220,4,9.3333333333333339,2]
[3,"BRADSHAW, Craig","B",23,3,166,3,7.333333333333333,3]
[4,"McKENZIE, Brian","B",16,2,144,3,0,4]
[5,"READ, David","B",26,1,122,2,8.6666666666666661,5]
[6,"TUCK, Rob","B",22,4,112,2,5.333333333333333,6]
[7,"PINDER, Mark","F",88,1,110,2,4.666666666666667,7]
[8,"HARRISON, Paul","D",60,4,80,1,10.666666666666666,8]
[9,"EAGLE, Dan","C",36,2,62,1,4.666666666666667,9]
[10,"BURT, Richard","G",100,2,62,1,4.666666666666667,9]
[11,"HINXMAN, Mark","H",115,1,59,1,3.6666666666666665,11]
[12,"STEBBINGS, Robert","A",13,3,54,1,2,12]
[13,"MICKELSEN, Jon","A",15,3,52,1,1.3333333333333333,13]
[14,"ELEY, Kevin","C",43,3,52,1,1.3333333333333333,13]
[15,"BRIGHTON, Tarrick","D",58,2,36,0,12,15]
[16,"BUY, Craig","G",104,2,36,0,12,15]
[17,"SIBLEY, Jon","C",42,2,34,0,11.333333333333334,17]
[18,"COLLIER, Andy","D",49,2,34,0,11.333333333333334,17]
[19,"CROSBY, Colin","E",72,2,34,0,11.333333333333334,17]
[20,"SHARMAN, Mark","B",29,1,25,0,8.3333333333333339,20]
[21,"MORSE, Peter","B",25,1,22,0,7.333333333333333,21]
[22,"HARVEY, John","C",32,1,20,0,6.666666666666667,22]
[23,"ROPER, Liam","C",35,1,20,0,6.666666666666667,22]
[24,"DRAYTON, Simon","B",20,1,18,0,6,24]
[25,"CRAWFORD, Vince","B",21,1,18,0,6,24]
[26,"SPALL, Chris","D",46,1,18,0,6,24]
[27,"BOWELL, Ian","D",47,1,18,0,6,24]
[28,"THORPE, Doug","E",74,1,16,0,5.333333333333333,28]
[29,"AUSTIN, John","G",91,1,16,0,5.333333333333333,28]
[30,"SMITH, George","H",107,1,16,0,5.333333333333333,28]

{"sheet":"Bass Only Day 2","index":9,"n_rows":22,"n_cols":9,"rows_kept":22,"cut":false,"hidden":false,"merged":[[1,8,2,8],[0,4,0,8],[1,4,2,4],[1,5,2,5],[0,0,0,3],[1,0,2,0],[1,1,2,1],[1,2,2,2],[1,3,2,3]]}
["BASS FESTIVAL 2017",null,null,null,"Day 2 (Bass)"]
["Individual No.","Angler Name","Zone","Peg","No. Fish","Fish Points","Weight",null,"Day 2 Position"]
[null,null,null,null,null,null,"lbs","oz"]
[1,"BUY, Craig","B",16,1,143,2,15.666666666666666,1]
[2,"KENDRICK, Paul","D",50,2,126,2,10,2]
[3,"PINDER, Mark","D",51,2,99,2,1,3]
[4,"LAMBERT, Ian","A",1,1,92,1,14.666666666666666,4]
[5,"BOWELL, Ian","F",78,2,34,0,11.333333333333334,5]
[6,"FRARY, Charlie","D",53,1,28,0,9.3333333333333339,6]
[7,"ADAMS, Stephen","C",32,1,22,0,7.333333333333333,7]
[8,"BROCK, Peter","C",31,1,20,0,6.666666666666667,8]
[9,"PICKARD, Colin","A",8,1,18,0,6,9]
[10,"NANGLE, Karl","B",26,1,18,0,6,9]
[11,"MORLEY, Keith","B",29,1,18,0,6,9]
[12,"SPALL, Chris","E",63,1,18,0,6,9]
[13,"THOMAS, Tony","F",77,1,18,0,6,9]
[14,"TOVELL, Paul","B",25,1,16,0,5.333333333333333,14]
[15,"LAY-FLURRIE, Matt","C",34,1,16,0,5.333333333333333,14]
[16,"TURNER, Cameron","C",40,1,16,0,5.333333333333333,14]
[17,"CHAMBERLAIN, Darren","H",115,1,16,0,5.333333333333333,14]
[18,"HUTSON, Garry","A",13,1,14,0,4.666666666666667,18]
[19,"ADAMS, Becky","A",14,1,13,0,4.333333333333333,19]

{"sheet":"Non-Bass Day 1","index":10,"n_rows":92,"n_cols":9,"rows_kept":92,"cut":false,"hidden":false,"merged":[[1,8,2,8],[0,0,0,3],[0,4,0,8],[1,0,2,0],[1,1,2,1],[1,2,2,2],[1,3,2,3],[1,4,2,4],[1,5,2,5]]}
["BASS FESTIVAL 2017",null,null,null,"Day 1 (Non-Bass)"]
["Individual No.","Angler Name","Zone","Peg","No. Fish","Fish Points","Weight",null,"Day 1 Position"]
[null,null,null,null,null,null,"lbs","oz"]
[1,"CLEMENT, Alby","G",95,27,2469,51,7,1]
[2,"ADAMS, Stephen","E",64,46,2404,50,1.3333333333333333,2]
[3,"SMITH, George","H",107,36,1970,41,0.66666666666666663,3]
[4,"BURT, Richard","G",100,36,1920,40,0,4]
[5,"CROSBY, Colin","E",72,28,1885,39,4.333333333333333,5]
[6,"PINDER, Mark","F",88,22,1802,37,8.6666666666666661,6]
[7,"TURNER, Cameron","G",99,35,1788,37,4,7]
[8,"LILL, Jarrod","E",66,20,1707,35,9,8]
[9,"HUTSON, Garry","H",109,29,1692,35,4,9]
[10,"HAWARD, Nick","E",71,26,1606,33,7.333333333333333,10]
[11,"PROVINS, Colin","C",40,27,1574,32,12.666666666666666,11]
[12,"LAY-FLURRIE, Matt","H",119,25,1561,32,8.3333333333333339,12]
[13,"TOVELL, Paul","H",111,23,1467,30,9,13]
[14,"DIAPER, Greg","H",117,18,1438,29,15.333333333333334,14]
[15,"COOPER, Gary","H",110,21,1436,29,14.666666666666666,15]
[16,"DOY, Alan","H",112,18,1387,28,14.333333333333334,16]
[17,"HINXMAN, Mark","H",115,25,1333,27,12.333333333333334,17]
[18,"BUY, Craig","G",104,30,1297,27,0.33333333333333331,18]
[19,"NANGLE, Karl","F",84,36,1289,26,13.666666666666666,19]
[20,"HURCOMBE, Mark","F",79,25,1207,25,2.3333333333333335,20]
[21,"ASHWORTH, Paul","F",86,20,1058,22,0.66666666666666663,21]
[22,"BIRD, Stacey","H",120,17,1033,21,8.3333333333333339,22]
[23,"LAWRENCE, John","H",106,17,1027,21,6.333333333333333,23]
[24,"MILLS, Rodney","E",61,33,867,18,1,24]
[25,"AUSTIN, John","G",91,15,862,17,15.333333333333334,25]
[26,"ADAMS, Graham","F",80,24,855,17,13,26]
[27,"HARVEY, John","C",32,24,851,17,11.666666666666666,27]
[28,"CHAMBERLAIN, Darren","D",59,22,802,16,11.333333333333334,28]
[29,"KENDRICK, Paul","H",116,16,759,15,13,29]
[30,"LAMBERT, Ian","E",67,9,758,15,12.666666666666666,30]
[31,"THORPE, Doug","E",74,28,741,15,7,31]
[32,"BRIGHTON, Tarrick","D",58,16,725,15,1.6666666666666667,32]
[33,"DRAYTON, Simon","B",20,27,719,14,15.666666666666666,33]
[34,"COOPER, Jake","F",87,9,701,14,9.6666666666666661,34]
[35,"GREEN, Kevin","E",73,13,663,13,13,35]
[36,"CROSBY, Ralf","D",51,13,661,13,12.333333333333334,36]
[37,"BROCK, Peter","H",118,14,650,13,8.6666666666666661,37]
[38,"MORLEY, Keith","G",105,19,565,11,12.333333333333334,38]
[39,"FROST, Mattew","D",55,9,506,10,8.6666666666666661,39]
[40,"ADAMS, Lee","A",4,28,484,10,1.3333333333333333,40]
[41,"LEE, Martin","B",30,40,461,9,9.6666666666666661,41]
[42,"BOWELL, Ian","D",47,13,451,9,6.333333333333333,42]
[43,"ELEY, Kevin","C",43,15,432,9,0,43]
[44,"SMITH, Adele","G",94,22,430,8,15.333333333333334,44]
[45,"McKENZIE, Brian","B",16,20,423,8,13,45]
[46,"GOOCH, Mark","C",34,13,419,8,11.666666666666666,46]
[47,"THOMAS, Tony","A",7,17,418,8,11.333333333333334,47]
[48,"BROWN, Harry","E",70,20,401,8,5.666666666666667,48]
[49,"GROSSMAN, Martin","B",17,8,398,8,4.666666666666667,49]
[50,"ROPER, Liam","C",35,12,393,8,3,50]
[51,"CLARKE, James","E",63,16,390,8,2,51]
[52,"CARTER, John","C",45,11,358,7,7.333333333333333,52]
[53,"SHARMAN, Mark","B",29,14,355,7,6.333333333333333,53]
[54,"ADAMS, Becky","F",89,12,337,7,0.33333333333333331,54]
[55,"BURR, Dave","A",9,16,336,7,0,55]
[56,"PICKARD, Colin","E",75,15,336,7,0,55]
[57,"EAGLE, Dan","C",36,13,320,6,10.666666666666666,57]
[58,"RANDELL, Henry","A",11,14,318,6,10,58]
[59,"ALDOUS, David","D",52,12,318,6,10,58]
[60,"FRARY, Charlie","E",68,18,301,6,4.333333333333333,60]
[61,"HARRISON, Paul","D",60,18,291,6,1,61]
[62,"MICKELSEN, Jon","A",15,9,289,6,0.33333333333333331,62]
[63,"SIBLEY, Jon","C",42,13,285,5,15,63]
[64,"TUCK, Rob","B",22,21,282,5,14,64]
[65,"PEARSON, Luke","A",5,18,280,5,13.333333333333334,65]
[66,"GIBBS, Tom","A",8,15,262,5,7.333333333333333,66]
[67,"SPALL, Chris","D",46,15,259,5,6.333333333333333,67]
[68,"MOORE, Gary","E",62,3,258,5,6,68]
[69,"BETTINSON, Charles","C",31,11,250,5,3.3333333333333335,69]
[70,"CREASEY, Shaun","G",92,13,247,5,2.3333333333333335,70]
[71,"SMITH, John","D",50,12,245,5,1.6666666666666667,71]
[72,"HADDOCK, Roy","A",12,16,241,5,0.33333333333333331,72]
[73,"WOODS, Graham","C",44,12,231,4,13,73]
[74,"FRARY, June","E",69,9,228,4,12,74]
[75,"HORE, Malcolm","D",57,9,224,4,10.666666666666666,75]
[76,"AKESTER, Jack","C",41,11,223,4,10.333333333333334,76]
[77,"COLLIER, Andy","D",49,12,219,4,9,77]
[78,"MILLER, Mark","H",114,9,195,4,1,78]
[79,"BRADSHAW, Craig","B",23,19,192,4,0,79]
[80,"KING, Simon","F",83,9,181,3,12.333333333333334,80]
[81,"MORSE, Peter","B",25,14,171,3,9,81]
[82,"STEBBINGS, Robert","A",13,18,170,3,8.6666666666666661,82]
[83,"SMART, Neil","F",78,14,166,3,7.333333333333333,83]
[84,"GALLACHER, Andy","C",33,15,154,3,3.3333333333333335,84]
[85,"CRAWFORD, Vince","B",21,13,145,3,0.33333333333333331,85]
[86,"PARROTT, Ade","D",48,9,140,2,14.666666666666666,86]
[87,"HARVEY, Mark","A",1,11,138,2,14,87]
[88,"MOLLOY, Iain","B",19,15,127,2,10.333333333333334,88]
[89,"READ, David","B",26,5,52,1,1.3333333333333333,89]

{"sheet":"Non-Bass Day 2","index":11,"n_rows":90,"n_cols":9,"rows_kept":90,"cut":false,"hidden":false,"merged":[[1,8,2,8],[0,4,0,8],[1,4,2,4],[1,5,2,5],[0,0,0,3],[1,0,2,0],[1,1,2,1],[1,2,2,2],[1,3,2,3]]}
["BASS FESTIVAL 2016",null,null,null,"Day 2 (Non-Bass)"]
["Individual No.","Angler Name","Zone","Peg","No. Fish","Fish Points","Weight",null,"Day 2 Position"]
[null,null,null,null,null,null,"lbs","oz"]
[1,"BOWELL, Ian","F",78,23,878,18,4.666666666666667,1]
[2,"DRAYTON, Simon","H",120,30,527,10,15.666666666666666,2]
[3,"SPALL, Chris","E",63,31,472,9,13.333333333333334,3]
[4,"GOOCH, Mark","F",79,31,439,9,2.3333333333333335,4]
[5,"READ, David","G",92,25,430,8,15.333333333333334,5]
[6,"PROVINS, Colin","H",112,33,414,8,10,6]
[7,"TUCK, Rob","H",119,27,405,8,7,7]
[8,"CROSBY, Ralf","E",64,14,385,8,0.33333333333333331,8]
[9,"RANDELL, Henry","F",89,30,374,7,12.666666666666666,9]
[10,"ROPER, Liam","H",107,23,354,7,6,10]
[11,"STEBBINGS, Robert","G",104,24,352,7,5.333333333333333,11]
[12,"HADDOCK, Roy","F",87,29,350,7,4.666666666666667,12]
[13,"SMITH, John","G",96,32,335,6,15.666666666666666,13]
[14,"AKESTER, Jack","G",102,24,334,6,15.333333333333334,14]
[15,"GALLACHER, Andy","E",67,37,321,6,11,15]
[16,"HARVEY, Mark","E",61,19,320,6,10.666666666666666,16]
[17,"BRIGHTON, Tarrick","E",66,20,319,6,10.333333333333334,17]
[18,"FROST, Mattew","E",70,27,318,6,10,18]
[19,"THOMAS, Tony","F",77,16,308,6,6.666666666666667,19]
[20,"LEE, Martin","E",71,28,303,6,5,20]
[21,"BURT, Richard","C",33,15,298,6,3.3333333333333335,21]
[22,"PEARSON, Luke","E",65,26,297,6,3,22]
[23,"MORSE, Peter","G",105,23,288,6,0,23]
[24,"ELEY, Kevin","H",117,26,287,5,15.666666666666666,24]
[25,"HARRISON, Paul","G",100,28,286,5,15.333333333333334,25]
[26,"LOKE, Peter","E",72,22,282,5,14,26]
[27,"McKENZIE, Brian","H",116,23,278,5,12.666666666666666,27]
[28,"ADAMS, Lee","E",62,18,276,5,12,28]
[29,"SHARMAN, Mark","G",103,14,268,5,9.3333333333333339,29]
[30,"CRAWFORD, Vince","H",111,20,267,5,9,30]
[31,"NANGLE, Karl","B",26,29,265,5,8.3333333333333339,31]
[32,"GROSSMAN, Martin","H",108,17,259,5,6.333333333333333,32]
[33,"EAGLE, Dan","E",73,19,251,5,3.6666666666666665,33]
[34,"ADAMS, Stephen","C",32,24,250,5,3.3333333333333335,34]
[35,"BURR, Dave","H",109,11,241,5,0.33333333333333331,35]
[36,"BRADSHAW, Craig","F",85,19,229,4,12.333333333333334,36]
[37,"CHAMBERLAIN, Darren","H",115,20,229,4,12.333333333333334,37]
[38,"ALDOUS, David","F",83,20,225,4,11,38]
[39,"SIBLEY, Jon","G",91,18,224,4,10.666666666666666,39]
[40,"HARVEY, John","G",95,16,214,4,7.333333333333333,40]
[41,"CLEMENT, Alby","A",9,25,210,4,6,41]
[42,"PICKARD, Colin","A",8,14,193,4,0.33333333333333331,42]
[43,"COLLIER, Andy","E",75,15,192,4,0,43]
[44,"LAY-FLURRIE, Matt","C",34,17,189,3,15,44]
[45,"SMITH, George","A",3,17,177,3,11,45]
[46,"TURNER, Cameron","C",40,11,167,3,7.666666666666667,46]
[47,"GIBBS, Tom","E",74,12,162,3,6,47]
[48,"ADAMS, Graham","D",56,12,152,3,2.6666666666666665,48]
[49,"BETTINSON, Charles","H",118,11,152,3,2.6666666666666665,48]
[50,"GREEN, Kevin","C",45,14,134,2,12.666666666666666,50]
[51,"MOLLOY, Iain","G",94,11,134,2,12.666666666666666,50]
[52,"THORPE, Doug","D",55,10,131,2,11.666666666666666,52]
[53,"MICKELSEN, Jon","F",82,13,131,2,11.666666666666666,52]
[54,"LAWRENCE, John","D",52,10,130,2,11.333333333333334,54]
[55,"BROWN, Harry","C",36,7,128,2,10.666666666666666,55]
[56,"ADAMS, Becky","A",14,11,128,2,10.666666666666666,56]
[57,"COOPER, Jake","B",20,12,120,2,8,57]
[58,"MILLS, Rodney","B",22,16,120,2,8,57]
[59,"COOPER, Gary","B",30,8,115,2,6.333333333333333,59]
[60,"PARROTT, Ade","F",88,11,115,2,6.333333333333333,59]
[61,"CLARKE, James","C",44,13,114,2,6,61]
[62,"HAWARD, Nick","D",47,9,114,2,6,61]
[63,"DIAPER, Greg","D",57,14,114,2,6,61]
[64,"BUY, Craig","B",16,9,103,2,2.3333333333333335,64]
[65,"DOY, Alan","A",12,13,101,2,1.6666666666666667,65]
[66,"CARTER, John","G",99,10,98,2,0.66666666666666663,66]
[67,"PINDER, Mark","D",51,9,96,2,0,67]
[68,"CROSBY, Colin","D",60,7,94,1,15.333333333333334,68]
[69,"ASHWORTH, Paul","D",46,7,86,1,12.666666666666666,69]
[70,"FRARY, Charlie","D",53,8,84,1,12,70]
[71,"HINXMAN, Mark","C",41,9,80,1,10.666666666666666,71]
[72,"MORLEY, Keith","B",29,13,80,1,10.666666666666666,72]
[73,"HUTSON, Garry","A",13,9,75,1,9,73]
[74,"MILLER, Mark","C",39,8,74,1,8.6666666666666661,74]
[75,"LILL, Jarrod","A",5,5,73,1,8.3333333333333339,75]
[76,"KENDRICK, Paul","D",50,6,72,1,8,76]
[77,"TOVELL, Paul","B",25,7,66,1,6,77]
[78,"BIRD, Stacey","C",37,4,44,0,14.666666666666666,78]
[79,"FRARY, June","D",54,5,44,0,14.666666666666666,78]
[80,"BROCK, Peter","C",31,4,34,0,11.333333333333334,80]
[81,"SMITH, Adele","A",10,4,32,0,10.666666666666666,81]
[82,"CREASEY, Shaun","D",49,4,31,0,10.333333333333334,82]
[83,"HURCOMBE, Mark","D",58,4,31,0,10.333333333333334,82]
[84,"AUSTIN, John","A",4,2,14,0,4.666666666666667,84]
[85,"SMART, Neil","C",35,2,13,0,4.333333333333333,85]
[86,"KING, Simon","C",42,2,13,0,4.333333333333333,85]
[87,"LAMBERT, Ian","A",1,2,13,0,4.333333333333333,87]

{"sheet":"Ladies Champs. ","index":12,"n_rows":8,"n_cols":8,"rows_kept":8,"cut":false,"hidden":false,"merged":[[1,7,2,7],[0,1,0,2],[0,3,0,7],[1,0,2,0],[1,1,2,1],[1,2,2,2],[1,3,2,3],[1,4,2,4],[1,5,2,5],[1,6,2,6]]}
[null,"UK LADIES CHAMPIONSHIPS 2017",null,"Overall - Final Positions"]
["Overall Number","Angler Name","Total No. Fish","Total No. Fish Points","Day 1 Points","Day 2 Points","Total Points","Overall Position"]
[null,{"$error":"#N/A"}]
[1,"LAWN, Kimberley",38,505,2.0000030102347983,1.0000057743388382,2.9949207845736363,1]
[2,"ADAMS, Becky",24,478,1.0000029663028003,2.0000070861678005,3.0000100524706008,2]
[3,"SMITH, Adele",26,462,1.0000023243921714,5.0000312109862675,5.9953875353784385,3]
[4,"FRARY, June",14,272,3.0000043842342934,3.0000227014755958,5.9972930857098889,4]
[5,"LAWSON, Savannah",6,136,2.0000100989699052,4.0000269978401723,5.9986710968100772,5]

{"sheet":"Ladies Day 1","index":13,"n_rows":10,"n_cols":8,"rows_kept":10,"cut":false,"hidden":false,"merged":[[0,0,0,1],[0,2,0,7],[1,0,2,0],[1,1,2,1],[1,2,2,2],[1,3,2,3],[1,6,2,6],[1,7,2,7]]}
["UK LADIES CHAMPIONSHIPS 2017",null,"Day 1 (Individuals)"]
["Angler Name","Peg","No. Fish","Fish Points","Weight",null,"Day 1 Points","Day 1 Position"]
[null,null,null,null,"lbs","oz"]
["SMITH, Adele",94,22,430,8,15.333333333333334,1,1]
["ADAMS, Becky",89,12,337,7,0.33333333333333331,2,2]
["LAWN, Kimberley",85,20,332,6,14.666666666666666,3,3]
["BROWN, Kay",101,12,290,6,0.66666666666666663,4,4]
["FRARY, June",69,9,228,4,12,5,5]
["LAWSON, Savannah",113,2,99,2,1,6,6]
["METCALFE, Wendy",97,0,0,0,0,7,7]

{"sheet":"Ladies Day 2","index":14,"n_rows":8,"n_cols":8,"rows_kept":8,"cut":false,"hidden":false,"merged":[[0,0,0,1],[0,2,0,7],[1,0,2,0],[1,1,2,1],[1,2,2,2],[1,3,2,3],[1,6,2,6],[1,7,2,7]]}
["UK LADIES CHAMPIONSHIPS 2017",null,"Day 2 (Individuals)"]
["Angler Name","Peg","No. Fish","Fish Points","Weight",null,"Day 2 Points","Day 2 Position"]
[null,null,null,null,"lbs","oz"]
["LAWN, Kimberley",2,18,173,3,9.6666666666666661,1,1]
["ADAMS, Becky",14,12,141,2,15,2,2]
["FRARY, June",54,5,44,0,14.666666666666666,3,3]
["LAWSON, Savannah",38,4,37,0,12.333333333333334,4,4]
["SMITH, Adele",10,4,32,0,10.666666666666666,5,5]

{"sheet":"Juniors ","index":15,"n_rows":9,"n_cols":9,"rows_kept":9,"cut":false,"hidden":false,"merged":[[1,0,2,0],[1,1,2,1],[1,2,2,2],[1,3,2,3],[1,4,2,4],[0,1,0,3],[0,4,0,8],[1,5,2,5],[1,6,2,6],[1,7,2,7],[1,8,2,8]]}
[null,"NORTH NORFOLK JUNIORS TOURNAMENT 2017",null,null,"Overall - Final Positions"]
["Overall Number","Angler Name","Angler No","Total No. Fish","Total No. Fish Points","Day 1 Points","Day 2 Points","Total Points","Overall Position"]
[null,{"$error":"#N/A"}]
[1,"MOLLOY, Adam",75,59,623,2,1,3,1]
[2,"BRADSHAW, Daine",14,23,573,1,4,5,2]
[3,"BRIERLEY, Luke",15,25,343,4,3,7,3]
[4,"TOPPING, Jack",100,24,281,5,2,7,3]
[5,"BROWN, Danny",18,23,342,3,5,8,5]
[6,"MICKELSEN, Rory",72,8,177,6,6,12,6]

{"sheet":"Juniors Day 1","index":16,"n_rows":9,"n_cols":9,"rows_kept":9,"cut":false,"hidden":false,"merged":[[0,1,0,3],[0,4,0,8],[1,4,2,4],[1,5,2,5],[1,0,2,0],[1,1,2,1],[1,2,2,2],[1,3,2,3],[1,8,2,8]]}
[null,"NORTH NORFOLK JUNIORS TOURNAMENT 2017",null,null,"Day 1 (Juniors)"]
["Individual No.","Angler Name","Zone","Peg","No. Fish","Fish Points","Weight",null,"Day 1 Position"]
[null,null,null,null,null,null,"lbs","oz"]
[1,"BRADSHAW, Daine","B",24,15,476,9,14.666666666666666,1]
[2,"MOLLOY, Adam","B",18,24,299,6,3.6666666666666665,2]
[3,"BROWN, Danny","A",10,13,247,5,2.3333333333333335,3]
[4,"BRIERLEY, Luke","A",6,14,235,4,14.333333333333334,4]
[5,"TOPPING, Jack","B",28,13,142,2,15.333333333333334,5]
[6,"MICKELSEN, Rory","A",14,1,109,2,4.333333333333333,6]

{"sheet":"Juniors Day 2","index":17,"n_rows":9,"n_cols":9,"rows_kept":9,"cut":false,"hidden":false,"merged":[[0,1,0,3],[0,4,0,8],[1,4,2,4],[1,5,2,5],[1,0,2,0],[1,1,2,1],[1,2,2,2],[1,3,2,3],[1,8,2,8]]}
[null,"NORTH NORFOLK JUNIORS TOURNAMENT 2017",null,null,"Day 2 (Juniors)"]
["Individual No.","Angler Name","Zone","Peg","No. Fish","Fish Points","Weight",null,"Day 2 Position"]
[null,null,null,null,null,null,"lbs","oz"]
[1,"MOLLOY, Adam","G",93,35,324,6,12,1]
[2,"TOPPING, Jack","G",101,11,139,2,14.333333333333334,2]
[3,"BRIERLEY, Luke","F",76,11,108,2,4,3]
[4,"BRADSHAW, Daine","F",86,8,97,2,0.33333333333333331,4]
[5,"BROWN, Danny","F",90,10,95,1,15.666666666666666,5]
[6,"MICKELSEN, Rory","F",81,7,68,1,6.666666666666667,6]

{"sheet":"Heaviest Bass","index":18,"n_rows":31,"n_cols":10,"rows_kept":31,"cut":false,"hidden":false,"merged":[[29,2,30,9],[0,2,0,4],[0,5,0,9],[1,9,2,9],[1,0,2,0],[1,1,2,1],[1,2,2,2],[1,3,2,3],[1,4,2,4],[1,5,2,5],[1,8,2,8]]}
[null,null,"NORTH NORFOLK BASS FESTIVAL 2017",null,null,"Overall Heaviest Bass"]
["Overall Number","Individual No.","Angler Name","Angler No.","Peg","Fish Points","Weight",null,"Day","Position"]
[null,null,null,null,null,null,"lbs","oz"]
[1,1,"GALLACHER, Andy","43-1",33,166,3,7.333333333333333,"Day 1",1]
[2,2,"AKESTER, Jack","5-1",41,166,3,7.333333333333333,"Day 1",1]
[3,3,"BUY, Craig","23-2",16,143,2,15.666666666666666,"Day 2",3]
[4,4,"BRADSHAW, Craig","13-1",23,136,2,13.333333333333334,"Day 1",4]
[5,5,"READ, David","87-1",26,122,2,8.6666666666666661,"Day 1",5]
[6,6,"PINDER, Mark","84-1",88,110,2,4.666666666666667,"Day 1",6]
[7,7,"KENDRICK, Paul","59-2",50,110,2,4.666666666666667,"Day 2",6]
[8,8,"McKENZIE, Brian","69-1",16,104,2,2.6666666666666665,"Day 1",8]
[9,9,"LAMBERT, Ian","61-2",1,92,1,14.666666666666666,"Day 2",9]
[10,10,"TUCK, Rob","103-1",22,59,1,3.6666666666666665,"Day 1",10]
[11,11,"HINXMAN, Mark","53-1",115,59,1,3.6666666666666665,"Day 1",10]
[12,12,"PINDER, Mark","84-2",51,59,1,3.6666666666666665,"Day 2",10]
[13,13,"EAGLE, Dan","38-1",36,40,0,13.333333333333334,"Day 1",13]
[14,14,"BURT, Richard","22-1",100,40,0,13.333333333333334,"Day 1",13]
[15,15,"STEBBINGS, Robert","96-1",13,38,0,12.666666666666666,"Day 1",15]
[16,16,"SHARMAN, Mark","89-1",29,25,0,8.3333333333333339,"Day 1",16]
[17,17,"MORSE, Peter","79-1",25,22,0,7.333333333333333,"Day 1",17]
[18,18,"HARRISON, Paul","49-1",60,22,0,7.333333333333333,"Day 1",17]
[19,19,"MICKELSEN, Jon","71-1",15,20,0,6.666666666666667,"Day 1",19]
[20,20,"TOPPING, Mike","101-1",27,20,0,6.666666666666667,"Day 1",19]
[21,21,"ROPER, Liam","88-1",35,20,0,6.666666666666667,"Day 1",19]
[22,22,"ELEY, Kevin","39-1",43,20,0,6.666666666666667,"Day 1",19]
[23,23,"DRAYTON, Simon","37-1",20,18,0,6,"Day 1",23]
[24,24,"TOPPING, Jack","100-1",28,18,0,6,"Day 1",23]
[25,25,"MOLLOY, Adam","75-1",18,16,0,5.333333333333333,"Day 1",25]
[26,26,"BRADSHAW, Daine","14-1",24,15,0,5,"Day 1",26]
[27,27,"( REMAINING 59 BASS NOT RECORDED )"]
[28,28]

{"sheet":"Heaviest Flat Day 1","index":19,"n_rows":23,"n_cols":8,"rows_kept":23,"cut":false,"hidden":false,"merged":[[1,0,2,0],[1,1,2,1],[1,2,2,2],[1,3,2,3],[0,1,0,2],[0,3,0,7],[1,6,2,6],[1,7,2,7]]}
[null,"BASS FESTIVAL 2017",null,"Day 1 - Heaviest Flat"]
["Individual No.","Angler Name","Peg","Fish Points","Weight",null,"Species","Day 1 Position"]
[null,null,null,null,"lbs","oz"]
[1,"RANDELL, Henry",11,60,1,4,"Flounder",1]
[2,"CARTER, John",45,56,1,2.6666666666666665,"Flounder",2]
[3,"SMITH, John",50,52,1,1.3333333333333333,"Flounder",3]
[4,"HUTSON, Garry",109,52,1,1.3333333333333333,"Flounder",3]
[5,"ADAMS, Stephen",64,48,1,0,"Flounder",5]
[6,"PEARSON, Luke",5,44,0,14.666666666666666,"Flounder",6]
[7,"BETTINSON, Charles",31,44,0,14.666666666666666,"Flounder",6]
[8,"PICKARD, Colin",75,44,0,14.666666666666666,"Flounder",6]
[9,"CREASEY, Shaun",92,44,0,14.666666666666666,"Flounder",6]
[10,"DIAPER, Greg",117,44,0,14.666666666666666,"Flounder",6]
[11,"SHARMAN, Mark",29,40,0,13.333333333333334,"Flounder",11]
[12,"EAGLE, Dan",36,40,0,13.333333333333334,"Flounder",11]
[13,"CROSBY, Ralf",51,40,0,13.333333333333334,"Flounder",11]
[14,"CHAMBERLAIN, Darren",59,40,0,13.333333333333334,"Flounder",11]
[15,"THOMAS, Tony",7,36,0,12,"Flounder",15]
[16,"PROVINS, Colin",40,36,0,12,"Flounder",15]
[17,"TUCK, Rob",22,32,0,10.666666666666666,"Flounder",17]
[18,"ADAMS, Graham",80,30,0,10,"Flounder",18]
[19,"BURR, Dave",9,24,0,8,"Flounder",19]
[20,"MORSE, Peter",25,21,0,7,"Flounder",20]

{"sheet":"Heaviest Flat Day 2","index":20,"n_rows":13,"n_cols":8,"rows_kept":13,"cut":false,"hidden":false,"merged":[[1,0,2,0],[1,1,2,1],[1,2,2,2],[1,3,2,3],[0,1,0,2],[0,3,0,7],[1,6,2,6],[1,7,2,7]]}
[null,"BASS FESTIVAL 2017",null,"Day 2 - Heaviest Flat"]
["Individual No.","Angler Name","Peg","Fish Points","Weight",null,"Species","Day 2 Position"]
[null,null,null,null,"lbs","oz"]
[1,"GIBBS, Tom",74,48,1,0,"Flounder",1]
[2,"LOKE, Peter",72,44,0,14.666666666666666,"Dab",2]
[3,"PEARSON, Luke",65,40,0,13.333333333333334,"Flounder",3]
[4,"LEE, Martin",71,40,0,13.333333333333334,"Flounder",3]
[5,"SMITH, John",96,40,0,13.333333333333334,"Dab",3]
[6,"COOPER, Gary",30,36,0,12,"Flounder",6]
[7,"THORPE, Doug",55,36,0,12,"Flounder",6]
[8,"MORSE, Peter",105,36,0,12,"Flounder",6]
[9,"PROVINS, Colin",112,36,0,12,"Dab",6]
[10,"BURT, Richard",33,32,0,10.666666666666666,"Flounder",10]

{"sheet":"Heaviest Catch","index":21,"n_rows":151,"n_cols":10,"rows_kept":151,"cut":false,"hidden":false,"merged":[[0,2,0,4],[0,5,0,9],[1,0,2,0],[1,1,2,1],[1,2,2,2],[1,3,2,3],[1,4,2,4],[1,5,2,5],[1,8,2,8],[1,9,2,9]]}
[null,null,"NORTH NORFOLK BASS FESTIVAL 2017",null,null,"Overall Heaviest Catch"]
["Overall Number","Individual No.","Angler Name","Angler No.","Peg","Fish Points","Weight",null,"Day","Position"]
[null,null,null,null,null,null,"lbs","oz"]
[3,3,"CLEMENT, Alby","27-1",95,2469,51,7,"Day 1",1]
[4,4,"ADAMS, Stephen","4-1",64,2404,50,1.3333333333333333,"Day 1",2]
[5,5,"SMITH, George","93-1",107,1986,41,6,"Day 1",3]
[6,6,"BURT, Richard","22-1",100,1982,41,4.666666666666667,"Day 1",4]
[7,7,"CROSBY, Colin","33-1",72,1919,39,15.666666666666666,"Day 1",5]
[8,8,"PINDER, Mark","84-1",88,1912,39,13.333333333333334,"Day 1",6]
[9,9,"TURNER, Cameron","104-1",99,1788,37,4,"Day 1",7]
[10,10,"LILL, Jarrod","67-1",66,1707,35,9,"Day 1",8]
[11,11,"HUTSON, Garry","57-1",109,1692,35,4,"Day 1",9]
[12,12,"HAWARD, Nick","52-1",71,1606,33,7.333333333333333,"Day 1",10]
[13,13,"PROVINS, Colin","85-1",40,1574,32,12.666666666666666,"Day 1",11]
[14,14,"LAY-FLURRIE, Matt","65-1",119,1561,32,8.3333333333333339,"Day 1",12]
[15,15,"TOVELL, Paul","102-1",111,1467,30,9,"Day 1",13]
[16,16,"DIAPER, Greg","35-1",117,1438,29,15.333333333333334,"Day 1",14]
[17,17,"COOPER, Gary","29-1",110,1436,29,14.666666666666666,"Day 1",15]
[18,18,"HINXMAN, Mark","53-1",115,1392,29,0,"Day 1",16]
[19,19,"DOY, Alan","36-1",112,1387,28,14.333333333333334,"Day 1",17]
[20,20,"BUY, Craig","23-1",104,1333,27,12.333333333333334,"Day 1",18]
[21,21,"NANGLE, Karl","80-1",84,1289,26,13.666666666666666,"Day 1",19]
[22,22,"HURCOMBE, Mark","56-1",79,1207,25,2.3333333333333335,"Day 1",20]
[23,23,"ASHWORTH, Paul","8-1",86,1058,22,0.66666666666666663,"Day 1",21]
[24,24,"BIRD, Stacey","11-1",120,1033,21,8.3333333333333339,"Day 1",22]
[25,25,"LAWRENCE, John","63-1",106,1027,21,6.333333333333333,"Day 1",23]
[26,26,"BOWELL, Ian","12-2",78,912,19,0,"Day 2",24]
[27,27,"AUSTIN, John","9-1",91,878,18,4.666666666666667,"Day 1",25]
[28,28,"HARVEY, John","50-1",32,871,18,2.3333333333333335,"Day 1",26]
[29,29,"MILLS, Rodney","74-1",61,867,18,1,"Day 1",27]
[30,30,"ADAMS, Graham","2-1",80,855,17,13,"Day 1",28]
[31,31,"CHAMBERLAIN, Darren","25-1",59,802,16,11.333333333333334,"Day 1",29]
[32,32,"BRIGHTON, Tarrick","16-1",58,761,15,13.666666666666666,"Day 1",30]
[33,33,"KENDRICK, Paul","59-1",116,759,15,13,"Day 1",31]
[34,34,"LAMBERT, Ian","61-1",67,758,15,12.666666666666666,"Day 1",32]
[35,35,"THORPE, Doug","99-1",74,757,15,12.333333333333334,"Day 1",33]
[36,36,"DRAYTON, Simon","37-1",20,737,15,5.666666666666667,"Day 1",34]
[37,37,"COOPER, Jake","30-1",87,701,14,9.6666666666666661,"Day 1",35]
[38,38,"GREEN, Kevin","46-1",73,663,13,13,"Day 1",36]
[39,39,"CROSBY, Ralf","34-1",51,661,13,12.333333333333334,"Day 1",37]
[40,40,"BROCK, Peter","17-1",118,650,13,8.6666666666666661,"Day 1",38]
[41,41,"ALLISON, Ivan","7-1",108,612,12,12,"Day 1",39]
[42,42,"McKENZIE, Brian","69-1",16,567,11,13,"Day 1",40]
[43,43,"MORLEY, Keith","78-1",105,565,11,12.333333333333334,"Day 1",41]
[44,44,"DRAYTON, Simon","37-2",120,527,10,15.666666666666666,"Day 2",42]
[45,45,"FROST, Mattew","42-1",55,506,10,8.6666666666666661,"Day 1",43]
[46,46,"SPALL, Chris","95-2",63,490,10,3.3333333333333335,"Day 2",44]
[47,47,"ADAMS, Lee","3-1",4,484,10,1.3333333333333333,"Day 1",45]
[48,48,"ELEY, Kevin","39-1",43,484,10,1.3333333333333333,"Day 1",46]
[49,49,"BRADSHAW, Daine","14-1",24,476,9,14.666666666666666,"Day 1",47]
[50,50,"BOWELL, Ian","12-1",47,469,9,12.333333333333334,"Day 1",47]
[51,51,"LEE, Martin","66-1",30,461,9,9.6666666666666661,"Day 1",49]
[52,52,"AKESTER, Jack","5-1",41,444,9,4,"Day 1",50]
[53,53,"GOOCH, Mark","45-2",79,439,9,2.3333333333333335,"Day 2",51]
[54,54,"SMITH, Adele","92-1",94,430,8,15.333333333333334,"Day 1",52]
[55,55,"READ, David","87-2",92,430,8,15.333333333333334,"Day 2",53]
[56,56,"GOOCH, Mark","45-1",34,419,8,11.666666666666666,"Day 1",54]
[57,57,"THOMAS, Tony","98-1",7,418,8,11.333333333333334,"Day 1",54]
[58,58,"PROVINS, Colin","85-2",112,414,8,10,"Day 2",56]
[59,59,"ROPER, Liam","88-1",35,413,8,9.6666666666666661,"Day 1",57]
[60,60,"TUCK, Rob","103-2",119,405,8,7,"Day 2",58]
[61,61,"BROWN, Harry","19-1",70,401,8,5.666666666666667,"Day 1",59]
[62,62,"GROSSMAN, Martin","47-1",17,398,8,4.666666666666667,"Day 1",60]
[63,63,"TUCK, Rob","103-1",22,394,8,3.3333333333333335,"Day 1",61]
[64,64,"CLARKE, James","26-1",63,390,8,2,"Day 1",62]
[65,65,"CROSBY, Ralf","34-2",64,385,8,0.33333333333333331,"Day 2",63]
[66,66,"EAGLE, Dan","38-1",36,382,7,15.333333333333334,"Day 1",64]
[67,67,"SHARMAN, Mark","89-1",29,380,7,14.666666666666666,"Day 1",65]
[68,68,"GALLACHER, Andy","43-1",33,374,7,12.666666666666666,"Day 1",66]
[69,69,"RANDELL, Henry","86-2",89,374,7,12.666666666666666,"Day 2",67]
[70,70,"HARRISON, Paul","49-1",60,371,7,11.666666666666666,"Day 1",68]
[71,71,"BRADSHAW, Craig","13-1",23,358,7,7.333333333333333,"Day 1",68]
[72,72,"CARTER, John","24-1",45,358,7,7.333333333333333,"Day 1",70]
[73,73,"ROPER, Liam","88-2",107,354,7,6,"Day 2",71]
[74,74,"STEBBINGS, Robert","96-2",104,352,7,5.333333333333333,"Day 2",71]
[75,75,"HADDOCK, Roy","48-2",87,350,7,4.666666666666667,"Day 2",73]
[76,76,"MICKELSEN, Jon","71-1",15,341,7,1.6666666666666667,"Day 1",74]
[77,77,"TEMPLE, Billy","97-1",56,338,7,0.66666666666666663,"Day 1",75]
[78,78,"ADAMS, Becky","1-1",89,337,7,0.33333333333333331,"Day 1",76]
[79,79,"BURR, Dave","21-1",9,336,7,0,"Day 1",77]
[80,80,"PICKARD, Colin","83-1",75,336,7,0,"Day 1",78]
[81,81,"SMITH, John","94-2",96,335,6,15.666666666666666,"Day 2",79]
[82,82,"CHARLESWORTH, Nev","108-2",98,335,6,15.666666666666666,"Day 2",79]
[83,83,"AKESTER, Jack","5-2",102,334,6,15.333333333333334,"Day 2",81]
[84,84,"LAWN, Kimberley","62-1",85,332,6,14.666666666666666,"Day 1",81]
[85,85,"THOMAS, Tony","98-2",77,326,6,12.666666666666666,"Day 2",83]
[86,86,"MOLLOY, Adam","75-2",93,324,6,12,"Day 2",84]
[87,87,"GALLACHER, Andy","43-2",67,321,6,11,"Day 2",85]
[88,88,"HARVEY, Mark","51-2",61,320,6,10.666666666666666,"Day 2",86]
[89,89,"SIBLEY, Jon","90-1",42,319,6,10.333333333333334,"Day 1",87]
[90,90,"BRIGHTON, Tarrick","16-2",66,319,6,10.333333333333334,"Day 2",88]
[91,91,"RANDELL, Henry","86-1",11,318,6,10,"Day 1",89]
[92,92,"ALDOUS, David","6-1",52,318,6,10,"Day 1",89]
[93,93,"FROST, Mattew","42-2",70,318,6,10,"Day 2",91]
[94,94,"LEE, Martin","66-2",71,303,6,5,"Day 2",91]
[95,95,"FRARY, Charlie","40-1",68,301,6,4.333333333333333,"Day 1",91]
[96,96,"MOLLOY, Adam","75-1",18,299,6,3.6666666666666665,"Day 1",94]
[97,97,"BURT, Richard","22-2",33,298,6,3.3333333333333335,"Day 2",95]
[98,98,"PEARSON, Luke","82-2",65,297,6,3,"Day 2",96]
[99,99,"BROWN, Kay","20-1",101,290,6,0.66666666666666663,"Day 1",97]
[100,100,"MORSE, Peter","79-2",105,288,6,0,"Day 2",98]
[101,101,"ELEY, Kevin","39-2",117,287,5,15.666666666666666,"Day 2",99]
[102,102,"HARRISON, Paul","49-2",100,286,5,15.333333333333334,"Day 2",100]
[103,103,"NANGLE, Karl","80-2",26,283,5,14.333333333333334,"Day 2",101]
[104,104,"TOPPING, Mike","101-1",27,282,5,14,"Day 1",102]
[105,105,"LOKE, Peter","68-2",72,282,5,14,"Day 2",103]
[106,106,"PEARSON, Luke","82-1",5,280,5,13.333333333333334,"Day 1",104]
[107,107,"RICHARDSON, Callum","107-2",106,278,5,12.666666666666666,"Day 2",104]
[108,108,"McKENZIE, Brian","69-2",116,278,5,12.666666666666666,"Day 2",106]
[109,109,"SPALL, Chris","95-1",46,277,5,12.333333333333334,"Day 1",107]
[110,110,"ADAMS, Lee","3-2",62,276,5,12,"Day 2",107]
[111,111,"ADAMS, Stephen","4-2",32,272,5,10.666666666666666,"Day 2",109]
[112,112,"SHARMAN, Mark","89-2",103,268,5,9.3333333333333339,"Day 2",110]
[113,113,"CRAWFORD, Vince","31-2",111,267,5,9,"Day 2",111]
[114,114,"GIBBS, Tom","44-1",8,262,5,7.333333333333333,"Day 1",112]
[115,115,"GROSSMAN, Martin","47-2",108,259,5,6.333333333333333,"Day 2",113]
[116,116,"MOORE, Gary","77-1",62,258,5,6,"Day 1",114]
[117,117,"COLLIER, Andy","28-1",49,253,5,4.333333333333333,"Day 1",115]
[118,118,"EAGLE, Dan","38-2",73,251,5,3.6666666666666665,"Day 2",116]
[119,119,"BETTINSON, Charles","10-1",31,250,5,3.3333333333333335,"Day 1",117]
[120,120,"BROWN, Danny","18-1",10,247,5,2.3333333333333335,"Day 1",118]
[121,121,"CREASEY, Shaun","32-1",92,247,5,2.3333333333333335,"Day 1",119]
[122,122,"HIPPERSON, Richard","54-1",37,246,5,2,"Day 1",120]
[123,123,"BUY, Craig","23-2",16,246,5,2,"Day 2",120]
[124,124,"SMITH, John","94-1",50,245,5,1.6666666666666667,"Day 1",122]
[125,125,"CHAMBERLAIN, Darren","25-2",115,245,5,1.6666666666666667,"Day 2",122]
[126,126,"HADDOCK, Roy","48-1",12,241,5,0.33333333333333331,"Day 1",124]
[127,127,"BURR, Dave","21-2",109,241,5,0.33333333333333331,"Day 2",124]
[128,128,"BRIERLEY, Luke","15-1",6,235,4,14.333333333333334,"Day 1",126]
[129,129,"WOODS, Graham","105-1",44,231,4,13,"Day 1",126]
[130,130,"BRADSHAW, Craig","13-2",85,229,4,12.333333333333334,"Day 2",128]
[131,131,"FRARY, June","41-1",69,228,4,12,"Day 1",129]
[132,132,"ALDOUS, David","6-2",83,225,4,11,"Day 2",130]
[133,133,"STEBBINGS, Robert","96-1",13,224,4,10.666666666666666,"Day 1",131]
[134,134,"HORE, Malcolm","55-1",57,224,4,10.666666666666666,"Day 1",132]
[135,135,"SIBLEY, Jon","90-2",91,224,4,10.666666666666666,"Day 2",133]
[136,136,"HARVEY, John","50-2",95,214,4,7.333333333333333,"Day 2",133]
[137,137,"PICKARD, Colin","83-2",8,211,4,6.333333333333333,"Day 2",133]
[138,138,"CLEMENT, Alby","27-2",9,210,4,6,"Day 2",136]
[139,139,"LAY-FLURRIE, Matt","65-2",34,205,4,4.333333333333333,"Day 2",137]
[140,140,"KENDRICK, Paul","59-2",50,198,4,2,"Day 2",138]
[141,141,"MILLER, Mark","73-1",114,195,4,1,"Day 1",139]
[142,142,"PINDER, Mark","84-2",51,195,4,1,"Day 2",140]
[143,143,"MORSE, Peter","79-1",25,193,4,0.33333333333333331,"Day 1",141]
[144,144,"COLLIER, Andy","28-2",75,192,4,0,"Day 2",141]
[145,145,"TURNER, Cameron","104-2",40,183,3,13,"Day 2",143]
[146,146,"KING, Simon","60-1",83,181,3,12.333333333333334,"Day 1",144]
[147,147,"SMITH, George","93-2",3,177,3,11,"Day 2",145]
[148,148,"READ, David","87-1",26,174,3,10,"Day 1",146]
[149,149,"LAWN, Kimberley","62-2",2,173,3,9.6666666666666661,"Day 2",147]
[150,150,"SMART, Neil","91-1",78,166,3,7.333333333333333,"Day 1",148]

{"sheet":"Mystery Pairs","index":22,"n_rows":48,"n_cols":10,"rows_kept":48,"cut":false,"hidden":false,"merged":[[1,9,2,9],[0,0,0,2],[1,6,2,6],[0,3,0,9],[1,0,2,0],[1,1,2,1],[1,2,2,2],[1,5,2,5],[1,3,2,3],[1,4,2,4]]}
["BASS FESTIVAL MYSTERY PAIRS          2017",null,null,"Overall (Pairs)"]
["Overall Position","Team No.","Team Name","Day 1 Zone Points","Day 2 Zone Points","Total No. Fish","Total Fish Points","Total Weight",null,"Total Zone Points"]
[null,null,null,null,null,null,null,"lbs","oz"]
[1,1,"CLEMENT, Alby & SPALL, Chris",9.9725356999999999,2.9929943000000003,100,3446,71,12.666666666666666,12.965530000000001]
[2,9,"BURT, Richard & HADDOCK, Roy",10.9777646,4.9935156000000003,98,2871,59,13,15.971280200000001]
[3,19,"LAY-FLURRIE, Matt & GALLACHER, Andy",10.980645600000001,5.9947344999999999,99,2461,51,4.333333333333333,16.975380100000002]
[4,3,"SMITH, George & BROWN, Harry",9.9761243000000004,8.9969476000000004,81,2692,56,1.3333333333333333,18.973071900000001]
[5,14,"BRIGHTON, Tarrick & ADAMS, Becky",8.9890170000000005,9.9953968,62,1558,32,7.333333333333333,18.984413799999999]
[6,36,"BOWELL, Ian & HINXMAN, Mark",11.981386000000001,8.9900766000000001,74,2853,59,7,20.971462600000002]
[7,37,"GOOCH, Mark & HARRISON, Paul",10.992096500000001,9.9927440999999995,94,1515,31,9,20.984840599999998]
[8,39,"RANDELL, Henry & READ, David",16.995077999999999,3.9919544999999999,75,1296,27,0,20.987032499999998]
[9,26,"BUY, Craig & SHARMAN, Mark",10.9828653,10.9948576,71,2227,46,6.333333333333333,21.9777229]
[10,30,"AKESTER, Jack & STEBBINGS, Robert",14.993316399999999,6.9931351999999993,84,1354,28,3.3333333333333335,21.986451599999999]
[11,44,"ROPER, Liam & LAWN, Kimberley",13.9925467,7.9947259000000006,74,1272,26,8,21.987272600000001]
[12,13,"HARVEY, John & KING, Simon",10.9894766,10.9978584,52,1279,26,10.333333333333334,21.987335000000002]
[13,10,"CROSBY, Colin & PICKARD, Colin",12.9774455,9.9969478000000009,67,2560,53,5.333333333333333,22.974393300000003]
[14,32,"DIAPER, Greg & KENDRICK, Paul",15.9780266,6.9968778,56,2509,52,4.333333333333333,22.9749044]
[15,42,"COOPER, Jake & GREEN, Kevin",13.9863578,8.9974574,48,1618,33,11.333333333333334,22.983815200000002]
[16,45,"TUCK, Rob & PEARSON, Luke",11.993255699999999,10.992974700000001,96,1376,28,10.666666666666666,22.9862304]
[17,5,"PROVINS, Colin & MILLER, Mark",14.982306399999999,10.995115899999998,77,2257,47,0.33333333333333331,25.977422299999997]
[18,8,"ADAMS, Lee & LAWRENCE, John",10.984885499999999,14.9959372,73,1917,39,15,25.980822699999997]
[19,6,"CHAMBERLAIN, Darren & ALDOUS, David",8.9887966000000006,16.995295900000002,75,1590,33,2,25.984092500000003]
[20,31,"BURR, Dave & THORPE, Doug",10.989065499999999,14.996277900000001,66,1465,30,8.3333333333333339,25.985343399999998]
[21,41,"LAMBERT, Ian & DOY, Alan",13.978547299999999,12.997938399999999,43,2351,48,15.666666666666666,26.976485699999998]
[22,40,"COOPER, Gary & HARVEY, Mark",17.984256800000001,8.9956472999999999,59,2009,41,13.666666666666666,26.979904099999999]
[23,11,"HUTSON, Garry & MORSE, Peter",12.981145600000001,14.996226700000001,77,2262,47,2,27.977372300000003]
[24,24,"HAWARD, Nick & SMITH, Adele",10.979635200000001,16.998538700000001,61,2182,45,7.333333333333333,27.978173900000002]
[25,27,"ASHWORTH, Paul & BRADSHAW, Craig",11.9858358,15.9968474,68,1731,36,1,27.9826832]
[26,15,"McKENZIE, Brian & FRARY, Charlie",13.991316000000001,13.9960968,72,1258,26,3.3333333333333335,27.987412800000001]
[27,38,"GROSSMAN, Martin & SMITH, John",15.993568,11.994055100000001,69,1237,25,12.333333333333334,27.9876231]
[28,21,"CROSBY, Ralf & SMART, Neil",12.991727300000001,14.996018400000001,43,1225,25,8.3333333333333339,27.987745700000001]
[29,16,"THOMAS, Tony & CREASEY, Shaun",10.993347,16.9964279,51,1022,21,4.666666666666667,27.9897749]
[30,22,"ELEY, Kevin & CRAWFORD, Vince",15.9935268,12.9944554,78,1201,25,0.33333333333333331,28.987982199999998]
[31,23,"MICKELSEN, Jon & EAGLE, Dan",9.9927673000000006,18.996176800000001,59,1105,23,0.33333333333333331,28.988944100000001]
[32,2,"ADAMS, Stephen & LAWSON, Savannah",15.9749652,13.996907100000001,77,2812,58,9.3333333333333339,29.971872300000001]
[33,12,"NANGLE, Karl & HORE, Malcolm",13.9848655,15.997166999999999,75,1796,37,6.666666666666667,29.982032499999999]
[34,7,"DRAYTON, Simon & MOLLOY, Iain",15.9913557,13.9933859,84,1525,31,12.333333333333334,29.9847416]
[35,4,"PINDER, Mark & MOORE, Gary",13.978297400000001,16.998048900000001,37,2365,49,4.333333333333333,30.976346300000003]
[36,35,"ADAMS, Graham & CARTER, John",13.987866499999999,16.997497800000001,57,1463,30,7.666666666666667,30.985364300000001]
[37,29,"LEE, Martin & GIBBS, Tom",10.9927645,19.995345999999998,95,1188,24,12,30.988110499999998]
[38,18,"LILL, Jarrod & BIRD, Stacey",11.972596299999999,19.998829100000002,46,2857,59,8.3333333333333339,31.971425400000001]
[39,25,"TOVELL, Paul & BROCK, Peter",15.978826300000001,16.998638700000001,50,2253,46,15,32.977465000000002]
[40,43,"MORLEY, Keith & COLLIER, Andy",15.991816699999999,17.997097100000001,62,1108,23,1.3333333333333333,33.988913799999999]
[41,28,"FROST, Mattew & FRARY, June",17.992658200000001,16.9963768,50,1096,22,13.333333333333334,34.989035000000001]
[42,34,"MILLS, Rodney & WOODS, Graham",17.989015500000001,17.998798399999998,61,1218,25,6,35.987813899999999]
[43,17,"TURNER, Cameron & ALLISON, Ivan",17.9821165,18.998168800000002,47,1971,41,1,36.980285300000006]
[44,20,"HURCOMBE, Mark & BETTINSON, Charles",13.9854264,23.998168499999998,51,1640,34,2.6666666666666665,37.9835949]
[45,33,"AUSTIN, John & PARROTT, Ade",17.989817500000001,19.998708700000002,38,1147,23,14.333333333333334,37.988526200000003]

{"sheet":"Shannock Quads","index":23,"n_rows":14,"n_cols":8,"rows_kept":14,"cut":false,"hidden":false,"merged":[[0,1,0,3],[0,4,0,7],[1,5,2,5],[1,0,2,0],[1,1,2,1],[1,2,2,2],[1,3,2,3],[1,4,2,4]]}
[null,"SHANNOCK QUADS 2017",null,null,"Overall (Teams)"]
["Team Count","Overall Position","Team No.","Team Name","No. Fish","Fish Points","Weight"]
[null,null,null,null,null,null,"lbs","oz"]
[1,1,2,"BREAKAWAY",218,7334,152,12.666666666666666]
[2,2,7,"ANYFISH/ASSO",217,6780,141,4]
[3,3,12,"IPSWICH SEA ANGLERS",169,6292,131,1.3333333333333333]
[4,4,5,"TEAM BREAKAWAY",139,5533,115,4.333333333333333]
[5,5,6,"HASTINGS ANGLING CENTRE",129,5078,105,12.666666666666666]
[6,6,8,"THE IRISH PAIRS",144,4644,96,12]
[7,7,13,"ITALCANNA",150,4559,94,15.666666666666666]
[8,8,10,"STUART GUNS & TACKLE",155,3006,62,10]
[9,9,11,"TEAM BIRDS TACKLE",134,2750,57,4.666666666666667]
[10,10,4,"THE LIGHTHOUSE BOYS",181,2296,47,13.333333333333334]
[11,11,9,"THE CONSULTANT'S CARERS",136,2279,47,7.666666666666667]

{"sheet":"Final Individual results","index":24,"n_rows":103,"n_cols":17,"rows_kept":103,"cut":false,"hidden":true,"merged":[[1,16,2,16],[1,10,2,10],[1,7,2,7],[1,6,2,6],[1,0,2,0],[1,4,2,4],[1,5,2,5],[1,1,2,1],[1,2,2,2],[1,3,2,3],[0,0,0,7],[1,15,2,15],[1,11,2,11],[1,12,2,12],[1,13,2,13],[1,14,2,14]]}
["HSAC North Norfolk Bass Festival 2013  -  Final Positions ",null,null,null,null,null,null,null,null,null,"Individuals data extraction calculations"]
["Angler Name","Angler No","Total No. Fish","Total No. Fish Points","Day 1 Points","Day 2 Points","Total Points","Overall Position",null,null,"Overall Position","Angler No","Total No. Fish","Total No. Fish Points","Day 1 Points","Day 2 Points","Total Points"]
[]
[{"$f":"VLOOKUP($B4,#REF!,2,FALSE)","v":{"$error":"#N/A"}},{"$f":"VLOOKUP($H4,$K$4:$Q$300,2,FALSE)","v":{"$error":"#N/A"}},{"$f":"VLOOKUP($H4,$K$4:$Q$300,3,FALSE)","v":{"$error":"#N/A"}},{"$f":"VLOOKUP($H4,$K$4:$Q$300,4,FALSE)","v":{"$error":"#N/A"}},{"$f":"VLOOKUP($H4,$K$4:$Q$300,5,FALSE)","v":{"$error":"#N/A"}},{"$f":"VLOOKUP($H4,$K$4:$Q$300,6,FALSE)","v":{"$error":"#N/A"}},{"$f":"VLOOKUP($H4,$K$4:$Q$300,7,FALSE)","v":{"$error":"#N/A"}},{"$f":"IF(ISERROR(H3+1)=TRUE,1,H3+1)","v":1},null,null,{"$f":"IF(Q4=NpZ*NoZ*2,NpZ*NoZ,RANK(Q4,Q$4:Q$300,1))","v":{"$error":"#REF!"}},1,{"$f":"IF(ISNA(VLOOKUP($L4,'All Individuals Day 1'!$C$3:$F$254,4,FALSE)+VLOOKUP($L4,#REF!,4,FALSE))=TRUE,\"\",VLOOKUP($L4,'All Individuals Day 1'!$C$3:$F$254,4,FALSE)+VLOOKUP($L4,#REF!,4,FALSE))","v":""},{"$f":"IF(ISNA(VLOOKUP($L4,'All Individuals Day 1'!$C$3:$F$254,5,FALSE)+VLOOKUP($L4,#REF!,5,FALSE))=TRUE,\"\",VLOOKUP($L4,'All Individuals Day 1'!$C$3:$F$254,5,FALSE)+VLOOKUP($L4,#REF!,5,FALSE))","v":""},{"$f":"IF(ISNA(VLOOKUP($L4,'All Individuals Day 1'!$C$3:$J$254,8,FALSE))=TRUE,\"\",VLOOKUP($L4,'All Individuals Day 1'!$C$3:$J$254,8,FALSE))","v":""},{"$f":"IF(ISNA(VLOOKUP($L4,#REF!,8,FALSE))=TRUE,\"\",VLOOKUP($L4,#REF!,8,FALSE))","v":{"$error":"#REF!"}},{"$f":"IF(OR(M4=\"\",M4=0),NpZ*2,(O4+P4)-N4/100000-M4/1000000)","v":{"$error":"#REF!"}}]
[{"$f":"VLOOKUP($B5,#REF!,2,FALSE)","v":{"$error":"#N/A"}},{"$error":"#N/A"},{"$error":"#N/A"},{"$error":"#N/A"},{"$error":"#N/A"},{"$error":"#N/A"},{"$error":"#N/A"},{"$f":"IF(ISERROR(H4+1)=TRUE,1,H4+1)","v":2},null,null,{"$error":"#REF!"},2,{"$f":"IF(ISNA(VLOOKUP($L5,'All Individuals Day 1'!$C$3:$F$254,4,FALSE)+VLOOKUP($L5,#REF!,4,FALSE))=TRUE,\"\",VLOOKUP($L5,'All Individuals Day 1'!$C$3:$F$254,4,FALSE)+VLOOKUP($L5,#REF!,4,FALSE))","v":""},{"$f":"IF(ISNA(VLOOKUP($L5,'All Individuals Day 1'!$C$3:$F$254,5,FALSE)+VLOOKUP($L5,#REF!,5,FALSE))=TRUE,\"\",VLOOKUP($L5,'All Individuals Day 1'!$C$3:$F$254,5,FALSE)+VLOOKUP($L5,#REF!,5,FALSE))","v":""},{"$f":"IF(ISNA(VLOOKUP($L5,'All Individuals Day 1'!$C$3:$J$254,8,FALSE))=TRUE,\"\",VLOOKUP($L5,'All Individuals Day 1'!$C$3:$J$254,8,FALSE))","v":""},{"$f":"IF(ISNA(VLOOKUP($L5,#REF!,8,FALSE))=TRUE,\"\",VLOOKUP($L5,#REF!,8,FALSE))","v":{"$error":"#REF!"}},{"$error":"#REF!"}]
[{"$f":"VLOOKUP($B6,#REF!,2,FALSE)","v":{"$error":"#N/A"}},{"$error":"#N/A"},{"$error":"#N/A"},{"$error":"#N/A"},{"$error":"#N/A"},{"$error":"#N/A"},{"$error":"#N/A"},3,null,null,{"$error":"#REF!"},3,{"$f":"IF(ISNA(VLOOKUP($L6,'All Individuals Day 1'!$C$3:$F$254,4,FALSE)+VLOOKUP($L6,#REF!,4,FALSE))=TRUE,\"\",VLOOKUP($L6,'All Individuals Day 1'!$C$3:$F$254,4,FALSE)+VLOOKUP($L6,#REF!,4,FALSE))","v":""},{"$f":"IF(ISNA(VLOOKUP($L6,'All Individuals Day 1'!$C$3:$F$254,5,FALSE)+VLOOKUP($L6,#REF!,5,FALSE))=TRUE,\"\",VLOOKUP($L6,'All Individuals Day 1'!$C$3:$F$254,5,FALSE)+VLOOKUP($L6,#REF!,5,FALSE))","v":""},{"$f":"IF(ISNA(VLOOKUP($L6,'All Individuals Day 1'!$C$3:$J$254,8,FALSE))=TRUE,\"\",VLOOKUP($L6,'All Individuals Day 1'!$C$3:$J$254,8,FALSE))","v":""},{"$f":"IF(ISNA(VLOOKUP($L6,#REF!,8,FALSE))=TRUE,\"\",VLOOKUP($L6,#REF!,8,FALSE))","v":{"$error":"#REF!"}},{"$error":"#REF!"}]
[{"$f":"VLOOKUP($B7,#REF!,2,FALSE)","v":{"$error":"#N/A"}},{"$error":"#N/A"},{"$error":"#N/A"},{"$error":"#N/A"},{"$error":"#N/A"},{"$error":"#N/A"},{"$error":"#N/A"},4,null,null,{"$error":"#REF!"},4,{"$f":"IF(ISNA(VLOOKUP($L7,'All Individuals Day 1'!$C$3:$F$254,4,FALSE)+VLOOKUP($L7,#REF!,4,FALSE))=TRUE,\"\",VLOOKUP($L7,'All Individuals Day 1'!$C$3:$F$254,4,FALSE)+VLOOKUP($L7,#REF!,4,FALSE))","v":""},{"$f":"IF(ISNA(VLOOKUP($L7,'All Individuals Day 1'!$C$3:$F$254,5,FALSE)+VLOOKUP($L7,#REF!,5,FALSE))=TRUE,\"\",VLOOKUP($L7,'All Individuals Day 1'!$C$3:$F$254,5,FALSE)+VLOOKUP($L7,#REF!,5,FALSE))","v":""},{"$f":"IF(ISNA(VLOOKUP($L7,'All Individuals Day 1'!$C$3:$J$254,8,FALSE))=TRUE,\"\",VLOOKUP($L7,'All Individuals Day 1'!$C$3:$J$254,8,FALSE))","v":""},{"$f":"IF(ISNA(VLOOKUP($L7,#REF!,8,FALSE))=TRUE,\"\",VLOOKUP($L7,#REF!,8,FALSE))","v":{"$error":"#REF!"}},{"$error":"#REF!"}]
[{"$f":"VLOOKUP($B8,#REF!,2,FALSE)","v":{"$error":"#N/A"}},{"$error":"#N/A"},{"$error":"#N/A"},{"$error":"#N/A"},{"$error":"#N/A"},{"$error":"#N/A"},{"$error":"#N/A"},5,null,null,{"$error":"#REF!"},5,{"$f":"IF(ISNA(VLOOKUP($L8,'All Individuals Day 1'!$C$3:$F$254,4,FALSE)+VLOOKUP($L8,#REF!,4,FALSE))=TRUE,\"\",VLOOKUP($L8,'All Individuals Day 1'!$C$3:$F$254,4,FALSE)+VLOOKUP($L8,#REF!,4,FALSE))","v":""},{"$f":"IF(ISNA(VLOOKUP($L8,'All Individuals Day 1'!$C$3:$F$254,5,FALSE)+VLOOKUP($L8,#REF!,5,FALSE))=TRUE,\"\",VLOOKUP($L8,'All Individuals Day 1'!$C$3:$F$254,5,FALSE)+VLOOKUP($L8,#REF!,5,FALSE))","v":""},{"$f":"IF(ISNA(VLOOKUP($L8,'All Individuals Day 1'!$C$3:$J$254,8,FALSE))=TRUE,\"\",VLOOKUP($L8,'All Individuals Day 1'!$C$3:$J$254,8,FALSE))","v":""},{"$f":"IF(ISNA(VLOOKUP($L8,#REF!,8,FALSE))=TRUE,\"\",VLOOKUP($L8,#REF!,8,FALSE))","v":{"$error":"#REF!"}},{"$error":"#REF!"}]
[{"$f":"VLOOKUP($B9,#REF!,2,FALSE)","v":{"$error":"#N/A"}},{"$error":"#N/A"},{"$error":"#N/A"},{"$error":"#N/A"},{"$error":"#N/A"},{"$error":"#N/A"},{"$error":"#N/A"},6,null,null,{"$error":"#REF!"},6,{"$f":"IF(ISNA(VLOOKUP($L9,'All Individuals Day 1'!$C$3:$F$254,4,FALSE)+VLOOKUP($L9,#REF!,4,FALSE))=TRUE,\"\",VLOOKUP($L9,'All Individuals Day 1'!$C$3:$F$254,4,FALSE)+VLOOKUP($L9,#REF!,4,FALSE))","v":""},{"$f":"IF(ISNA(VLOOKUP($L9,'All Individuals Day 1'!$C$3:$F$254,5,FALSE)+VLOOKUP($L9,#REF!,5,FALSE))=TRUE,\"\",VLOOKUP($L9,'All Individuals Day 1'!$C$3:$F$254,5,FALSE)+VLOOKUP($L9,#REF!,5,FALSE))","v":""},{"$f":"IF(ISNA(VLOOKUP($L9,'All Individuals Day 1'!$C$3:$J$254,8,FALSE))=TRUE,\"\",VLOOKUP($L9,'All Individuals Day 1'!$C$3:$J$254,8,FALSE))","v":""},{"$f":"IF(ISNA(VLOOKUP($L9,#REF!,8,FALSE))=TRUE,\"\",VLOOKUP($L9,#REF!,8,FALSE))","v":{"$error":"#REF!"}},{"$error":"#REF!"}]
[{"$f":"VLOOKUP($B10,#REF!,2,FALSE)","v":{"$error":"#N/A"}},{"$error":"#N/A"},{"$error":"#N/A"},{"$error":"#N/A"},{"$error":"#N/A"},{"$error":"#N/A"},{"$error":"#N/A"},7,null,null,{"$error":"#REF!"},7,{"$f":"IF(ISNA(VLOOKUP($L10,'All Individuals Day 1'!$C$3:$F$254,4,FALSE)+VLOOKUP($L10,#REF!,4,FALSE))=TRUE,\"\",VLOOKUP($L10,'All Individuals Day 1'!$C$3:$F$254,4,FALSE)+VLOOKUP($L10,#REF!,4,FALSE))","v":""},{"$f":"IF(ISNA(VLOOKUP($L10,'All Individuals Day 1'!$C$3:$F$254,5,FALSE)+VLOOKUP($L10,#REF!,5,FALSE))=TRUE,\"\",VLOOKUP($L10,'All Individuals Day 1'!$C$3:$F$254,5,FALSE)+VLOOKUP($L10,#REF!,5,FALSE))","v":""},{"$f":"IF(ISNA(VLOOKUP($L10,'All Individuals Day 1'!$C$3:$J$254,8,FALSE))=TRUE,\"\",VLOOKUP($L10,'All Individuals Day 1'!$C$3:$J$254,8,FALSE))","v":""},{"$f":"IF(ISNA(VLOOKUP($L10,#REF!,8,FALSE))=TRUE,\"\",VLOOKUP($L10,#REF!,8,FALSE))","v":{"$error":"#REF!"}},{"$error":"#REF!"}]
[{"$f":"VLOOKUP($B11,#REF!,2,FALSE)","v":{"$error":"#N/A"}},{"$error":"#N/A"},{"$error":"#N/A"},{"$error":"#N/A"},{"$error":"#N/A"},{"$error":"#N/A"},{"$error":"#N/A"},8,null,null,{"$error":"#REF!"},8,{"$f":"IF(ISNA(VLOOKUP($L11,'All Individuals Day 1'!$C$3:$F$254,4,FALSE)+VLOOKUP($L11,#REF!,4,FALSE))=TRUE,\"\",VLOOKUP($L11,'All Individuals Day 1'!$C$3:$F$254,4,FALSE)+VLOOKUP($L11,#REF!,4,FALSE))","v":""},{"$f":"IF(ISNA(VLOOKUP($L11,'All Individuals Day 1'!$C$3:$F$254,5,FALSE)+VLOOKUP($L11,#REF!,5,FALSE))=TRUE,\"\",VLOOKUP($L11,'All Individuals Day 1'!$C$3:$F$254,5,FALSE)+VLOOKUP($L11,#REF!,5,FALSE))","v":""},{"$f":"IF(ISNA(VLOOKUP($L11,'All Individuals Day 1'!$C$3:$J$254,8,FALSE))=TRUE,\"\",VLOOKUP($L11,'All Individuals Day 1'!$C$3:$J$254,8,FALSE))","v":""},{"$f":"IF(ISNA(VLOOKUP($L11,#REF!,8,FALSE))=TRUE,\"\",VLOOKUP($L11,#REF!,8,FALSE))","v":{"$error":"#REF!"}},{"$error":"#REF!"}]
[{"$f":"VLOOKUP($B12,#REF!,2,FALSE)","v":{"$error":"#N/A"}},{"$error":"#N/A"},{"$error":"#N/A"},{"$error":"#N/A"},{"$error":"#N/A"},{"$error":"#N/A"},{"$error":"#N/A"},9,null,null,{"$error":"#REF!"},9,{"$f":"IF(ISNA(VLOOKUP($L12,'All Individuals Day 1'!$C$3:$F$254,4,FALSE)+VLOOKUP($L12,#REF!,4,FALSE))=TRUE,\"\",VLOOKUP($L12,'All Individuals Day 1'!$C$3:$F$254,4,FALSE)+VLOOKUP($L12,#REF!,4,FALSE))","v":""},{"$f":"IF(ISNA(VLOOKUP($L12,'All Individuals Day 1'!$C$3:$F$254,5,FALSE)+VLOOKUP($L12,#REF!,5,FALSE))=TRUE,\"\",VLOOKUP($L12,'All Individuals Day 1'!$C$3:$F$254,5,FALSE)+VLOOKUP($L12,#REF!,5,FALSE))","v":""},{"$f":"IF(ISNA(VLOOKUP($L12,'All Individuals Day 1'!$C$3:$J$254,8,FALSE))=TRUE,\"\",VLOOKUP($L12,'All Individuals Day 1'!$C$3:$J$254,8,FALSE))","v":""},{"$f":"IF(ISNA(VLOOKUP($L12,#REF!,8,FALSE))=TRUE,\"\",VLOOKUP($L12,#REF!,8,FALSE))","v":{"$error":"#REF!"}},{"$error":"#REF!"}]
[{"$f":"VLOOKUP($B13,#REF!,2,FALSE)","v":{"$error":"#N/A"}},{"$error":"#N/A"},{"$error":"#N/A"},{"$error":"#N/A"},{"$error":"#N/A"},{"$error":"#N/A"},{"$error":"#N/A"},10,null,null,{"$error":"#REF!"},10,{"$f":"IF(ISNA(VLOOKUP($L13,'All Individuals Day 1'!$C$3:$F$254,4,FALSE)+VLOOKUP($L13,#REF!,4,FALSE))=TRUE,\"\",VLOOKUP($L13,'All Individuals Day 1'!$C$3:$F$254,4,FALSE)+VLOOKUP($L13,#REF!,4,FALSE))","v":""},{"$f":"IF(ISNA(VLOOKUP($L13,'All Individuals Day 1'!$C$3:$F$254,5,FALSE)+VLOOKUP($L13,#REF!,5,FALSE))=TRUE,\"\",VLOOKUP($L13,'All Individuals Day 1'!$C$3:$F$254,5,FALSE)+VLOOKUP($L13,#REF!,5,FALSE))","v":""},{"$f":"IF(ISNA(VLOOKUP($L13,'All Individuals Day 1'!$C$3:$J$254,8,FALSE))=TRUE,\"\",VLOOKUP($L13,'All Individuals Day 1'!$C$3:$J$254,8,FALSE))","v":""},{"$f":"IF(ISNA(VLOOKUP($L13,#REF!,8,FALSE))=TRUE,\"\",VLOOKUP($L13,#REF!,8,FALSE))","v":{"$error":"#REF!"}},{"$error":"#REF!"}]
[{"$f":"VLOOKUP($B14,#REF!,2,FALSE)","v":{"$error":"#N/A"}},{"$error":"#N/A"},{"$error":"#N/A"},{"$error":"#N/A"},{"$error":"#N/A"},{"$error":"#N/A"},{"$error":"#N/A"},11,null,null,{"$error":"#REF!"},11,{"$f":"IF(ISNA(VLOOKUP($L14,'All Individuals Day 1'!$C$3:$F$254,4,FALSE)+VLOOKUP($L14,#REF!,4,FALSE))=TRUE,\"\",VLOOKUP($L14,'All Individuals Day 1'!$C$3:$F$254,4,FALSE)+VLOOKUP($L14,#REF!,4,FALSE))","v":""},{"$f":"IF(ISNA(VLOOKUP($L14,'All Individuals Day 1'!$C$3:$F$254,5,FALSE)+VLOOKUP($L14,#REF!,5,FALSE))=TRUE,\"\",VLOOKUP($L14,'All Individuals Day 1'!$C$3:$F$254,5,FALSE)+VLOOKUP($L14,#REF!,5,FALSE))","v":""},{"$f":"IF(ISNA(VLOOKUP($L14,'All Individuals Day 1'!$C$3:$J$254,8,FALSE))=TRUE,\"\",VLOOKUP($L14,'All Individuals Day 1'!$C$3:$J$254,8,FALSE))","v":""},{"$f":"IF(ISNA(VLOOKUP($L14,#REF!,8,FALSE))=TRUE,\"\",VLOOKUP($L14,#REF!,8,FALSE))","v":{"$error":"#REF!"}},{"$error":"#REF!"}]
[{"$f":"VLOOKUP($B15,#REF!,2,FALSE)","v":{"$error":"#N/A"}},{"$error":"#N/A"},{"$error":"#N/A"},{"$error":"#N/A"},{"$error":"#N/A"},{"$error":"#N/A"},{"$error":"#N/A"},12,null,null,{"$error":"#REF!"},12,{"$f":"IF(ISNA(VLOOKUP($L15,'All Individuals Day 1'!$C$3:$F$254,4,FALSE)+VLOOKUP($L15,#REF!,4,FALSE))=TRUE,\"\",VLOOKUP($L15,'All Individuals Day 1'!$C$3:$F$254,4,FALSE)+VLOOKUP($L15,#REF!,4,FALSE))","v":""},{"$f":"IF(ISNA(VLOOKUP($L15,'All Individuals Day 1'!$C$3:$F$254,5,FALSE)+VLOOKUP($L15,#REF!,5,FALSE))=TRUE,\"\",VLOOKUP($L15,'All Individuals Day 1'!$C$3:$F$254,5,FALSE)+VLOOKUP($L15,#REF!,5,FALSE))","v":""},{"$f":"IF(ISNA(VLOOKUP($L15,'All Individuals Day 1'!$C$3:$J$254,8,FALSE))=TRUE,\"\",VLOOKUP($L15,'All Individuals Day 1'!$C$3:$J$254,8,FALSE))","v":""},{"$f":"IF(ISNA(VLOOKUP($L15,#REF!,8,FALSE))=TRUE,\"\",VLOOKUP($L15,#REF!,8,FALSE))","v":{"$error":"#REF!"}},{"$error":"#REF!"}]
[{"$f":"VLOOKUP($B16,#REF!,2,FALSE)","v":{"$error":"#N/A"}},{"$error":"#N/A"},{"$error":"#N/A"},{"$error":"#N/A"},{"$error":"#N/A"},{"$error":"#N/A"},{"$error":"#N/A"},13,null,null,{"$error":"#REF!"},13,{"$f":"IF(ISNA(VLOOKUP($L16,'All Individuals Day 1'!$C$3:$F$254,4,FALSE)+VLOOKUP($L16,#REF!,4,FALSE))=TRUE,\"\",VLOOKUP($L16,'All Individuals Day 1'!$C$3:$F$254,4,FALSE)+VLOOKUP($L16,#REF!,4,FALSE))","v":""},{"$f":"IF(ISNA(VLOOKUP($L16,'All Individuals Day 1'!$C$3:$F$254,5,FALSE)+VLOOKUP($L16,#REF!,5,FALSE))=TRUE,\"\",VLOOKUP($L16,'All Individuals Day 1'!$C$3:$F$254,5,FALSE)+VLOOKUP($L16,#REF!,5,FALSE))","v":""},{"$f":"IF(ISNA(VLOOKUP($L16,'All Individuals Day 1'!$C$3:$J$254,8,FALSE))=TRUE,\"\",VLOOKUP($L16,'All Individuals Day 1'!$C$3:$J$254,8,FALSE))","v":""},{"$f":"IF(ISNA(VLOOKUP($L16,#REF!,8,FALSE))=TRUE,\"\",VLOOKUP($L16,#REF!,8,FALSE))","v":{"$error":"#REF!"}},{"$error":"#REF!"}]
[{"$f":"VLOOKUP($B17,#REF!,2,FALSE)","v":{"$error":"#N/A"}},{"$error":"#N/A"},{"$error":"#N/A"},{"$error":"#N/A"},{"$error":"#N/A"},{"$error":"#N/A"},{"$error":"#N/A"},14,null,null,{"$error":"#REF!"},14,{"$f":"IF(ISNA(VLOOKUP($L17,'All Individuals Day 1'!$C$3:$F$254,4,FALSE)+VLOOKUP($L17,#REF!,4,FALSE))=TRUE,\"\",VLOOKUP($L17,'All Individuals Day 1'!$C$3:$F$254,4,FALSE)+VLOOKUP($L17,#REF!,4,FALSE))","v":""},{"$f":"IF(ISNA(VLOOKUP($L17,'All Individuals Day 1'!$C$3:$F$254,5,FALSE)+VLOOKUP($L17,#REF!,5,FALSE))=TRUE,\"\",VLOOKUP($L17,'All Individuals Day 1'!$C$3:$F$254,5,FALSE)+VLOOKUP($L17,#REF!,5,FALSE))","v":""},{"$f":"IF(ISNA(VLOOKUP($L17,'All Individuals Day 1'!$C$3:$J$254,8,FALSE))=TRUE,\"\",VLOOKUP($L17,'All Individuals Day 1'!$C$3:$J$254,8,FALSE))","v":""},{"$f":"IF(ISNA(VLOOKUP($L17,#REF!,8,FALSE))=TRUE,\"\",VLOOKUP($L17,#REF!,8,FALSE))","v":{"$error":"#REF!"}},{"$error":"#REF!"}]
[{"$f":"VLOOKUP($B18,#REF!,2,FALSE)","v":{"$error":"#N/A"}},{"$error":"#N/A"},{"$error":"#N/A"},{"$error":"#N/A"},{"$error":"#N/A"},{"$error":"#N/A"},{"$error":"#N/A"},15,null,null,{"$error":"#REF!"},15,{"$f":"IF(ISNA(VLOOKUP($L18,'All Individuals Day 1'!$C$3:$F$254,4,FALSE)+VLOOKUP($L18,#REF!,4,FALSE))=TRUE,\"\",VLOOKUP($L18,'All Individuals Day 1'!$C$3:$F$254,4,FALSE)+VLOOKUP($L18,#REF!,4,FALSE))","v":""},{"$f":"IF(ISNA(VLOOKUP($L18,'All Individuals Day 1'!$C$3:$F$254,5,FALSE)+VLOOKUP($L18,#REF!,5,FALSE))=TRUE,\"\",VLOOKUP($L18,'All Individuals Day 1'!$C$3:$F$254,5,FALSE)+VLOOKUP($L18,#REF!,5,FALSE))","v":""},{"$f":"IF(ISNA(VLOOKUP($L18,'All Individuals Day 1'!$C$3:$J$254,8,FALSE))=TRUE,\"\",VLOOKUP($L18,'All Individuals Day 1'!$C$3:$J$254,8,FALSE))","v":""},{"$f":"IF(ISNA(VLOOKUP($L18,#REF!,8,FALSE))=TRUE,\"\",VLOOKUP($L18,#REF!,8,FALSE))","v":{"$error":"#REF!"}},{"$error":"#REF!"}]
[{"$f":"VLOOKUP($B19,#REF!,2,FALSE)","v":{"$error":"#N/A"}},{"$error":"#N/A"},{"$error":"#N/A"},{"$error":"#N/A"},{"$error":"#N/A"},{"$error":"#N/A"},{"$error":"#N/A"},16,null,null,{"$error":"#REF!"},16,{"$f":"IF(ISNA(VLOOKUP($L19,'All Individuals Day 1'!$C$3:$F$254,4,FALSE)+VLOOKUP($L19,#REF!,4,FALSE))=TRUE,\"\",VLOOKUP($L19,'All Individuals Day 1'!$C$3:$F$254,4,FALSE)+VLOOKUP($L19,#REF!,4,FALSE))","v":""},{"$f":"IF(ISNA(VLOOKUP($L19,'All Individuals Day 1'!$C$3:$F$254,5,FALSE)+VLOOKUP($L19,#REF!,5,FALSE))=TRUE,\"\",VLOOKUP($L19,'All Individuals Day 1'!$C$3:$F$254,5,FALSE)+VLOOKUP($L19,#REF!,5,FALSE))","v":""},{"$f":"IF(ISNA(VLOOKUP($L19,'All Individuals Day 1'!$C$3:$J$254,8,FALSE))=TRUE,\"\",VLOOKUP($L19,'All Individuals Day 1'!$C$3:$J$254,8,FALSE))","v":""},{"$f":"IF(ISNA(VLOOKUP($L19,#REF!,8,FALSE))=TRUE,\"\",VLOOKUP($L19,#REF!,8,FALSE))","v":{"$error":"#REF!"}},{"$error":"#REF!"}]
[{"$f":"VLOOKUP($B20,#REF!,2,FALSE)","v":{"$error":"#N/A"}},{"$error":"#N/A"},{"$error":"#N/A"},{"$error":"#N/A"},{"$error":"#N/A"},{"$error":"#N/A"},{"$error":"#N/A"},17,null,null,{"$error":"#REF!"},17,{"$f":"IF(ISNA(VLOOKUP($L20,'All Individuals Day 1'!$C$3:$F$254,4,FALSE)+VLOOKUP($L20,#REF!,4,FALSE))=TRUE,\"\",VLOOKUP($L20,'All Individuals Day 1'!$C$3:$F$254,4,FALSE)+VLOOKUP($L20,#REF!,4,FALSE))","v":""},{"$f":"IF(ISNA(VLOOKUP($L20,'All Individuals Day 1'!$C$3:$F$254,5,FALSE)+VLOOKUP($L20,#REF!,5,FALSE))=TRUE,\"\",VLOOKUP($L20,'All Individuals Day 1'!$C$3:$F$254,5,FALSE)+VLOOKUP($L20,#REF!,5,FALSE))","v":""},{"$f":"IF(ISNA(VLOOKUP($L20,'All Individuals Day 1'!$C$3:$J$254,8,FALSE))=TRUE,\"\",VLOOKUP($L20,'All Individuals Day 1'!$C$3:$J$254,8,FALSE))","v":""},{"$f":"IF(ISNA(VLOOKUP($L20,#REF!,8,FALSE))=TRUE,\"\",VLOOKUP($L20,#REF!,8,FALSE))","v":{"$error":"#REF!"}},{"$error":"#REF!"}]
[{"$f":"VLOOKUP($B21,#REF!,2,FALSE)","v":{"$error":"#N/A"}},{"$error":"#N/A"},{"$error":"#N/A"},{"$error":"#N/A"},{"$error":"#N/A"},{"$error":"#N/A"},{"$error":"#N/A"},18,null,null,{"$error":"#REF!"},18,{"$f":"IF(ISNA(VLOOKUP($L21,'All Individuals Day 1'!$C$3:$F$254,4,FALSE)+VLOOKUP($L21,#REF!,4,FALSE))=TRUE,\"\",VLOOKUP($L21,'All Individuals Day 1'!$C$3:$F$254,4,FALSE)+VLOOKUP($L21,#REF!,4,FALSE))","v":""},{"$f":"IF(ISNA(VLOOKUP($L21,'All Individuals Day 1'!$C$3:$F$254,5,FALSE)+VLOOKUP($L21,#REF!,5,FALSE))=TRUE,\"\",VLOOKUP($L21,'All Individuals Day 1'!$C$3:$F$254,5,FALSE)+VLOOKUP($L21,#REF!,5,FALSE))","v":""},{"$f":"IF(ISNA(VLOOKUP($L21,'All Individuals Day 1'!$C$3:$J$254,8,FALSE))=TRUE,\"\",VLOOKUP($L21,'All Individuals Day 1'!$C$3:$J$254,8,FALSE))","v":""},{"$f":"IF(ISNA(VLOOKUP($L21,#REF!,8,FALSE))=TRUE,\"\",VLOOKUP($L21,#REF!,8,FALSE))","v":{"$error":"#REF!"}},{"$error":"#REF!"}]
[{"$f":"VLOOKUP($B22,#REF!,2,FALSE)","v":{"$error":"#N/A"}},{"$error":"#N/A"},{"$error":"#N/A"},{"$error":"#N/A"},{"$error":"#N/A"},{"$error":"#N/A"},{"$error":"#N/A"},19,null,null,{"$error":"#REF!"},19,{"$f":"IF(ISNA(VLOOKUP($L22,'All Individuals Day 1'!$C$3:$F$254,4,FALSE)+VLOOKUP($L22,#REF!,4,FALSE))=TRUE,\"\",VLOOKUP($L22,'All Individuals Day 1'!$C$3:$F$254,4,FALSE)+VLOOKUP($L22,#REF!,4,FALSE))","v":""},{"$f":"IF(ISNA(VLOOKUP($L22,'All Individuals Day 1'!$C$3:$F$254,5,FALSE)+VLOOKUP($L22,#REF!,5,FALSE))=TRUE,\"\",VLOOKUP($L22,'All Individuals Day 1'!$C$3:$F$254,5,FALSE)+VLOOKUP($L22,#REF!,5,FALSE))","v":""},{"$f":"IF(ISNA(VLOOKUP($L22,'All Individuals Day 1'!$C$3:$J$254,8,FALSE))=TRUE,\"\",VLOOKUP($L22,'All Individuals Day 1'!$C$3:$J$254,8,FALSE))","v":""},{"$f":"IF(ISNA(VLOOKUP($L22,#REF!,8,FALSE))=TRUE,\"\",VLOOKUP($L22,#REF!,8,FALSE))","v":{"$error":"#REF!"}},{"$error":"#REF!"}]
[{"$f":"VLOOKUP($B23,#REF!,2,FALSE)","v":{"$error":"#N/A"}},{"$error":"#N/A"},{"$error":"#N/A"},{"$error":"#N/A"},{"$error":"#N/A"},{"$error":"#N/A"},{"$error":"#N/A"},20,null,null,{"$error":"#REF!"},20,{"$f":"IF(ISNA(VLOOKUP($L23,'All Individuals Day 1'!$C$3:$F$254,4,FALSE)+VLOOKUP($L23,#REF!,4,FALSE))=TRUE,\"\",VLOOKUP($L23,'All Individuals Day 1'!$C$3:$F$254,4,FALSE)+VLOOKUP($L23,#REF!,4,FALSE))","v":""},{"$f":"IF(ISNA(VLOOKUP($L23,'All Individuals Day 1'!$C$3:$F$254,5,FALSE)+VLOOKUP($L23,#REF!,5,FALSE))=TRUE,\"\",VLOOKUP($L23,'All Individuals Day 1'!$C$3:$F$254,5,FALSE)+VLOOKUP($L23,#REF!,5,FALSE))","v":""},{"$f":"IF(ISNA(VLOOKUP($L23,'All Individuals Day 1'!$C$3:$J$254,8,FALSE))=TRUE,\"\",VLOOKUP($L23,'All Individuals Day 1'!$C$3:$J$254,8,FALSE))","v":""},{"$f":"IF(ISNA(VLOOKUP($L23,#REF!,8,FALSE))=TRUE,\"\",VLOOKUP($L23,#REF!,8,FALSE))","v":{"$error":"#REF!"}},{"$error":"#REF!"}]
[{"$f":"VLOOKUP($B24,#REF!,2,FALSE)","v":{"$error":"#N/A"}},{"$error":"#N/A"},{"$error":"#N/A"},{"$error":"#N/A"},{"$error":"#N/A"},{"$error":"#N/A"},{"$error":"#N/A"},21,null,null,{"$error":"#REF!"},21,{"$f":"IF(ISNA(VLOOKUP($L24,'All Individuals Day 1'!$C$3:$F$254,4,FALSE)+VLOOKUP($L24,#REF!,4,FALSE))=TRUE,\"\",VLOOKUP($L24,'All Individuals Day 1'!$C$3:$F$254,4,FALSE)+VLOOKUP($L24,#REF!,4,FALSE))","v":""},{"$f":"IF(ISNA(VLOOKUP($L24,'All Individuals Day 1'!$C$3:$F$254,5,FALSE)+VLOOKUP($L24,#REF!,5,FALSE))=TRUE,\"\",VLOOKUP($L24,'All Individuals Day 1'!$C$3:$F$254,5,FALSE)+VLOOKUP($L24,#REF!,5,FALSE))","v":""},{"$f":"IF(ISNA(VLOOKUP($L24,'All Individuals Day 1'!$C$3:$J$254,8,FALSE))=TRUE,\"\",VLOOKUP($L24,'All Individuals Day 1'!$C$3:$J$254,8,FALSE))","v":""},{"$f":"IF(ISNA(VLOOKUP($L24,#REF!,8,FALSE))=TRUE,\"\",VLOOKUP($L24,#REF!,8,FALSE))","v":{"$error":"#REF!"}},{"$error":"#REF!"}]
[{"$f":"VLOOKUP($B25,#REF!,2,FALSE)","v":{"$error":"#N/A"}},{"$error":"#N/A"},{"$error":"#N/A"},{"$error":"#N/A"},{"$error":"#N/A"},{"$error":"#N/A"},{"$error":"#N/A"},22,null,null,{"$error":"#REF!"},22,{"$f":"IF(ISNA(VLOOKUP($L25,'All Individuals Day 1'!$C$3:$F$254,4,FALSE)+VLOOKUP($L25,#REF!,4,FALSE))=TRUE,\"\",VLOOKUP($L25,'All Individuals Day 1'!$C$3:$F$254,4,FALSE)+VLOOKUP($L25,#REF!,4,FALSE))","v":""},{"$f":"IF(ISNA(VLOOKUP($L25,'All Individuals Day 1'!$C$3:$F$254,5,FALSE)+VLOOKUP($L25,#REF!,5,FALSE))=TRUE,\"\",VLOOKUP($L25,'All Individuals Day 1'!$C$3:$F$254,5,FALSE)+VLOOKUP($L25,#REF!,5,FALSE))","v":""},{"$f":"IF(ISNA(VLOOKUP($L25,'All Individuals Day 1'!$C$3:$J$254,8,FALSE))=TRUE,\"\",VLOOKUP($L25,'All Individuals Day 1'!$C$3:$J$254,8,FALSE))","v":""},{"$f":"IF(ISNA(VLOOKUP($L25,#REF!,8,FALSE))=TRUE,\"\",VLOOKUP($L25,#REF!,8,FALSE))","v":{"$error":"#REF!"}},{"$error":"#REF!"}]
[{"$f":"VLOOKUP($B26,#REF!,2,FALSE)","v":{"$error":"#N/A"}},{"$error":"#N/A"},{"$error":"#N/A"},{"$error":"#N/A"},{"$error":"#N/A"},{"$error":"#N/A"},{"$error":"#N/A"},23,null,null,{"$error":"#REF!"},23,{"$f":"IF(ISNA(VLOOKUP($L26,'All Individuals Day 1'!$C$3:$F$254,4,FALSE)+VLOOKUP($L26,#REF!,4,FALSE))=TRUE,\"\",VLOOKUP($L26,'All Individuals Day 1'!$C$3:$F$254,4,FALSE)+VLOOKUP($L26,#REF!,4,FALSE))","v":""},{"$f":"IF(ISNA(VLOOKUP($L26,'All Individuals Day 1'!$C$3:$F$254,5,FALSE)+VLOOKUP($L26,#REF!,5,FALSE))=TRUE,\"\",VLOOKUP($L26,'All Individuals Day 1'!$C$3:$F$254,5,FALSE)+VLOOKUP($L26,#REF!,5,FALSE))","v":""},{"$f":"IF(ISNA(VLOOKUP($L26,'All Individuals Day 1'!$C$3:$J$254,8,FALSE))=TRUE,\"\",VLOOKUP($L26,'All Individuals Day 1'!$C$3:$J$254,8,FALSE))","v":""},{"$f":"IF(ISNA(VLOOKUP($L26,#REF!,8,FALSE))=TRUE,\"\",VLOOKUP($L26,#REF!,8,FALSE))","v":{"$error":"#REF!"}},{"$error":"#REF!"}]
[{"$f":"VLOOKUP($B27,#REF!,2,FALSE)","v":{"$error":"#N/A"}},{"$error":"#N/A"},{"$error":"#N/A"},{"$error":"#N/A"},{"$error":"#N/A"},{"$error":"#N/A"},{"$error":"#N/A"},24,null,null,{"$error":"#REF!"},24,{"$f":"IF(ISNA(VLOOKUP($L27,'All Individuals Day 1'!$C$3:$F$254,4,FALSE)+VLOOKUP($L27,#REF!,4,FALSE))=TRUE,\"\",VLOOKUP($L27,'All Individuals Day 1'!$C$3:$F$254,4,FALSE)+VLOOKUP($L27,#REF!,4,FALSE))","v":""},{"$f":"IF(ISNA(VLOOKUP($L27,'All Individuals Day 1'!$C$3:$F$254,5,FALSE)+VLOOKUP($L27,#REF!,5,FALSE))=TRUE,\"\",VLOOKUP($L27,'All Individuals Day 1'!$C$3:$F$254,5,FALSE)+VLOOKUP($L27,#REF!,5,FALSE))","v":""},{"$f":"IF(ISNA(VLOOKUP($L27,'All Individuals Day 1'!$C$3:$J$254,8,FALSE))=TRUE,\"\",VLOOKUP($L27,'All Individuals Day 1'!$C$3:$J$254,8,FALSE))","v":""},{"$f":"IF(ISNA(VLOOKUP($L27,#REF!,8,FALSE))=TRUE,\"\",VLOOKUP($L27,#REF!,8,FALSE))","v":{"$error":"#REF!"}},{"$error":"#REF!"}]
[{"$f":"VLOOKUP($B28,#REF!,2,FALSE)","v":{"$error":"#N/A"}},{"$error":"#N/A"},{"$error":"#N/A"},{"$error":"#N/A"},{"$error":"#N/A"},{"$error":"#N/A"},{"$error":"#N/A"},25,null,null,{"$error":"#REF!"},25,{"$f":"IF(ISNA(VLOOKUP($L28,'All Individuals Day 1'!$C$3:$F$254,4,FALSE)+VLOOKUP($L28,#REF!,4,FALSE))=TRUE,\"\",VLOOKUP($L28,'All Individuals Day 1'!$C$3:$F$254,4,FALSE)+VLOOKUP($L28,#REF!,4,FALSE))","v":""},{"$f":"IF(ISNA(VLOOKUP($L28,'All Individuals Day 1'!$C$3:$F$254,5,FALSE)+VLOOKUP($L28,#REF!,5,FALSE))=TRUE,\"\",VLOOKUP($L28,'All Individuals Day 1'!$C$3:$F$254,5,FALSE)+VLOOKUP($L28,#REF!,5,FALSE))","v":""},{"$f":"IF(ISNA(VLOOKUP($L28,'All Individuals Day 1'!$C$3:$J$254,8,FALSE))=TRUE,\"\",VLOOKUP($L28,'All Individuals Day 1'!$C$3:$J$254,8,FALSE))","v":""},{"$f":"IF(ISNA(VLOOKUP($L28,#REF!,8,FALSE))=TRUE,\"\",VLOOKUP($L28,#REF!,8,FALSE))","v":{"$error":"#REF!"}},{"$error":"#REF!"}]
[{"$f":"VLOOKUP($B29,#REF!,2,FALSE)","v":{"$error":"#N/A"}},{"$error":"#N/A"},{"$error":"#N/A"},{"$error":"#N/A"},{"$error":"#N/A"},{"$error":"#N/A"},{"$error":"#N/A"},26,null,null,{"$error":"#REF!"},26,{"$f":"IF(ISNA(VLOOKUP($L29,'All Individuals Day 1'!$C$3:$F$254,4,FALSE)+VLOOKUP($L29,#REF!,4,FALSE))=TRUE,\"\",VLOOKUP($L29,'All Individuals Day 1'!$C$3:$F$254,4,FALSE)+VLOOKUP($L29,#REF!,4,FALSE))","v":""},{"$f":"IF(ISNA(VLOOKUP($L29,'All Individuals Day 1'!$C$3:$F$254,5,FALSE)+VLOOKUP($L29,#REF!,5,FALSE))=TRUE,\"\",VLOOKUP($L29,'All Individuals Day 1'!$C$3:$F$254,5,FALSE)+VLOOKUP($L29,#REF!,5,FALSE))","v":""},{"$f":"IF(ISNA(VLOOKUP($L29,'All Individuals Day 1'!$C$3:$J$254,8,FALSE))=TRUE,\"\",VLOOKUP($L29,'All Individuals Day 1'!$C$3:$J$254,8,FALSE))","v":""},{"$f":"IF(ISNA(VLOOKUP($L29,#REF!,8,FALSE))=TRUE,\"\",VLOOKUP($L29,#REF!,8,FALSE))","v":{"$error":"#REF!"}},{"$error":"#REF!"}]
[{"$f":"VLOOKUP($B30,#REF!,2,FALSE)","v":{"$error":"#N/A"}},{"$error":"#N/A"},{"$error":"#N/A"},{"$error":"#N/A"},{"$error":"#N/A"},{"$error":"#N/A"},{"$error":"#N/A"},27,null,null,{"$error":"#REF!"},27,{"$f":"IF(ISNA(VLOOKUP($L30,'All Individuals Day 1'!$C$3:$F$254,4,FALSE)+VLOOKUP($L30,#REF!,4,FALSE))=TRUE,\"\",VLOOKUP($L30,'All Individuals Day 1'!$C$3:$F$254,4,FALSE)+VLOOKUP($L30,#REF!,4,FALSE))","v":""},{"$f":"IF(ISNA(VLOOKUP($L30,'All Individuals Day 1'!$C$3:$F$254,5,FALSE)+VLOOKUP($L30,#REF!,5,FALSE))=TRUE,\"\",VLOOKUP($L30,'All Individuals Day 1'!$C$3:$F$254,5,FALSE)+VLOOKUP($L30,#REF!,5,FALSE))","v":""},{"$f":"IF(ISNA(VLOOKUP($L30,'All Individuals Day 1'!$C$3:$J$254,8,FALSE))=TRUE,\"\",VLOOKUP($L30,'All Individuals Day 1'!$C$3:$J$254,8,FALSE))","v":""},{"$f":"IF(ISNA(VLOOKUP($L30,#REF!,8,FALSE))=TRUE,\"\",VLOOKUP($L30,#REF!,8,FALSE))","v":{"$error":"#REF!"}},{"$error":"#REF!"}]
[{"$f":"VLOOKUP($B31,#REF!,2,FALSE)","v":{"$error":"#N/A"}},{"$error":"#N/A"},{"$error":"#N/A"},{"$error":"#N/A"},{"$error":"#N/A"},{"$error":"#N/A"},{"$error":"#N/A"},28,null,null,{"$error":"#REF!"},28,{"$f":"IF(ISNA(VLOOKUP($L31,'All Individuals Day 1'!$C$3:$F$254,4,FALSE)+VLOOKUP($L31,#REF!,4,FALSE))=TRUE,\"\",VLOOKUP($L31,'All Individuals Day 1'!$C$3:$F$254,4,FALSE)+VLOOKUP($L31,#REF!,4,FALSE))","v":""},{"$f":"IF(ISNA(VLOOKUP($L31,'All Individuals Day 1'!$C$3:$F$254,5,FALSE)+VLOOKUP($L31,#REF!,5,FALSE))=TRUE,\"\",VLOOKUP($L31,'All Individuals Day 1'!$C$3:$F$254,5,FALSE)+VLOOKUP($L31,#REF!,5,FALSE))","v":""},{"$f":"IF(ISNA(VLOOKUP($L31,'All Individuals Day 1'!$C$3:$J$254,8,FALSE))=TRUE,\"\",VLOOKUP($L31,'All Individuals Day 1'!$C$3:$J$254,8,FALSE))","v":""},{"$f":"IF(ISNA(VLOOKUP($L31,#REF!,8,FALSE))=TRUE,\"\",VLOOKUP($L31,#REF!,8,FALSE))","v":{"$error":"#REF!"}},{"$error":"#REF!"}]
[{"$f":"VLOOKUP($B32,#REF!,2,FALSE)","v":{"$error":"#N/A"}},{"$error":"#N/A"},{"$error":"#N/A"},{"$error":"#N/A"},{"$error":"#N/A"},{"$error":"#N/A"},{"$error":"#N/A"},29,null,null,{"$error":"#REF!"},29,{"$f":"IF(ISNA(VLOOKUP($L32,'All Individuals Day 1'!$C$3:$F$254,4,FALSE)+VLOOKUP($L32,#REF!,4,FALSE))=TRUE,\"\",VLOOKUP($L32,'All Individuals Day 1'!$C$3:$F$254,4,FALSE)+VLOOKUP($L32,#REF!,4,FALSE))","v":""},{"$f":"IF(ISNA(VLOOKUP($L32,'All Individuals Day 1'!$C$3:$F$254,5,FALSE)+VLOOKUP($L32,#REF!,5,FALSE))=TRUE,\"\",VLOOKUP($L32,'All Individuals Day 1'!$C$3:$F$254,5,FALSE)+VLOOKUP($L32,#REF!,5,FALSE))","v":""},{"$f":"IF(ISNA(VLOOKUP($L32,'All Individuals Day 1'!$C$3:$J$254,8,FALSE))=TRUE,\"\",VLOOKUP($L32,'All Individuals Day 1'!$C$3:$J$254,8,FALSE))","v":""},{"$f":"IF(ISNA(VLOOKUP($L32,#REF!,8,FALSE))=TRUE,\"\",VLOOKUP($L32,#REF!,8,FALSE))","v":{"$error":"#REF!"}},{"$error":"#REF!"}]
[{"$f":"VLOOKUP($B33,#REF!,2,FALSE)","v":{"$error":"#N/A"}},{"$error":"#N/A"},{"$error":"#N/A"},{"$error":"#N/A"},{"$error":"#N/A"},{"$error":"#N/A"},{"$error":"#N/A"},30,null,null,{"$error":"#REF!"},30,{"$f":"IF(ISNA(VLOOKUP($L33,'All Individuals Day 1'!$C$3:$F$254,4,FALSE)+VLOOKUP($L33,#REF!,4,FALSE))=TRUE,\"\",VLOOKUP($L33,'All Individuals Day 1'!$C$3:$F$254,4,FALSE)+VLOOKUP($L33,#REF!,4,FALSE))","v":""},{"$f":"IF(ISNA(VLOOKUP($L33,'All Individuals Day 1'!$C$3:$F$254,5,FALSE)+VLOOKUP($L33,#REF!,5,FALSE))=TRUE,\"\",VLOOKUP($L33,'All Individuals Day 1'!$C$3:$F$254,5,FALSE)+VLOOKUP($L33,#REF!,5,FALSE))","v":""},{"$f":"IF(ISNA(VLOOKUP($L33,'All Individuals Day 1'!$C$3:$J$254,8,FALSE))=TRUE,\"\",VLOOKUP($L33,'All Individuals Day 1'!$C$3:$J$254,8,FALSE))","v":""},{"$f":"IF(ISNA(VLOOKUP($L33,#REF!,8,FALSE))=TRUE,\"\",VLOOKUP($L33,#REF!,8,FALSE))","v":{"$error":"#REF!"}},{"$error":"#REF!"}]
[{"$f":"VLOOKUP($B34,#REF!,2,FALSE)","v":{"$error":"#N/A"}},{"$error":"#N/A"},{"$error":"#N/A"},{"$error":"#N/A"},{"$error":"#N/A"},{"$error":"#N/A"},{"$error":"#N/A"},31,null,null,{"$error":"#REF!"},31,{"$f":"IF(ISNA(VLOOKUP($L34,'All Individuals Day 1'!$C$3:$F$254,4,FALSE)+VLOOKUP($L34,#REF!,4,FALSE))=TRUE,\"\",VLOOKUP($L34,'All Individuals Day 1'!$C$3:$F$254,4,FALSE)+VLOOKUP($L34,#REF!,4,FALSE))","v":""},{"$f":"IF(ISNA(VLOOKUP($L34,'All Individuals Day 1'!$C$3:$F$254,5,FALSE)+VLOOKUP($L34,#REF!,5,FALSE))=TRUE,\"\",VLOOKUP($L34,'All Individuals Day 1'!$C$3:$F$254,5,FALSE)+VLOOKUP($L34,#REF!,5,FALSE))","v":""},{"$f":"IF(ISNA(VLOOKUP($L34,'All Individuals Day 1'!$C$3:$J$254,8,FALSE))=TRUE,\"\",VLOOKUP($L34,'All Individuals Day 1'!$C$3:$J$254,8,FALSE))","v":""},{"$f":"IF(ISNA(VLOOKUP($L34,#REF!,8,FALSE))=TRUE,\"\",VLOOKUP($L34,#REF!,8,FALSE))","v":{"$error":"#REF!"}},{"$error":"#REF!"}]
[{"$f":"VLOOKUP($B35,#REF!,2,FALSE)","v":{"$error":"#N/A"}},{"$error":"#N/A"},{"$error":"#N/A"},{"$error":"#N/A"},{"$error":"#N/A"},{"$error":"#N/A"},{"$error":"#N/A"},32,null,null,{"$error":"#REF!"},32,{"$f":"IF(ISNA(VLOOKUP($L35,'All Individuals Day 1'!$C$3:$F$254,4,FALSE)+VLOOKUP($L35,#REF!,4,FALSE))=TRUE,\"\",VLOOKUP($L35,'All Individuals Day 1'!$C$3:$F$254,4,FALSE)+VLOOKUP($L35,#REF!,4,FALSE))","v":""},{"$f":"IF(ISNA(VLOOKUP($L35,'All Individuals Day 1'!$C$3:$F$254,5,FALSE)+VLOOKUP($L35,#REF!,5,FALSE))=TRUE,\"\",VLOOKUP($L35,'All Individuals Day 1'!$C$3:$F$254,5,FALSE)+VLOOKUP($L35,#REF!,5,FALSE))","v":""},{"$f":"IF(ISNA(VLOOKUP($L35,'All Individuals Day 1'!$C$3:$J$254,8,FALSE))=TRUE,\"\",VLOOKUP($L35,'All Individuals Day 1'!$C$3:$J$254,8,FALSE))","v":""},{"$f":"IF(ISNA(VLOOKUP($L35,#REF!,8,FALSE))=TRUE,\"\",VLOOKUP($L35,#REF!,8,FALSE))","v":{"$error":"#REF!"}},{"$error":"#REF!"}]
[{"$f":"VLOOKUP($B36,#REF!,2,FALSE)","v":{"$error":"#N/A"}},{"$f":"VLOOKUP($H36,$K$4:$Q$300,2,FALSE)","v":{"$error":"#N/A"}},{"$f":"VLOOKUP($H36,$K$4:$Q$300,3,FALSE)","v":{"$error":"#N/A"}},{"$f":"VLOOKUP($H36,$K$4:$Q$300,4,FALSE)","v":{"$error":"#N/A"}},{"$f":"VLOOKUP($H36,$K$4:$Q$300,5,FALSE)","v":{"$error":"#N/A"}},{"$f":"VLOOKUP($H36,$K$4:$Q$300,6,FALSE)","v":{"$error":"#N/A"}},{"$f":"VLOOKUP($H36,$K$4:$Q$300,7,FALSE)","v":{"$error":"#N/A"}},33,null,null,{"$f":"IF(Q36=NpZ*NoZ*2,NpZ*NoZ,RANK(Q36,Q$4:Q$300,1))","v":{"$error":"#REF!"}},33,{"$f":"IF(ISNA(VLOOKUP($L36,'All Individuals Day 1'!$C$3:$F$254,4,FALSE)+VLOOKUP($L36,#REF!,4,FALSE))=TRUE,\"\",VLOOKUP($L36,'All Individuals Day 1'!$C$3:$F$254,4,FALSE)+VLOOKUP($L36,#REF!,4,FALSE))","v":""},{"$f":"IF(ISNA(VLOOKUP($L36,'All Individuals Day 1'!$C$3:$F$254,5,FALSE)+VLOOKUP($L36,#REF!,5,FALSE))=TRUE,\"\",VLOOKUP($L36,'All Individuals Day 1'!$C$3:$F$254,5,FALSE)+VLOOKUP($L36,#REF!,5,FALSE))","v":""},{"$f":"IF(ISNA(VLOOKUP($L36,'All Individuals Day 1'!$C$3:$J$254,8,FALSE))=TRUE,\"\",VLOOKUP($L36,'All Individuals Day 1'!$C$3:$J$254,8,FALSE))","v":""},{"$f":"IF(ISNA(VLOOKUP($L36,#REF!,8,FALSE))=TRUE,\"\",VLOOKUP($L36,#REF!,8,FALSE))","v":{"$error":"#REF!"}},{"$f":"IF(OR(M36=\"\",M36=0),NpZ*2,(O36+P36)-N36/100000-M36/1000000)","v":{"$error":"#REF!"}}]
[{"$f":"VLOOKUP($B37,#REF!,2,FALSE)","v":{"$error":"#N/A"}},{"$error":"#N/A"},{"$error":"#N/A"},{"$error":"#N/A"},{"$error":"#N/A"},{"$error":"#N/A"},{"$error":"#N/A"},34,null,null,{"$error":"#REF!"},34,{"$f":"IF(ISNA(VLOOKUP($L37,'All Individuals Day 1'!$C$3:$F$254,4,FALSE)+VLOOKUP($L37,#REF!,4,FALSE))=TRUE,\"\",VLOOKUP($L37,'All Individuals Day 1'!$C$3:$F$254,4,FALSE)+VLOOKUP($L37,#REF!,4,FALSE))","v":""},{"$f":"IF(ISNA(VLOOKUP($L37,'All Individuals Day 1'!$C$3:$F$254,5,FALSE)+VLOOKUP($L37,#REF!,5,FALSE))=TRUE,\"\",VLOOKUP($L37,'All Individuals Day 1'!$C$3:$F$254,5,FALSE)+VLOOKUP($L37,#REF!,5,FALSE))","v":""},{"$f":"IF(ISNA(VLOOKUP($L37,'All Individuals Day 1'!$C$3:$J$254,8,FALSE))=TRUE,\"\",VLOOKUP($L37,'All Individuals Day 1'!$C$3:$J$254,8,FALSE))","v":""},{"$f":"IF(ISNA(VLOOKUP($L37,#REF!,8,FALSE))=TRUE,\"\",VLOOKUP($L37,#REF!,8,FALSE))","v":{"$error":"#REF!"}},{"$error":"#REF!"}]
[{"$f":"VLOOKUP($B38,#REF!,2,FALSE)","v":{"$error":"#N/A"}},{"$error":"#N/A"},{"$error":"#N/A"},{"$error":"#N/A"},{"$error":"#N/A"},{"$error":"#N/A"},{"$error":"#N/A"},35,null,null,{"$error":"#REF!"},35,{"$f":"IF(ISNA(VLOOKUP($L38,'All Individuals Day 1'!$C$3:$F$254,4,FALSE)+VLOOKUP($L38,#REF!,4,FALSE))=TRUE,\"\",VLOOKUP($L38,'All Individuals Day 1'!$C$3:$F$254,4,FALSE)+VLOOKUP($L38,#REF!,4,FALSE))","v":""},{"$f":"IF(ISNA(VLOOKUP($L38,'All Individuals Day 1'!$C$3:$F$254,5,FALSE)+VLOOKUP($L38,#REF!,5,FALSE))=TRUE,\"\",VLOOKUP($L38,'All Individuals Day 1'!$C$3:$F$254,5,FALSE)+VLOOKUP($L38,#REF!,5,FALSE))","v":""},{"$f":"IF(ISNA(VLOOKUP($L38,'All Individuals Day 1'!$C$3:$J$254,8,FALSE))=TRUE,\"\",VLOOKUP($L38,'All Individuals Day 1'!$C$3:$J$254,8,FALSE))","v":""},{"$f":"IF(ISNA(VLOOKUP($L38,#REF!,8,FALSE))=TRUE,\"\",VLOOKUP($L38,#REF!,8,FALSE))","v":{"$error":"#REF!"}},{"$error":"#REF!"}]
[{"$f":"VLOOKUP($B39,#REF!,2,FALSE)","v":{"$error":"#N/A"}},{"$error":"#N/A"},{"$error":"#N/A"},{"$error":"#N/A"},{"$error":"#N/A"},{"$error":"#N/A"},{"$error":"#N/A"},36,null,null,{"$error":"#REF!"},36,{"$f":"IF(ISNA(VLOOKUP($L39,'All Individuals Day 1'!$C$3:$F$254,4,FALSE)+VLOOKUP($L39,#REF!,4,FALSE))=TRUE,\"\",VLOOKUP($L39,'All Individuals Day 1'!$C$3:$F$254,4,FALSE)+VLOOKUP($L39,#REF!,4,FALSE))","v":""},{"$f":"IF(ISNA(VLOOKUP($L39,'All Individuals Day 1'!$C$3:$F$254,5,FALSE)+VLOOKUP($L39,#REF!,5,FALSE))=TRUE,\"\",VLOOKUP($L39,'All Individuals Day 1'!$C$3:$F$254,5,FALSE)+VLOOKUP($L39,#REF!,5,FALSE))","v":""},{"$f":"IF(ISNA(VLOOKUP($L39,'All Individuals Day 1'!$C$3:$J$254,8,FALSE))=TRUE,\"\",VLOOKUP($L39,'All Individuals Day 1'!$C$3:$J$254,8,FALSE))","v":""},{"$f":"IF(ISNA(VLOOKUP($L39,#REF!,8,FALSE))=TRUE,\"\",VLOOKUP($L39,#REF!,8,FALSE))","v":{"$error":"#REF!"}},{"$error":"#REF!"}]
[{"$f":"VLOOKUP($B40,#REF!,2,FALSE)","v":{"$error":"#N/A"}},{"$error":"#N/A"},{"$error":"#N/A"},{"$error":"#N/A"},{"$error":"#N/A"},{"$error":"#N/A"},{"$error":"#N/A"},37,null,null,{"$error":"#REF!"},37,{"$f":"IF(ISNA(VLOOKUP($L40,'All Individuals Day 1'!$C$3:$F$254,4,FALSE)+VLOOKUP($L40,#REF!,4,FALSE))=TRUE,\"\",VLOOKUP($L40,'All Individuals Day 1'!$C$3:$F$254,4,FALSE)+VLOOKUP($L40,#REF!,4,FALSE))","v":""},{"$f":"IF(ISNA(VLOOKUP($L40,'All Individuals Day 1'!$C$3:$F$254,5,FALSE)+VLOOKUP($L40,#REF!,5,FALSE))=TRUE,\"\",VLOOKUP($L40,'All Individuals Day 1'!$C$3:$F$254,5,FALSE)+VLOOKUP($L40,#REF!,5,FALSE))","v":""},{"$f":"IF(ISNA(VLOOKUP($L40,'All Individuals Day 1'!$C$3:$J$254,8,FALSE))=TRUE,\"\",VLOOKUP($L40,'All Individuals Day 1'!$C$3:$J$254,8,FALSE))","v":""},{"$f":"IF(ISNA(VLOOKUP($L40,#REF!,8,FALSE))=TRUE,\"\",VLOOKUP($L40,#REF!,8,FALSE))","v":{"$error":"#REF!"}},{"$error":"#REF!"}]
[{"$f":"VLOOKUP($B41,#REF!,2,FALSE)","v":{"$error":"#N/A"}},{"$error":"#N/A"},{"$error":"#N/A"},{"$error":"#N/A"},{"$error":"#N/A"},{"$error":"#N/A"},{"$error":"#N/A"},38,null,null,{"$error":"#REF!"},38,{"$f":"IF(ISNA(VLOOKUP($L41,'All Individuals Day 1'!$C$3:$F$254,4,FALSE)+VLOOKUP($L41,#REF!,4,FALSE))=TRUE,\"\",VLOOKUP($L41,'All Individuals Day 1'!$C$3:$F$254,4,FALSE)+VLOOKUP($L41,#REF!,4,FALSE))","v":""},{"$f":"IF(ISNA(VLOOKUP($L41,'All Individuals Day 1'!$C$3:$F$254,5,FALSE)+VLOOKUP($L41,#REF!,5,FALSE))=TRUE,\"\",VLOOKUP($L41,'All Individuals Day 1'!$C$3:$F$254,5,FALSE)+VLOOKUP($L41,#REF!,5,FALSE))","v":""},{"$f":"IF(ISNA(VLOOKUP($L41,'All Individuals Day 1'!$C$3:$J$254,8,FALSE))=TRUE,\"\",VLOOKUP($L41,'All Individuals Day 1'!$C$3:$J$254,8,FALSE))","v":""},{"$f":"IF(ISNA(VLOOKUP($L41,#REF!,8,FALSE))=TRUE,\"\",VLOOKUP($L41,#REF!,8,FALSE))","v":{"$error":"#REF!"}},{"$error":"#REF!"}]
[{"$f":"VLOOKUP($B42,#REF!,2,FALSE)","v":{"$error":"#N/A"}},{"$error":"#N/A"},{"$error":"#N/A"},{"$error":"#N/A"},{"$error":"#N/A"},{"$error":"#N/A"},{"$error":"#N/A"},39,null,null,{"$error":"#REF!"},39,{"$f":"IF(ISNA(VLOOKUP($L42,'All Individuals Day 1'!$C$3:$F$254,4,FALSE)+VLOOKUP($L42,#REF!,4,FALSE))=TRUE,\"\",VLOOKUP($L42,'All Individuals Day 1'!$C$3:$F$254,4,FALSE)+VLOOKUP($L42,#REF!,4,FALSE))","v":""},{"$f":"IF(ISNA(VLOOKUP($L42,'All Individuals Day 1'!$C$3:$F$254,5,FALSE)+VLOOKUP($L42,#REF!,5,FALSE))=TRUE,\"\",VLOOKUP($L42,'All Individuals Day 1'!$C$3:$F$254,5,FALSE)+VLOOKUP($L42,#REF!,5,FALSE))","v":""},{"$f":"IF(ISNA(VLOOKUP($L42,'All Individuals Day 1'!$C$3:$J$254,8,FALSE))=TRUE,\"\",VLOOKUP($L42,'All Individuals Day 1'!$C$3:$J$254,8,FALSE))","v":""},{"$f":"IF(ISNA(VLOOKUP($L42,#REF!,8,FALSE))=TRUE,\"\",VLOOKUP($L42,#REF!,8,FALSE))","v":{"$error":"#REF!"}},{"$error":"#REF!"}]
[{"$f":"VLOOKUP($B43,#REF!,2,FALSE)","v":{"$error":"#N/A"}},{"$error":"#N/A"},{"$error":"#N/A"},{"$error":"#N/A"},{"$error":"#N/A"},{"$error":"#N/A"},{"$error":"#N/A"},40,null,null,{"$error":"#REF!"},40,{"$f":"IF(ISNA(VLOOKUP($L43,'All Individuals Day 1'!$C$3:$F$254,4,FALSE)+VLOOKUP($L43,#REF!,4,FALSE))=TRUE,\"\",VLOOKUP($L43,'All Individuals Day 1'!$C$3:$F$254,4,FALSE)+VLOOKUP($L43,#REF!,4,FALSE))","v":""},{"$f":"IF(ISNA(VLOOKUP($L43,'All Individuals Day 1'!$C$3:$F$254,5,FALSE)+VLOOKUP($L43,#REF!,5,FALSE))=TRUE,\"\",VLOOKUP($L43,'All Individuals Day 1'!$C$3:$F$254,5,FALSE)+VLOOKUP($L43,#REF!,5,FALSE))","v":""},{"$f":"IF(ISNA(VLOOKUP($L43,'All Individuals Day 1'!$C$3:$J$254,8,FALSE))=TRUE,\"\",VLOOKUP($L43,'All Individuals Day 1'!$C$3:$J$254,8,FALSE))","v":""},{"$f":"IF(ISNA(VLOOKUP($L43,#REF!,8,FALSE))=TRUE,\"\",VLOOKUP($L43,#REF!,8,FALSE))","v":{"$error":"#REF!"}},{"$error":"#REF!"}]
[{"$f":"VLOOKUP($B44,#REF!,2,FALSE)","v":{"$error":"#N/A"}},{"$error":"#N/A"},{"$error":"#N/A"},{"$error":"#N/A"},{"$error":"#N/A"},{"$error":"#N/A"},{"$error":"#N/A"},41,null,null,{"$error":"#REF!"},41,{"$f":"IF(ISNA(VLOOKUP($L44,'All Individuals Day 1'!$C$3:$F$254,4,FALSE)+VLOOKUP($L44,#REF!,4,FALSE))=TRUE,\"\",VLOOKUP($L44,'All Individuals Day 1'!$C$3:$F$254,4,FALSE)+VLOOKUP($L44,#REF!,4,FALSE))","v":""},{"$f":"IF(ISNA(VLOOKUP($L44,'All Individuals Day 1'!$C$3:$F$254,5,FALSE)+VLOOKUP($L44,#REF!,5,FALSE))=TRUE,\"\",VLOOKUP($L44,'All Individuals Day 1'!$C$3:$F$254,5,FALSE)+VLOOKUP($L44,#REF!,5,FALSE))","v":""},{"$f":"IF(ISNA(VLOOKUP($L44,'All Individuals Day 1'!$C$3:$J$254,8,FALSE))=TRUE,\"\",VLOOKUP($L44,'All Individuals Day 1'!$C$3:$J$254,8,FALSE))","v":""},{"$f":"IF(ISNA(VLOOKUP($L44,#REF!,8,FALSE))=TRUE,\"\",VLOOKUP($L44,#REF!,8,FALSE))","v":{"$error":"#REF!"}},{"$error":"#REF!"}]
[{"$f":"VLOOKUP($B45,#REF!,2,FALSE)","v":{"$error":"#N/A"}},{"$error":"#N/A"},{"$error":"#N/A"},{"$error":"#N/A"},{"$error":"#N/A"},{"$error":"#N/A"},{"$error":"#N/A"},42,null,null,{"$error":"#REF!"},42,{"$f":"IF(ISNA(VLOOKUP($L45,'All Individuals Day 1'!$C$3:$F$254,4,FALSE)+VLOOKUP($L45,#REF!,4,FALSE))=TRUE,\"\",VLOOKUP($L45,'All Individuals Day 1'!$C$3:$F$254,4,FALSE)+VLOOKUP($L45,#REF!,4,FALSE))","v":""},{"$f":"IF(ISNA(VLOOKUP($L45,'All Individuals Day 1'!$C$3:$F$254,5,FALSE)+VLOOKUP($L45,#REF!,5,FALSE))=TRUE,\"\",VLOOKUP($L45,'All Individuals Day 1'!$C$3:$F$254,5,FALSE)+VLOOKUP($L45,#REF!,5,FALSE))","v":""},{"$f":"IF(ISNA(VLOOKUP($L45,'All Individuals Day 1'!$C$3:$J$254,8,FALSE))=TRUE,\"\",VLOOKUP($L45,'All Individuals Day 1'!$C$3:$J$254,8,FALSE))","v":""},{"$f":"IF(ISNA(VLOOKUP($L45,#REF!,8,FALSE))=TRUE,\"\",VLOOKUP($L45,#REF!,8,FALSE))","v":{"$error":"#REF!"}},{"$error":"#REF!"}]
[{"$f":"VLOOKUP($B46,#REF!,2,FALSE)","v":{"$error":"#N/A"}},{"$error":"#N/A"},{"$error":"#N/A"},{"$error":"#N/A"},{"$error":"#N/A"},{"$error":"#N/A"},{"$error":"#N/A"},43,null,null,{"$error":"#REF!"},43,{"$f":"IF(ISNA(VLOOKUP($L46,'All Individuals Day 1'!$C$3:$F$254,4,FALSE)+VLOOKUP($L46,#REF!,4,FALSE))=TRUE,\"\",VLOOKUP($L46,'All Individuals Day 1'!$C$3:$F$254,4,FALSE)+VLOOKUP($L46,#REF!,4,FALSE))","v":""},{"$f":"IF(ISNA(VLOOKUP($L46,'All Individuals Day 1'!$C$3:$F$254,5,FALSE)+VLOOKUP($L46,#REF!,5,FALSE))=TRUE,\"\",VLOOKUP($L46,'All Individuals Day 1'!$C$3:$F$254,5,FALSE)+VLOOKUP($L46,#REF!,5,FALSE))","v":""},{"$f":"IF(ISNA(VLOOKUP($L46,'All Individuals Day 1'!$C$3:$J$254,8,FALSE))=TRUE,\"\",VLOOKUP($L46,'All Individuals Day 1'!$C$3:$J$254,8,FALSE))","v":""},{"$f":"IF(ISNA(VLOOKUP($L46,#REF!,8,FALSE))=TRUE,\"\",VLOOKUP($L46,#REF!,8,FALSE))","v":{"$error":"#REF!"}},{"$error":"#REF!"}]
[{"$f":"VLOOKUP($B47,#REF!,2,FALSE)","v":{"$error":"#N/A"}},{"$error":"#N/A"},{"$error":"#N/A"},{"$error":"#N/A"},{"$error":"#N/A"},{"$error":"#N/A"},{"$error":"#N/A"},44,null,null,{"$error":"#REF!"},44,{"$f":"IF(ISNA(VLOOKUP($L47,'All Individuals Day 1'!$C$3:$F$254,4,FALSE)+VLOOKUP($L47,#REF!,4,FALSE))=TRUE,\"\",VLOOKUP($L47,'All Individuals Day 1'!$C$3:$F$254,4,FALSE)+VLOOKUP($L47,#REF!,4,FALSE))","v":""},{"$f":"IF(ISNA(VLOOKUP($L47,'All Individuals Day 1'!$C$3:$F$254,5,FALSE)+VLOOKUP($L47,#REF!,5,FALSE))=TRUE,\"\",VLOOKUP($L47,'All Individuals Day 1'!$C$3:$F$254,5,FALSE)+VLOOKUP($L47,#REF!,5,FALSE))","v":""},{"$f":"IF(ISNA(VLOOKUP($L47,'All Individuals Day 1'!$C$3:$J$254,8,FALSE))=TRUE,\"\",VLOOKUP($L47,'All Individuals Day 1'!$C$3:$J$254,8,FALSE))","v":""},{"$f":"IF(ISNA(VLOOKUP($L47,#REF!,8,FALSE))=TRUE,\"\",VLOOKUP($L47,#REF!,8,FALSE))","v":{"$error":"#REF!"}},{"$error":"#REF!"}]
[{"$f":"VLOOKUP($B48,#REF!,2,FALSE)","v":{"$error":"#N/A"}},{"$error":"#N/A"},{"$error":"#N/A"},{"$error":"#N/A"},{"$error":"#N/A"},{"$error":"#N/A"},{"$error":"#N/A"},45,null,null,{"$error":"#REF!"},45,{"$f":"IF(ISNA(VLOOKUP($L48,'All Individuals Day 1'!$C$3:$F$254,4,FALSE)+VLOOKUP($L48,#REF!,4,FALSE))=TRUE,\"\",VLOOKUP($L48,'All Individuals Day 1'!$C$3:$F$254,4,FALSE)+VLOOKUP($L48,#REF!,4,FALSE))","v":""},{"$f":"IF(ISNA(VLOOKUP($L48,'All Individuals Day 1'!$C$3:$F$254,5,FALSE)+VLOOKUP($L48,#REF!,5,FALSE))=TRUE,\"\",VLOOKUP($L48,'All Individuals Day 1'!$C$3:$F$254,5,FALSE)+VLOOKUP($L48,#REF!,5,FALSE))","v":""},{"$f":"IF(ISNA(VLOOKUP($L48,'All Individuals Day 1'!$C$3:$J$254,8,FALSE))=TRUE,\"\",VLOOKUP($L48,'All Individuals Day 1'!$C$3:$J$254,8,FALSE))","v":""},{"$f":"IF(ISNA(VLOOKUP($L48,#REF!,8,FALSE))=TRUE,\"\",VLOOKUP($L48,#REF!,8,FALSE))","v":{"$error":"#REF!"}},{"$error":"#REF!"}]
[{"$f":"VLOOKUP($B49,#REF!,2,FALSE)","v":{"$error":"#N/A"}},{"$error":"#N/A"},{"$error":"#N/A"},{"$error":"#N/A"},{"$error":"#N/A"},{"$error":"#N/A"},{"$error":"#N/A"},46,null,null,{"$error":"#REF!"},46,{"$f":"IF(ISNA(VLOOKUP($L49,'All Individuals Day 1'!$C$3:$F$254,4,FALSE)+VLOOKUP($L49,#REF!,4,FALSE))=TRUE,\"\",VLOOKUP($L49,'All Individuals Day 1'!$C$3:$F$254,4,FALSE)+VLOOKUP($L49,#REF!,4,FALSE))","v":""},{"$f":"IF(ISNA(VLOOKUP($L49,'All Individuals Day 1'!$C$3:$F$254,5,FALSE)+VLOOKUP($L49,#REF!,5,FALSE))=TRUE,\"\",VLOOKUP($L49,'All Individuals Day 1'!$C$3:$F$254,5,FALSE)+VLOOKUP($L49,#REF!,5,FALSE))","v":""},{"$f":"IF(ISNA(VLOOKUP($L49,'All Individuals Day 1'!$C$3:$J$254,8,FALSE))=TRUE,\"\",VLOOKUP($L49,'All Individuals Day 1'!$C$3:$J$254,8,FALSE))","v":""},{"$f":"IF(ISNA(VLOOKUP($L49,#REF!,8,FALSE))=TRUE,\"\",VLOOKUP($L49,#REF!,8,FALSE))","v":{"$error":"#REF!"}},{"$error":"#REF!"}]
[{"$f":"VLOOKUP($B50,#REF!,2,FALSE)","v":{"$error":"#N/A"}},{"$error":"#N/A"},{"$error":"#N/A"},{"$error":"#N/A"},{"$error":"#N/A"},{"$error":"#N/A"},{"$error":"#N/A"},47,null,null,{"$error":"#REF!"},47,{"$f":"IF(ISNA(VLOOKUP($L50,'All Individuals Day 1'!$C$3:$F$254,4,FALSE)+VLOOKUP($L50,#REF!,4,FALSE))=TRUE,\"\",VLOOKUP($L50,'All Individuals Day 1'!$C$3:$F$254,4,FALSE)+VLOOKUP($L50,#REF!,4,FALSE))","v":""},{"$f":"IF(ISNA(VLOOKUP($L50,'All Individuals Day 1'!$C$3:$F$254,5,FALSE)+VLOOKUP($L50,#REF!,5,FALSE))=TRUE,\"\",VLOOKUP($L50,'All Individuals Day 1'!$C$3:$F$254,5,FALSE)+VLOOKUP($L50,#REF!,5,FALSE))","v":""},{"$f":"IF(ISNA(VLOOKUP($L50,'All Individuals Day 1'!$C$3:$J$254,8,FALSE))=TRUE,\"\",VLOOKUP($L50,'All Individuals Day 1'!$C$3:$J$254,8,FALSE))","v":""},{"$f":"IF(ISNA(VLOOKUP($L50,#REF!,8,FALSE))=TRUE,\"\",VLOOKUP($L50,#REF!,8,FALSE))","v":{"$error":"#REF!"}},{"$error":"#REF!"}]
[{"$f":"VLOOKUP($B51,#REF!,2,FALSE)","v":{"$error":"#N/A"}},{"$error":"#N/A"},{"$error":"#N/A"},{"$error":"#N/A"},{"$error":"#N/A"},{"$error":"#N/A"},{"$error":"#N/A"},48,null,null,{"$error":"#REF!"},48,{"$f":"IF(ISNA(VLOOKUP($L51,'All Individuals Day 1'!$C$3:$F$254,4,FALSE)+VLOOKUP($L51,#REF!,4,FALSE))=TRUE,\"\",VLOOKUP($L51,'All Individuals Day 1'!$C$3:$F$254,4,FALSE)+VLOOKUP($L51,#REF!,4,FALSE))","v":""},{"$f":"IF(ISNA(VLOOKUP($L51,'All Individuals Day 1'!$C$3:$F$254,5,FALSE)+VLOOKUP($L51,#REF!,5,FALSE))=TRUE,\"\",VLOOKUP($L51,'All Individuals Day 1'!$C$3:$F$254,5,FALSE)+VLOOKUP($L51,#REF!,5,FALSE))","v":""},{"$f":"IF(ISNA(VLOOKUP($L51,'All Individuals Day 1'!$C$3:$J$254,8,FALSE))=TRUE,\"\",VLOOKUP($L51,'All Individuals Day 1'!$C$3:$J$254,8,FALSE))","v":""},{"$f":"IF(ISNA(VLOOKUP($L51,#REF!,8,FALSE))=TRUE,\"\",VLOOKUP($L51,#REF!,8,FALSE))","v":{"$error":"#REF!"}},{"$error":"#REF!"}]
[{"$f":"VLOOKUP($B52,#REF!,2,FALSE)","v":{"$error":"#N/A"}},{"$error":"#N/A"},{"$error":"#N/A"},{"$error":"#N/A"},{"$error":"#N/A"},{"$error":"#N/A"},{"$error":"#N/A"},49,null,null,{"$error":"#REF!"},49,{"$f":"IF(ISNA(VLOOKUP($L52,'All Individuals Day 1'!$C$3:$F$254,4,FALSE)+VLOOKUP($L52,#REF!,4,FALSE))=TRUE,\"\",VLOOKUP($L52,'All Individuals Day 1'!$C$3:$F$254,4,FALSE)+VLOOKUP($L52,#REF!,4,FALSE))","v":""},{"$f":"IF(ISNA(VLOOKUP($L52,'All Individuals Day 1'!$C$3:$F$254,5,FALSE)+VLOOKUP($L52,#REF!,5,FALSE))=TRUE,\"\",VLOOKUP($L52,'All Individuals Day 1'!$C$3:$F$254,5,FALSE)+VLOOKUP($L52,#REF!,5,FALSE))","v":""},{"$f":"IF(ISNA(VLOOKUP($L52,'All Individuals Day 1'!$C$3:$J$254,8,FALSE))=TRUE,\"\",VLOOKUP($L52,'All Individuals Day 1'!$C$3:$J$254,8,FALSE))","v":""},{"$f":"IF(ISNA(VLOOKUP($L52,#REF!,8,FALSE))=TRUE,\"\",VLOOKUP($L52,#REF!,8,FALSE))","v":{"$error":"#REF!"}},{"$error":"#REF!"}]
[{"$f":"VLOOKUP($B53,#REF!,2,FALSE)","v":{"$error":"#N/A"}},{"$error":"#N/A"},{"$error":"#N/A"},{"$error":"#N/A"},{"$error":"#N/A"},{"$error":"#N/A"},{"$error":"#N/A"},50,null,null,{"$error":"#REF!"},50,{"$f":"IF(ISNA(VLOOKUP($L53,'All Individuals Day 1'!$C$3:$F$254,4,FALSE)+VLOOKUP($L53,#REF!,4,FALSE))=TRUE,\"\",VLOOKUP($L53,'All Individuals Day 1'!$C$3:$F$254,4,FALSE)+VLOOKUP($L53,#REF!,4,FALSE))","v":""},{"$f":"IF(ISNA(VLOOKUP($L53,'All Individuals Day 1'!$C$3:$F$254,5,FALSE)+VLOOKUP($L53,#REF!,5,FALSE))=TRUE,\"\",VLOOKUP($L53,'All Individuals Day 1'!$C$3:$F$254,5,FALSE)+VLOOKUP($L53,#REF!,5,FALSE))","v":""},{"$f":"IF(ISNA(VLOOKUP($L53,'All Individuals Day 1'!$C$3:$J$254,8,FALSE))=TRUE,\"\",VLOOKUP($L53,'All Individuals Day 1'!$C$3:$J$254,8,FALSE))","v":""},{"$f":"IF(ISNA(VLOOKUP($L53,#REF!,8,FALSE))=TRUE,\"\",VLOOKUP($L53,#REF!,8,FALSE))","v":{"$error":"#REF!"}},{"$error":"#REF!"}]
[{"$f":"VLOOKUP($B54,#REF!,2,FALSE)","v":{"$error":"#N/A"}},{"$error":"#N/A"},{"$error":"#N/A"},{"$error":"#N/A"},{"$error":"#N/A"},{"$error":"#N/A"},{"$error":"#N/A"},51,null,null,{"$error":"#REF!"},51,{"$f":"IF(ISNA(VLOOKUP($L54,'All Individuals Day 1'!$C$3:$F$254,4,FALSE)+VLOOKUP($L54,#REF!,4,FALSE))=TRUE,\"\",VLOOKUP($L54,'All Individuals Day 1'!$C$3:$F$254,4,FALSE)+VLOOKUP($L54,#REF!,4,FALSE))","v":""},{"$f":"IF(ISNA(VLOOKUP($L54,'All Individuals Day 1'!$C$3:$F$254,5,FALSE)+VLOOKUP($L54,#REF!,5,FALSE))=TRUE,\"\",VLOOKUP($L54,'All Individuals Day 1'!$C$3:$F$254,5,FALSE)+VLOOKUP($L54,#REF!,5,FALSE))","v":""},{"$f":"IF(ISNA(VLOOKUP($L54,'All Individuals Day 1'!$C$3:$J$254,8,FALSE))=TRUE,\"\",VLOOKUP($L54,'All Individuals Day 1'!$C$3:$J$254,8,FALSE))","v":""},{"$f":"IF(ISNA(VLOOKUP($L54,#REF!,8,FALSE))=TRUE,\"\",VLOOKUP($L54,#REF!,8,FALSE))","v":{"$error":"#REF!"}},{"$error":"#REF!"}]
[{"$f":"VLOOKUP($B55,#REF!,2,FALSE)","v":{"$error":"#N/A"}},{"$error":"#N/A"},{"$error":"#N/A"},{"$error":"#N/A"},{"$error":"#N/A"},{"$error":"#N/A"},{"$error":"#N/A"},52,null,null,{"$error":"#REF!"},52,{"$f":"IF(ISNA(VLOOKUP($L55,'All Individuals Day 1'!$C$3:$F$254,4,FALSE)+VLOOKUP($L55,#REF!,4,FALSE))=TRUE,\"\",VLOOKUP($L55,'All Individuals Day 1'!$C$3:$F$254,4,FALSE)+VLOOKUP($L55,#REF!,4,FALSE))","v":""},{"$f":"IF(ISNA(VLOOKUP($L55,'All Individuals Day 1'!$C$3:$F$254,5,FALSE)+VLOOKUP($L55,#REF!,5,FALSE))=TRUE,\"\",VLOOKUP($L55,'All Individuals Day 1'!$C$3:$F$254,5,FALSE)+VLOOKUP($L55,#REF!,5,FALSE))","v":""},{"$f":"IF(ISNA(VLOOKUP($L55,'All Individuals Day 1'!$C$3:$J$254,8,FALSE))=TRUE,\"\",VLOOKUP($L55,'All Individuals Day 1'!$C$3:$J$254,8,FALSE))","v":""},{"$f":"IF(ISNA(VLOOKUP($L55,#REF!,8,FALSE))=TRUE,\"\",VLOOKUP($L55,#REF!,8,FALSE))","v":{"$error":"#REF!"}},{"$error":"#REF!"}]
[{"$f":"VLOOKUP($B56,#REF!,2,FALSE)","v":{"$error":"#N/A"}},{"$error":"#N/A"},{"$error":"#N/A"},{"$error":"#N/A"},{"$error":"#N/A"},{"$error":"#N/A"},{"$error":"#N/A"},53,null,null,{"$error":"#REF!"},53,{"$f":"IF(ISNA(VLOOKUP($L56,'All Individuals Day 1'!$C$3:$F$254,4,FALSE)+VLOOKUP($L56,#REF!,4,FALSE))=TRUE,\"\",VLOOKUP($L56,'All Individuals Day 1'!$C$3:$F$254,4,FALSE)+VLOOKUP($L56,#REF!,4,FALSE))","v":""},{"$f":"IF(ISNA(VLOOKUP($L56,'All Individuals Day 1'!$C$3:$F$254,5,FALSE)+VLOOKUP($L56,#REF!,5,FALSE))=TRUE,\"\",VLOOKUP($L56,'All Individuals Day 1'!$C$3:$F$254,5,FALSE)+VLOOKUP($L56,#REF!,5,FALSE))","v":""},{"$f":"IF(ISNA(VLOOKUP($L56,'All Individuals Day 1'!$C$3:$J$254,8,FALSE))=TRUE,\"\",VLOOKUP($L56,'All Individuals Day 1'!$C$3:$J$254,8,FALSE))","v":""},{"$f":"IF(ISNA(VLOOKUP($L56,#REF!,8,FALSE))=TRUE,\"\",VLOOKUP($L56,#REF!,8,FALSE))","v":{"$error":"#REF!"}},{"$error":"#REF!"}]
[{"$f":"VLOOKUP($B57,#REF!,2,FALSE)","v":{"$error":"#N/A"}},{"$error":"#N/A"},{"$error":"#N/A"},{"$error":"#N/A"},{"$error":"#N/A"},{"$error":"#N/A"},{"$error":"#N/A"},54,null,null,{"$error":"#REF!"},54,{"$f":"IF(ISNA(VLOOKUP($L57,'All Individuals Day 1'!$C$3:$F$254,4,FALSE)+VLOOKUP($L57,#REF!,4,FALSE))=TRUE,\"\",VLOOKUP($L57,'All Individuals Day 1'!$C$3:$F$254,4,FALSE)+VLOOKUP($L57,#REF!,4,FALSE))","v":""},{"$f":"IF(ISNA(VLOOKUP($L57,'All Individuals Day 1'!$C$3:$F$254,5,FALSE)+VLOOKUP($L57,#REF!,5,FALSE))=TRUE,\"\",VLOOKUP($L57,'All Individuals Day 1'!$C$3:$F$254,5,FALSE)+VLOOKUP($L57,#REF!,5,FALSE))","v":""},{"$f":"IF(ISNA(VLOOKUP($L57,'All Individuals Day 1'!$C$3:$J$254,8,FALSE))=TRUE,\"\",VLOOKUP($L57,'All Individuals Day 1'!$C$3:$J$254,8,FALSE))","v":""},{"$f":"IF(ISNA(VLOOKUP($L57,#REF!,8,FALSE))=TRUE,\"\",VLOOKUP($L57,#REF!,8,FALSE))","v":{"$error":"#REF!"}},{"$error":"#REF!"}]
[{"$f":"VLOOKUP($B58,#REF!,2,FALSE)","v":{"$error":"#N/A"}},{"$error":"#N/A"},{"$error":"#N/A"},{"$error":"#N/A"},{"$error":"#N/A"},{"$error":"#N/A"},{"$error":"#N/A"},55,null,null,{"$error":"#REF!"},55,{"$f":"IF(ISNA(VLOOKUP($L58,'All Individuals Day 1'!$C$3:$F$254,4,FALSE)+VLOOKUP($L58,#REF!,4,FALSE))=TRUE,\"\",VLOOKUP($L58,'All Individuals Day 1'!$C$3:$F$254,4,FALSE)+VLOOKUP($L58,#REF!,4,FALSE))","v":""},{"$f":"IF(ISNA(VLOOKUP($L58,'All Individuals Day 1'!$C$3:$F$254,5,FALSE)+VLOOKUP($L58,#REF!,5,FALSE))=TRUE,\"\",VLOOKUP($L58,'All Individuals Day 1'!$C$3:$F$254,5,FALSE)+VLOOKUP($L58,#REF!,5,FALSE))","v":""},{"$f":"IF(ISNA(VLOOKUP($L58,'All Individuals Day 1'!$C$3:$J$254,8,FALSE))=TRUE,\"\",VLOOKUP($L58,'All Individuals Day 1'!$C$3:$J$254,8,FALSE))","v":""},{"$f":"IF(ISNA(VLOOKUP($L58,#REF!,8,FALSE))=TRUE,\"\",VLOOKUP($L58,#REF!,8,FALSE))","v":{"$error":"#REF!"}},{"$error":"#REF!"}]
[{"$f":"VLOOKUP($B59,#REF!,2,FALSE)","v":{"$error":"#N/A"}},{"$error":"#N/A"},{"$error":"#N/A"},{"$error":"#N/A"},{"$error":"#N/A"},{"$error":"#N/A"},{"$error":"#N/A"},56,null,null,{"$error":"#REF!"},56,{"$f":"IF(ISNA(VLOOKUP($L59,'All Individuals Day 1'!$C$3:$F$254,4,FALSE)+VLOOKUP($L59,#REF!,4,FALSE))=TRUE,\"\",VLOOKUP($L59,'All Individuals Day 1'!$C$3:$F$254,4,FALSE)+VLOOKUP($L59,#REF!,4,FALSE))","v":""},{"$f":"IF(ISNA(VLOOKUP($L59,'All Individuals Day 1'!$C$3:$F$254,5,FALSE)+VLOOKUP($L59,#REF!,5,FALSE))=TRUE,\"\",VLOOKUP($L59,'All Individuals Day 1'!$C$3:$F$254,5,FALSE)+VLOOKUP($L59,#REF!,5,FALSE))","v":""},{"$f":"IF(ISNA(VLOOKUP($L59,'All Individuals Day 1'!$C$3:$J$254,8,FALSE))=TRUE,\"\",VLOOKUP($L59,'All Individuals Day 1'!$C$3:$J$254,8,FALSE))","v":""},{"$f":"IF(ISNA(VLOOKUP($L59,#REF!,8,FALSE))=TRUE,\"\",VLOOKUP($L59,#REF!,8,FALSE))","v":{"$error":"#REF!"}},{"$error":"#REF!"}]
[{"$f":"VLOOKUP($B60,#REF!,2,FALSE)","v":{"$error":"#N/A"}},{"$error":"#N/A"},{"$error":"#N/A"},{"$error":"#N/A"},{"$error":"#N/A"},{"$error":"#N/A"},{"$error":"#N/A"},57,null,null,{"$error":"#REF!"},57,{"$f":"IF(ISNA(VLOOKUP($L60,'All Individuals Day 1'!$C$3:$F$254,4,FALSE)+VLOOKUP($L60,#REF!,4,FALSE))=TRUE,\"\",VLOOKUP($L60,'All Individuals Day 1'!$C$3:$F$254,4,FALSE)+VLOOKUP($L60,#REF!,4,FALSE))","v":""},{"$f":"IF(ISNA(VLOOKUP($L60,'All Individuals Day 1'!$C$3:$F$254,5,FALSE)+VLOOKUP($L60,#REF!,5,FALSE))=TRUE,\"\",VLOOKUP($L60,'All Individuals Day 1'!$C$3:$F$254,5,FALSE)+VLOOKUP($L60,#REF!,5,FALSE))","v":""},{"$f":"IF(ISNA(VLOOKUP($L60,'All Individuals Day 1'!$C$3:$J$254,8,FALSE))=TRUE,\"\",VLOOKUP($L60,'All Individuals Day 1'!$C$3:$J$254,8,FALSE))","v":""},{"$f":"IF(ISNA(VLOOKUP($L60,#REF!,8,FALSE))=TRUE,\"\",VLOOKUP($L60,#REF!,8,FALSE))","v":{"$error":"#REF!"}},{"$error":"#REF!"}]
[{"$f":"VLOOKUP($B61,#REF!,2,FALSE)","v":{"$error":"#N/A"}},{"$error":"#N/A"},{"$error":"#N/A"},{"$error":"#N/A"},{"$error":"#N/A"},{"$error":"#N/A"},{"$error":"#N/A"},58,null,null,{"$error":"#REF!"},58,{"$f":"IF(ISNA(VLOOKUP($L61,'All Individuals Day 1'!$C$3:$F$254,4,FALSE)+VLOOKUP($L61,#REF!,4,FALSE))=TRUE,\"\",VLOOKUP($L61,'All Individuals Day 1'!$C$3:$F$254,4,FALSE)+VLOOKUP($L61,#REF!,4,FALSE))","v":""},{"$f":"IF(ISNA(VLOOKUP($L61,'All Individuals Day 1'!$C$3:$F$254,5,FALSE)+VLOOKUP($L61,#REF!,5,FALSE))=TRUE,\"\",VLOOKUP($L61,'All Individuals Day 1'!$C$3:$F$254,5,FALSE)+VLOOKUP($L61,#REF!,5,FALSE))","v":""},{"$f":"IF(ISNA(VLOOKUP($L61,'All Individuals Day 1'!$C$3:$J$254,8,FALSE))=TRUE,\"\",VLOOKUP($L61,'All Individuals Day 1'!$C$3:$J$254,8,FALSE))","v":""},{"$f":"IF(ISNA(VLOOKUP($L61,#REF!,8,FALSE))=TRUE,\"\",VLOOKUP($L61,#REF!,8,FALSE))","v":{"$error":"#REF!"}},{"$error":"#REF!"}]
[{"$f":"VLOOKUP($B62,#REF!,2,FALSE)","v":{"$error":"#N/A"}},{"$error":"#N/A"},{"$error":"#N/A"},{"$error":"#N/A"},{"$error":"#N/A"},{"$error":"#N/A"},{"$error":"#N/A"},59,null,null,{"$error":"#REF!"},59,{"$f":"IF(ISNA(VLOOKUP($L62,'All Individuals Day 1'!$C$3:$F$254,4,FALSE)+VLOOKUP($L62,#REF!,4,FALSE))=TRUE,\"\",VLOOKUP($L62,'All Individuals Day 1'!$C$3:$F$254,4,FALSE)+VLOOKUP($L62,#REF!,4,FALSE))","v":""},{"$f":"IF(ISNA(VLOOKUP($L62,'All Individuals Day 1'!$C$3:$F$254,5,FALSE)+VLOOKUP($L62,#REF!,5,FALSE))=TRUE,\"\",VLOOKUP($L62,'All Individuals Day 1'!$C$3:$F$254,5,FALSE)+VLOOKUP($L62,#REF!,5,FALSE))","v":""},{"$f":"IF(ISNA(VLOOKUP($L62,'All Individuals Day 1'!$C$3:$J$254,8,FALSE))=TRUE,\"\",VLOOKUP($L62,'All Individuals Day 1'!$C$3:$J$254,8,FALSE))","v":""},{"$f":"IF(ISNA(VLOOKUP($L62,#REF!,8,FALSE))=TRUE,\"\",VLOOKUP($L62,#REF!,8,FALSE))","v":{"$error":"#REF!"}},{"$error":"#REF!"}]
[{"$f":"VLOOKUP($B63,#REF!,2,FALSE)","v":{"$error":"#N/A"}},{"$error":"#N/A"},{"$error":"#N/A"},{"$error":"#N/A"},{"$error":"#N/A"},{"$error":"#N/A"},{"$error":"#N/A"},60,null,null,{"$error":"#REF!"},60,{"$f":"IF(ISNA(VLOOKUP($L63,'All Individuals Day 1'!$C$3:$F$254,4,FALSE)+VLOOKUP($L63,#REF!,4,FALSE))=TRUE,\"\",VLOOKUP($L63,'All Individuals Day 1'!$C$3:$F$254,4,FALSE)+VLOOKUP($L63,#REF!,4,FALSE))","v":""},{"$f":"IF(ISNA(VLOOKUP($L63,'All Individuals Day 1'!$C$3:$F$254,5,FALSE)+VLOOKUP($L63,#REF!,5,FALSE))=TRUE,\"\",VLOOKUP($L63,'All Individuals Day 1'!$C$3:$F$254,5,FALSE)+VLOOKUP($L63,#REF!,5,FALSE))","v":""},{"$f":"IF(ISNA(VLOOKUP($L63,'All Individuals Day 1'!$C$3:$J$254,8,FALSE))=TRUE,\"\",VLOOKUP($L63,'All Individuals Day 1'!$C$3:$J$254,8,FALSE))","v":""},{"$f":"IF(ISNA(VLOOKUP($L63,#REF!,8,FALSE))=TRUE,\"\",VLOOKUP($L63,#REF!,8,FALSE))","v":{"$error":"#REF!"}},{"$error":"#REF!"}]
[{"$f":"VLOOKUP($B64,#REF!,2,FALSE)","v":{"$error":"#N/A"}},{"$error":"#N/A"},{"$error":"#N/A"},{"$error":"#N/A"},{"$error":"#N/A"},{"$error":"#N/A"},{"$error":"#N/A"},61,null,null,{"$error":"#REF!"},61,{"$f":"IF(ISNA(VLOOKUP($L64,'All Individuals Day 1'!$C$3:$F$254,4,FALSE)+VLOOKUP($L64,#REF!,4,FALSE))=TRUE,\"\",VLOOKUP($L64,'All Individuals Day 1'!$C$3:$F$254,4,FALSE)+VLOOKUP($L64,#REF!,4,FALSE))","v":""},{"$f":"IF(ISNA(VLOOKUP($L64,'All Individuals Day 1'!$C$3:$F$254,5,FALSE)+VLOOKUP($L64,#REF!,5,FALSE))=TRUE,\"\",VLOOKUP($L64,'All Individuals Day 1'!$C$3:$F$254,5,FALSE)+VLOOKUP($L64,#REF!,5,FALSE))","v":""},{"$f":"IF(ISNA(VLOOKUP($L64,'All Individuals Day 1'!$C$3:$J$254,8,FALSE))=TRUE,\"\",VLOOKUP($L64,'All Individuals Day 1'!$C$3:$J$254,8,FALSE))","v":""},{"$f":"IF(ISNA(VLOOKUP($L64,#REF!,8,FALSE))=TRUE,\"\",VLOOKUP($L64,#REF!,8,FALSE))","v":{"$error":"#REF!"}},{"$error":"#REF!"}]
[{"$f":"VLOOKUP($B65,#REF!,2,FALSE)","v":{"$error":"#N/A"}},{"$error":"#N/A"},{"$error":"#N/A"},{"$error":"#N/A"},{"$error":"#N/A"},{"$error":"#N/A"},{"$error":"#N/A"},62,null,null,{"$error":"#REF!"},62,{"$f":"IF(ISNA(VLOOKUP($L65,'All Individuals Day 1'!$C$3:$F$254,4,FALSE)+VLOOKUP($L65,#REF!,4,FALSE))=TRUE,\"\",VLOOKUP($L65,'All Individuals Day 1'!$C$3:$F$254,4,FALSE)+VLOOKUP($L65,#REF!,4,FALSE))","v":""},{"$f":"IF(ISNA(VLOOKUP($L65,'All Individuals Day 1'!$C$3:$F$254,5,FALSE)+VLOOKUP($L65,#REF!,5,FALSE))=TRUE,\"\",VLOOKUP($L65,'All Individuals Day 1'!$C$3:$F$254,5,FALSE)+VLOOKUP($L65,#REF!,5,FALSE))","v":""},{"$f":"IF(ISNA(VLOOKUP($L65,'All Individuals Day 1'!$C$3:$J$254,8,FALSE))=TRUE,\"\",VLOOKUP($L65,'All Individuals Day 1'!$C$3:$J$254,8,FALSE))","v":""},{"$f":"IF(ISNA(VLOOKUP($L65,#REF!,8,FALSE))=TRUE,\"\",VLOOKUP($L65,#REF!,8,FALSE))","v":{"$error":"#REF!"}},{"$error":"#REF!"}]
[{"$f":"VLOOKUP($B66,#REF!,2,FALSE)","v":{"$error":"#N/A"}},{"$error":"#N/A"},{"$error":"#N/A"},{"$error":"#N/A"},{"$error":"#N/A"},{"$error":"#N/A"},{"$error":"#N/A"},{"$f":"IF(ISERROR(H65+1)=TRUE,1,H65+1)","v":63},null,null,{"$error":"#REF!"},63,{"$f":"IF(ISNA(VLOOKUP($L66,'All Individuals Day 1'!$C$3:$F$254,4,FALSE)+VLOOKUP($L66,#REF!,4,FALSE))=TRUE,\"\",VLOOKUP($L66,'All Individuals Day 1'!$C$3:$F$254,4,FALSE)+VLOOKUP($L66,#REF!,4,FALSE))","v":""},{"$f":"IF(ISNA(VLOOKUP($L66,'All Individuals Day 1'!$C$3:$F$254,5,FALSE)+VLOOKUP($L66,#REF!,5,FALSE))=TRUE,\"\",VLOOKUP($L66,'All Individuals Day 1'!$C$3:$F$254,5,FALSE)+VLOOKUP($L66,#REF!,5,FALSE))","v":""},{"$f":"IF(ISNA(VLOOKUP($L66,'All Individuals Day 1'!$C$3:$J$254,8,FALSE))=TRUE,\"\",VLOOKUP($L66,'All Individuals Day 1'!$C$3:$J$254,8,FALSE))","v":""},{"$f":"IF(ISNA(VLOOKUP($L66,#REF!,8,FALSE))=TRUE,\"\",VLOOKUP($L66,#REF!,8,FALSE))","v":{"$error":"#REF!"}},{"$error":"#REF!"}]
[{"$f":"VLOOKUP($B67,#REF!,2,FALSE)","v":{"$error":"#N/A"}},{"$error":"#N/A"},{"$error":"#N/A"},{"$error":"#N/A"},{"$error":"#N/A"},{"$error":"#N/A"},{"$error":"#N/A"},64,null,null,{"$error":"#REF!"},64,{"$f":"IF(ISNA(VLOOKUP($L67,'All Individuals Day 1'!$C$3:$F$254,4,FALSE)+VLOOKUP($L67,#REF!,4,FALSE))=TRUE,\"\",VLOOKUP($L67,'All Individuals Day 1'!$C$3:$F$254,4,FALSE)+VLOOKUP($L67,#REF!,4,FALSE))","v":""},{"$f":"IF(ISNA(VLOOKUP($L67,'All Individuals Day 1'!$C$3:$F$254,5,FALSE)+VLOOKUP($L67,#REF!,5,FALSE))=TRUE,\"\",VLOOKUP($L67,'All Individuals Day 1'!$C$3:$F$254,5,FALSE)+VLOOKUP($L67,#REF!,5,FALSE))","v":""},{"$f":"IF(ISNA(VLOOKUP($L67,'All Individuals Day 1'!$C$3:$J$254,8,FALSE))=TRUE,\"\",VLOOKUP($L67,'All Individuals Day 1'!$C$3:$J$254,8,FALSE))","v":""},{"$f":"IF(ISNA(VLOOKUP($L67,#REF!,8,FALSE))=TRUE,\"\",VLOOKUP($L67,#REF!,8,FALSE))","v":{"$error":"#REF!"}},{"$error":"#REF!"}]
[{"$f":"VLOOKUP($B68,#REF!,2,FALSE)","v":{"$error":"#N/A"}},{"$f":"VLOOKUP($H68,$K$4:$Q$300,2,FALSE)","v":{"$error":"#N/A"}},{"$f":"VLOOKUP($H68,$K$4:$Q$300,3,FALSE)","v":{"$error":"#N/A"}},{"$f":"VLOOKUP($H68,$K$4:$Q$300,4,FALSE)","v":{"$error":"#N/A"}},{"$f":"VLOOKUP($H68,$K$4:$Q$300,5,FALSE)","v":{"$error":"#N/A"}},{"$f":"VLOOKUP($H68,$K$4:$Q$300,6,FALSE)","v":{"$error":"#N/A"}},{"$f":"VLOOKUP($H68,$K$4:$Q$300,7,FALSE)","v":{"$error":"#N/A"}},65,null,null,{"$f":"IF(Q68=NpZ*NoZ*2,NpZ*NoZ,RANK(Q68,Q$4:Q$300,1))","v":{"$error":"#REF!"}},65,{"$f":"IF(ISNA(VLOOKUP($L68,'All Individuals Day 1'!$C$3:$F$254,4,FALSE)+VLOOKUP($L68,#REF!,4,FALSE))=TRUE,\"\",VLOOKUP($L68,'All Individuals Day 1'!$C$3:$F$254,4,FALSE)+VLOOKUP($L68,#REF!,4,FALSE))","v":""},{"$f":"IF(ISNA(VLOOKUP($L68,'All Individuals Day 1'!$C$3:$F$254,5,FALSE)+VLOOKUP($L68,#REF!,5,FALSE))=TRUE,\"\",VLOOKUP($L68,'All Individuals Day 1'!$C$3:$F$254,5,FALSE)+VLOOKUP($L68,#REF!,5,FALSE))","v":""},{"$f":"IF(ISNA(VLOOKUP($L68,'All Individuals Day 1'!$C$3:$J$254,8,FALSE))=TRUE,\"\",VLOOKUP($L68,'All Individuals Day 1'!$C$3:$J$254,8,FALSE))","v":""},{"$f":"IF(ISNA(VLOOKUP($L68,#REF!,8,FALSE))=TRUE,\"\",VLOOKUP($L68,#REF!,8,FALSE))","v":{"$error":"#REF!"}},{"$f":"IF(OR(M68=\"\",M68=0),NpZ*2,(O68+P68)-N68/100000-M68/1000000)","v":{"$error":"#REF!"}}]
[{"$f":"VLOOKUP($B69,#REF!,2,FALSE)","v":{"$error":"#N/A"}},{"$error":"#N/A"},{"$error":"#N/A"},{"$error":"#N/A"},{"$error":"#N/A"},{"$error":"#N/A"},{"$error":"#N/A"},66,null,null,{"$error":"#REF!"},66,{"$f":"IF(ISNA(VLOOKUP($L69,'All Individuals Day 1'!$C$3:$F$254,4,FALSE)+VLOOKUP($L69,#REF!,4,FALSE))=TRUE,\"\",VLOOKUP($L69,'All Individuals Day 1'!$C$3:$F$254,4,FALSE)+VLOOKUP($L69,#REF!,4,FALSE))","v":""},{"$f":"IF(ISNA(VLOOKUP($L69,'All Individuals Day 1'!$C$3:$F$254,5,FALSE)+VLOOKUP($L69,#REF!,5,FALSE))=TRUE,\"\",VLOOKUP($L69,'All Individuals Day 1'!$C$3:$F$254,5,FALSE)+VLOOKUP($L69,#REF!,5,FALSE))","v":""},{"$f":"IF(ISNA(VLOOKUP($L69,'All Individuals Day 1'!$C$3:$J$254,8,FALSE))=TRUE,\"\",VLOOKUP($L69,'All Individuals Day 1'!$C$3:$J$254,8,FALSE))","v":""},{"$f":"IF(ISNA(VLOOKUP($L69,#REF!,8,FALSE))=TRUE,\"\",VLOOKUP($L69,#REF!,8,FALSE))","v":{"$error":"#REF!"}},{"$error":"#REF!"}]
[{"$f":"VLOOKUP($B70,#REF!,2,FALSE)","v":{"$error":"#N/A"}},{"$error":"#N/A"},{"$error":"#N/A"},{"$error":"#N/A"},{"$error":"#N/A"},{"$error":"#N/A"},{"$error":"#N/A"},67,null,null,{"$error":"#REF!"},67,{"$f":"IF(ISNA(VLOOKUP($L70,'All Individuals Day 1'!$C$3:$F$254,4,FALSE)+VLOOKUP($L70,#REF!,4,FALSE))=TRUE,\"\",VLOOKUP($L70,'All Individuals Day 1'!$C$3:$F$254,4,FALSE)+VLOOKUP($L70,#REF!,4,FALSE))","v":""},{"$f":"IF(ISNA(VLOOKUP($L70,'All Individuals Day 1'!$C$3:$F$254,5,FALSE)+VLOOKUP($L70,#REF!,5,FALSE))=TRUE,\"\",VLOOKUP($L70,'All Individuals Day 1'!$C$3:$F$254,5,FALSE)+VLOOKUP($L70,#REF!,5,FALSE))","v":""},{"$f":"IF(ISNA(VLOOKUP($L70,'All Individuals Day 1'!$C$3:$J$254,8,FALSE))=TRUE,\"\",VLOOKUP($L70,'All Individuals Day 1'!$C$3:$J$254,8,FALSE))","v":""},{"$f":"IF(ISNA(VLOOKUP($L70,#REF!,8,FALSE))=TRUE,\"\",VLOOKUP($L70,#REF!,8,FALSE))","v":{"$error":"#REF!"}},{"$error":"#REF!"}]
[{"$f":"VLOOKUP($B71,#REF!,2,FALSE)","v":{"$error":"#N/A"}},{"$error":"#N/A"},{"$error":"#N/A"},{"$error":"#N/A"},{"$error":"#N/A"},{"$error":"#N/A"},{"$error":"#N/A"},68,null,null,{"$error":"#REF!"},68,{"$f":"IF(ISNA(VLOOKUP($L71,'All Individuals Day 1'!$C$3:$F$254,4,FALSE)+VLOOKUP($L71,#REF!,4,FALSE))=TRUE,\"\",VLOOKUP($L71,'All Individuals Day 1'!$C$3:$F$254,4,FALSE)+VLOOKUP($L71,#REF!,4,FALSE))","v":""},{"$f":"IF(ISNA(VLOOKUP($L71,'All Individuals Day 1'!$C$3:$F$254,5,FALSE)+VLOOKUP($L71,#REF!,5,FALSE))=TRUE,\"\",VLOOKUP($L71,'All Individuals Day 1'!$C$3:$F$254,5,FALSE)+VLOOKUP($L71,#REF!,5,FALSE))","v":""},{"$f":"IF(ISNA(VLOOKUP($L71,'All Individuals Day 1'!$C$3:$J$254,8,FALSE))=TRUE,\"\",VLOOKUP($L71,'All Individuals Day 1'!$C$3:$J$254,8,FALSE))","v":""},{"$f":"IF(ISNA(VLOOKUP($L71,#REF!,8,FALSE))=TRUE,\"\",VLOOKUP($L71,#REF!,8,FALSE))","v":{"$error":"#REF!"}},{"$error":"#REF!"}]
[{"$f":"VLOOKUP($B72,#REF!,2,FALSE)","v":{"$error":"#N/A"}},{"$error":"#N/A"},{"$error":"#N/A"},{"$error":"#N/A"},{"$error":"#N/A"},{"$error":"#N/A"},{"$error":"#N/A"},69,null,null,{"$error":"#REF!"},69,{"$f":"IF(ISNA(VLOOKUP($L72,'All Individuals Day 1'!$C$3:$F$254,4,FALSE)+VLOOKUP($L72,#REF!,4,FALSE))=TRUE,\"\",VLOOKUP($L72,'All Individuals Day 1'!$C$3:$F$254,4,FALSE)+VLOOKUP($L72,#REF!,4,FALSE))","v":""},{"$f":"IF(ISNA(VLOOKUP($L72,'All Individuals Day 1'!$C$3:$F$254,5,FALSE)+VLOOKUP($L72,#REF!,5,FALSE))=TRUE,\"\",VLOOKUP($L72,'All Individuals Day 1'!$C$3:$F$254,5,FALSE)+VLOOKUP($L72,#REF!,5,FALSE))","v":""},{"$f":"IF(ISNA(VLOOKUP($L72,'All Individuals Day 1'!$C$3:$J$254,8,FALSE))=TRUE,\"\",VLOOKUP($L72,'All Individuals Day 1'!$C$3:$J$254,8,FALSE))","v":""},{"$f":"IF(ISNA(VLOOKUP($L72,#REF!,8,FALSE))=TRUE,\"\",VLOOKUP($L72,#REF!,8,FALSE))","v":{"$error":"#REF!"}},{"$error":"#REF!"}]
[{"$f":"VLOOKUP($B73,#REF!,2,FALSE)","v":{"$error":"#N/A"}},{"$error":"#N/A"},{"$error":"#N/A"},{"$error":"#N/A"},{"$error":"#N/A"},{"$error":"#N/A"},{"$error":"#N/A"},70,null,null,{"$error":"#REF!"},70,{"$f":"IF(ISNA(VLOOKUP($L73,'All Individuals Day 1'!$C$3:$F$254,4,FALSE)+VLOOKUP($L73,#REF!,4,FALSE))=TRUE,\"\",VLOOKUP($L73,'All Individuals Day 1'!$C$3:$F$254,4,FALSE)+VLOOKUP($L73,#REF!,4,FALSE))","v":""},{"$f":"IF(ISNA(VLOOKUP($L73,'All Individuals Day 1'!$C$3:$F$254,5,FALSE)+VLOOKUP($L73,#REF!,5,FALSE))=TRUE,\"\",VLOOKUP($L73,'All Individuals Day 1'!$C$3:$F$254,5,FALSE)+VLOOKUP($L73,#REF!,5,FALSE))","v":""},{"$f":"IF(ISNA(VLOOKUP($L73,'All Individuals Day 1'!$C$3:$J$254,8,FALSE))=TRUE,\"\",VLOOKUP($L73,'All Individuals Day 1'!$C$3:$J$254,8,FALSE))","v":""},{"$f":"IF(ISNA(VLOOKUP($L73,#REF!,8,FALSE))=TRUE,\"\",VLOOKUP($L73,#REF!,8,FALSE))","v":{"$error":"#REF!"}},{"$error":"#REF!"}]
[{"$f":"VLOOKUP($B74,#REF!,2,FALSE)","v":{"$error":"#N/A"}},{"$error":"#N/A"},{"$error":"#N/A"},{"$error":"#N/A"},{"$error":"#N/A"},{"$error":"#N/A"},{"$error":"#N/A"},71,null,null,{"$error":"#REF!"},71,{"$f":"IF(ISNA(VLOOKUP($L74,'All Individuals Day 1'!$C$3:$F$254,4,FALSE)+VLOOKUP($L74,#REF!,4,FALSE))=TRUE,\"\",VLOOKUP($L74,'All Individuals Day 1'!$C$3:$F$254,4,FALSE)+VLOOKUP($L74,#REF!,4,FALSE))","v":""},{"$f":"IF(ISNA(VLOOKUP($L74,'All Individuals Day 1'!$C$3:$F$254,5,FALSE)+VLOOKUP($L74,#REF!,5,FALSE))=TRUE,\"\",VLOOKUP($L74,'All Individuals Day 1'!$C$3:$F$254,5,FALSE)+VLOOKUP($L74,#REF!,5,FALSE))","v":""},{"$f":"IF(ISNA(VLOOKUP($L74,'All Individuals Day 1'!$C$3:$J$254,8,FALSE))=TRUE,\"\",VLOOKUP($L74,'All Individuals Day 1'!$C$3:$J$254,8,FALSE))","v":""},{"$f":"IF(ISNA(VLOOKUP($L74,#REF!,8,FALSE))=TRUE,\"\",VLOOKUP($L74,#REF!,8,FALSE))","v":{"$error":"#REF!"}},{"$error":"#REF!"}]
[{"$f":"VLOOKUP($B75,#REF!,2,FALSE)","v":{"$error":"#N/A"}},{"$error":"#N/A"},{"$error":"#N/A"},{"$error":"#N/A"},{"$error":"#N/A"},{"$error":"#N/A"},{"$error":"#N/A"},72,null,null,{"$error":"#REF!"},72,{"$f":"IF(ISNA(VLOOKUP($L75,'All Individuals Day 1'!$C$3:$F$254,4,FALSE)+VLOOKUP($L75,#REF!,4,FALSE))=TRUE,\"\",VLOOKUP($L75,'All Individuals Day 1'!$C$3:$F$254,4,FALSE)+VLOOKUP($L75,#REF!,4,FALSE))","v":""},{"$f":"IF(ISNA(VLOOKUP($L75,'All Individuals Day 1'!$C$3:$F$254,5,FALSE)+VLOOKUP($L75,#REF!,5,FALSE))=TRUE,\"\",VLOOKUP($L75,'All Individuals Day 1'!$C$3:$F$254,5,FALSE)+VLOOKUP($L75,#REF!,5,FALSE))","v":""},{"$f":"IF(ISNA(VLOOKUP($L75,'All Individuals Day 1'!$C$3:$J$254,8,FALSE))=TRUE,\"\",VLOOKUP($L75,'All Individuals Day 1'!$C$3:$J$254,8,FALSE))","v":""},{"$f":"IF(ISNA(VLOOKUP($L75,#REF!,8,FALSE))=TRUE,\"\",VLOOKUP($L75,#REF!,8,FALSE))","v":{"$error":"#REF!"}},{"$error":"#REF!"}]
[{"$f":"VLOOKUP($B76,#REF!,2,FALSE)","v":{"$error":"#N/A"}},{"$error":"#N/A"},{"$error":"#N/A"},{"$error":"#N/A"},{"$error":"#N/A"},{"$error":"#N/A"},{"$error":"#N/A"},73,null,null,{"$error":"#REF!"},73,{"$f":"IF(ISNA(VLOOKUP($L76,'All Individuals Day 1'!$C$3:$F$254,4,FALSE)+VLOOKUP($L76,#REF!,4,FALSE))=TRUE,\"\",VLOOKUP($L76,'All Individuals Day 1'!$C$3:$F$254,4,FALSE)+VLOOKUP($L76,#REF!,4,FALSE))","v":""},{"$f":"IF(ISNA(VLOOKUP($L76,'All Individuals Day 1'!$C$3:$F$254,5,FALSE)+VLOOKUP($L76,#REF!,5,FALSE))=TRUE,\"\",VLOOKUP($L76,'All Individuals Day 1'!$C$3:$F$254,5,FALSE)+VLOOKUP($L76,#REF!,5,FALSE))","v":""},{"$f":"IF(ISNA(VLOOKUP($L76,'All Individuals Day 1'!$C$3:$J$254,8,FALSE))=TRUE,\"\",VLOOKUP($L76,'All Individuals Day 1'!$C$3:$J$254,8,FALSE))","v":""},{"$f":"IF(ISNA(VLOOKUP($L76,#REF!,8,FALSE))=TRUE,\"\",VLOOKUP($L76,#REF!,8,FALSE))","v":{"$error":"#REF!"}},{"$error":"#REF!"}]
[{"$f":"VLOOKUP($B77,#REF!,2,FALSE)","v":{"$error":"#N/A"}},{"$error":"#N/A"},{"$error":"#N/A"},{"$error":"#N/A"},{"$error":"#N/A"},{"$error":"#N/A"},{"$error":"#N/A"},74,null,null,{"$error":"#REF!"},74,{"$f":"IF(ISNA(VLOOKUP($L77,'All Individuals Day 1'!$C$3:$F$254,4,FALSE)+VLOOKUP($L77,#REF!,4,FALSE))=TRUE,\"\",VLOOKUP($L77,'All Individuals Day 1'!$C$3:$F$254,4,FALSE)+VLOOKUP($L77,#REF!,4,FALSE))","v":""},{"$f":"IF(ISNA(VLOOKUP($L77,'All Individuals Day 1'!$C$3:$F$254,5,FALSE)+VLOOKUP($L77,#REF!,5,FALSE))=TRUE,\"\",VLOOKUP($L77,'All Individuals Day 1'!$C$3:$F$254,5,FALSE)+VLOOKUP($L77,#REF!,5,FALSE))","v":""},{"$f":"IF(ISNA(VLOOKUP($L77,'All Individuals Day 1'!$C$3:$J$254,8,FALSE))=TRUE,\"\",VLOOKUP($L77,'All Individuals Day 1'!$C$3:$J$254,8,FALSE))","v":""},{"$f":"IF(ISNA(VLOOKUP($L77,#REF!,8,FALSE))=TRUE,\"\",VLOOKUP($L77,#REF!,8,FALSE))","v":{"$error":"#REF!"}},{"$error":"#REF!"}]
[{"$f":"VLOOKUP($B78,#REF!,2,FALSE)","v":{"$error":"#N/A"}},{"$error":"#N/A"},{"$error":"#N/A"},{"$error":"#N/A"},{"$error":"#N/A"},{"$error":"#N/A"},{"$error":"#N/A"},75,null,null,{"$error":"#REF!"},75,{"$f":"IF(ISNA(VLOOKUP($L78,'All Individuals Day 1'!$C$3:$F$254,4,FALSE)+VLOOKUP($L78,#REF!,4,FALSE))=TRUE,\"\",VLOOKUP($L78,'All Individuals Day 1'!$C$3:$F$254,4,FALSE)+VLOOKUP($L78,#REF!,4,FALSE))","v":""},{"$f":"IF(ISNA(VLOOKUP($L78,'All Individuals Day 1'!$C$3:$F$254,5,FALSE)+VLOOKUP($L78,#REF!,5,FALSE))=TRUE,\"\",VLOOKUP($L78,'All Individuals Day 1'!$C$3:$F$254,5,FALSE)+VLOOKUP($L78,#REF!,5,FALSE))","v":""},{"$f":"IF(ISNA(VLOOKUP($L78,'All Individuals Day 1'!$C$3:$J$254,8,FALSE))=TRUE,\"\",VLOOKUP($L78,'All Individuals Day 1'!$C$3:$J$254,8,FALSE))","v":""},{"$f":"IF(ISNA(VLOOKUP($L78,#REF!,8,FALSE))=TRUE,\"\",VLOOKUP($L78,#REF!,8,FALSE))","v":{"$error":"#REF!"}},{"$error":"#REF!"}]
[{"$f":"VLOOKUP($B79,#REF!,2,FALSE)","v":{"$error":"#N/A"}},{"$error":"#N/A"},{"$error":"#N/A"},{"$error":"#N/A"},{"$error":"#N/A"},{"$error":"#N/A"},{"$error":"#N/A"},76,null,null,{"$error":"#REF!"},76,{"$f":"IF(ISNA(VLOOKUP($L79,'All Individuals Day 1'!$C$3:$F$254,4,FALSE)+VLOOKUP($L79,#REF!,4,FALSE))=TRUE,\"\",VLOOKUP($L79,'All Individuals Day 1'!$C$3:$F$254,4,FALSE)+VLOOKUP($L79,#REF!,4,FALSE))","v":""},{"$f":"IF(ISNA(VLOOKUP($L79,'All Individuals Day 1'!$C$3:$F$254,5,FALSE)+VLOOKUP($L79,#REF!,5,FALSE))=TRUE,\"\",VLOOKUP($L79,'All Individuals Day 1'!$C$3:$F$254,5,FALSE)+VLOOKUP($L79,#REF!,5,FALSE))","v":""},{"$f":"IF(ISNA(VLOOKUP($L79,'All Individuals Day 1'!$C$3:$J$254,8,FALSE))=TRUE,\"\",VLOOKUP($L79,'All Individuals Day 1'!$C$3:$J$254,8,FALSE))","v":""},{"$f":"IF(ISNA(VLOOKUP($L79,#REF!,8,FALSE))=TRUE,\"\",VLOOKUP($L79,#REF!,8,FALSE))","v":{"$error":"#REF!"}},{"$error":"#REF!"}]
[{"$f":"VLOOKUP($B80,#REF!,2,FALSE)","v":{"$error":"#N/A"}},{"$error":"#N/A"},{"$error":"#N/A"},{"$error":"#N/A"},{"$error":"#N/A"},{"$error":"#N/A"},{"$error":"#N/A"},77,null,null,{"$error":"#REF!"},77,{"$f":"IF(ISNA(VLOOKUP($L80,'All Individuals Day 1'!$C$3:$F$254,4,FALSE)+VLOOKUP($L80,#REF!,4,FALSE))=TRUE,\"\",VLOOKUP($L80,'All Individuals Day 1'!$C$3:$F$254,4,FALSE)+VLOOKUP($L80,#REF!,4,FALSE))","v":""},{"$f":"IF(ISNA(VLOOKUP($L80,'All Individuals Day 1'!$C$3:$F$254,5,FALSE)+VLOOKUP($L80,#REF!,5,FALSE))=TRUE,\"\",VLOOKUP($L80,'All Individuals Day 1'!$C$3:$F$254,5,FALSE)+VLOOKUP($L80,#REF!,5,FALSE))","v":""},{"$f":"IF(ISNA(VLOOKUP($L80,'All Individuals Day 1'!$C$3:$J$254,8,FALSE))=TRUE,\"\",VLOOKUP($L80,'All Individuals Day 1'!$C$3:$J$254,8,FALSE))","v":""},{"$f":"IF(ISNA(VLOOKUP($L80,#REF!,8,FALSE))=TRUE,\"\",VLOOKUP($L80,#REF!,8,FALSE))","v":{"$error":"#REF!"}},{"$error":"#REF!"}]
[{"$f":"VLOOKUP($B81,#REF!,2,FALSE)","v":{"$error":"#N/A"}},{"$error":"#N/A"},{"$error":"#N/A"},{"$error":"#N/A"},{"$error":"#N/A"},{"$error":"#N/A"},{"$error":"#N/A"},78,null,null,{"$error":"#REF!"},78,{"$f":"IF(ISNA(VLOOKUP($L81,'All Individuals Day 1'!$C$3:$F$254,4,FALSE)+VLOOKUP($L81,#REF!,4,FALSE))=TRUE,\"\",VLOOKUP($L81,'All Individuals Day 1'!$C$3:$F$254,4,FALSE)+VLOOKUP($L81,#REF!,4,FALSE))","v":""},{"$f":"IF(ISNA(VLOOKUP($L81,'All Individuals Day 1'!$C$3:$F$254,5,FALSE)+VLOOKUP($L81,#REF!,5,FALSE))=TRUE,\"\",VLOOKUP($L81,'All Individuals Day 1'!$C$3:$F$254,5,FALSE)+VLOOKUP($L81,#REF!,5,FALSE))","v":""},{"$f":"IF(ISNA(VLOOKUP($L81,'All Individuals Day 1'!$C$3:$J$254,8,FALSE))=TRUE,\"\",VLOOKUP($L81,'All Individuals Day 1'!$C$3:$J$254,8,FALSE))","v":""},{"$f":"IF(ISNA(VLOOKUP($L81,#REF!,8,FALSE))=TRUE,\"\",VLOOKUP($L81,#REF!,8,FALSE))","v":{"$error":"#REF!"}},{"$error":"#REF!"}]
[{"$f":"VLOOKUP($B82,#REF!,2,FALSE)","v":{"$error":"#N/A"}},{"$error":"#N/A"},{"$error":"#N/A"},{"$error":"#N/A"},{"$error":"#N/A"},{"$error":"#N/A"},{"$error":"#N/A"},79,null,null,{"$error":"#REF!"},79,{"$f":"IF(ISNA(VLOOKUP($L82,'All Individuals Day 1'!$C$3:$F$254,4,FALSE)+VLOOKUP($L82,#REF!,4,FALSE))=TRUE,\"\",VLOOKUP($L82,'All Individuals Day 1'!$C$3:$F$254,4,FALSE)+VLOOKUP($L82,#REF!,4,FALSE))","v":""},{"$f":"IF(ISNA(VLOOKUP($L82,'All Individuals Day 1'!$C$3:$F$254,5,FALSE)+VLOOKUP($L82,#REF!,5,FALSE))=TRUE,\"\",VLOOKUP($L82,'All Individuals Day 1'!$C$3:$F$254,5,FALSE)+VLOOKUP($L82,#REF!,5,FALSE))","v":""},{"$f":"IF(ISNA(VLOOKUP($L82,'All Individuals Day 1'!$C$3:$J$254,8,FALSE))=TRUE,\"\",VLOOKUP($L82,'All Individuals Day 1'!$C$3:$J$254,8,FALSE))","v":""},{"$f":"IF(ISNA(VLOOKUP($L82,#REF!,8,FALSE))=TRUE,\"\",VLOOKUP($L82,#REF!,8,FALSE))","v":{"$error":"#REF!"}},{"$error":"#REF!"}]
[{"$f":"VLOOKUP($B83,#REF!,2,FALSE)","v":{"$error":"#N/A"}},{"$error":"#N/A"},{"$error":"#N/A"},{"$error":"#N/A"},{"$error":"#N/A"},{"$error":"#N/A"},{"$error":"#N/A"},80,null,null,{"$error":"#REF!"},80,{"$f":"IF(ISNA(VLOOKUP($L83,'All Individuals Day 1'!$C$3:$F$254,4,FALSE)+VLOOKUP($L83,#REF!,4,FALSE))=TRUE,\"\",VLOOKUP($L83,'All Individuals Day 1'!$C$3:$F$254,4,FALSE)+VLOOKUP($L83,#REF!,4,FALSE))","v":""},{"$f":"IF(ISNA(VLOOKUP($L83,'All Individuals Day 1'!$C$3:$F$254,5,FALSE)+VLOOKUP($L83,#REF!,5,FALSE))=TRUE,\"\",VLOOKUP($L83,'All Individuals Day 1'!$C$3:$F$254,5,FALSE)+VLOOKUP($L83,#REF!,5,FALSE))","v":""},{"$f":"IF(ISNA(VLOOKUP($L83,'All Individuals Day 1'!$C$3:$J$254,8,FALSE))=TRUE,\"\",VLOOKUP($L83,'All Individuals Day 1'!$C$3:$J$254,8,FALSE))","v":""},{"$f":"IF(ISNA(VLOOKUP($L83,#REF!,8,FALSE))=TRUE,\"\",VLOOKUP($L83,#REF!,8,FALSE))","v":{"$error":"#REF!"}},{"$error":"#REF!"}]
[{"$f":"VLOOKUP($B84,#REF!,2,FALSE)","v":{"$error":"#N/A"}},{"$error":"#N/A"},{"$error":"#N/A"},{"$error":"#N/A"},{"$error":"#N/A"},{"$error":"#N/A"},{"$error":"#N/A"},81,null,null,{"$error":"#REF!"},81,{"$f":"IF(ISNA(VLOOKUP($L84,'All Individuals Day 1'!$C$3:$F$254,4,FALSE)+VLOOKUP($L84,#REF!,4,FALSE))=TRUE,\"\",VLOOKUP($L84,'All Individuals Day 1'!$C$3:$F$254,4,FALSE)+VLOOKUP($L84,#REF!,4,FALSE))","v":""},{"$f":"IF(ISNA(VLOOKUP($L84,'All Individuals Day 1'!$C$3:$F$254,5,FALSE)+VLOOKUP($L84,#REF!,5,FALSE))=TRUE,\"\",VLOOKUP($L84,'All Individuals Day 1'!$C$3:$F$254,5,FALSE)+VLOOKUP($L84,#REF!,5,FALSE))","v":""},{"$f":"IF(ISNA(VLOOKUP($L84,'All Individuals Day 1'!$C$3:$J$254,8,FALSE))=TRUE,\"\",VLOOKUP($L84,'All Individuals Day 1'!$C$3:$J$254,8,FALSE))","v":""},{"$f":"IF(ISNA(VLOOKUP($L84,#REF!,8,FALSE))=TRUE,\"\",VLOOKUP($L84,#REF!,8,FALSE))","v":{"$error":"#REF!"}},{"$error":"#REF!"}]
[{"$f":"VLOOKUP($B85,#REF!,2,FALSE)","v":{"$error":"#N/A"}},{"$error":"#N/A"},{"$error":"#N/A"},{"$error":"#N/A"},{"$error":"#N/A"},{"$error":"#N/A"},{"$error":"#N/A"},82,null,null,{"$error":"#REF!"},82,{"$f":"IF(ISNA(VLOOKUP($L85,'All Individuals Day 1'!$C$3:$F$254,4,FALSE)+VLOOKUP($L85,#REF!,4,FALSE))=TRUE,\"\",VLOOKUP($L85,'All Individuals Day 1'!$C$3:$F$254,4,FALSE)+VLOOKUP($L85,#REF!,4,FALSE))","v":""},{"$f":"IF(ISNA(VLOOKUP($L85,'All Individuals Day 1'!$C$3:$F$254,5,FALSE)+VLOOKUP($L85,#REF!,5,FALSE))=TRUE,\"\",VLOOKUP($L85,'All Individuals Day 1'!$C$3:$F$254,5,FALSE)+VLOOKUP($L85,#REF!,5,FALSE))","v":""},{"$f":"IF(ISNA(VLOOKUP($L85,'All Individuals Day 1'!$C$3:$J$254,8,FALSE))=TRUE,\"\",VLOOKUP($L85,'All Individuals Day 1'!$C$3:$J$254,8,FALSE))","v":""},{"$f":"IF(ISNA(VLOOKUP($L85,#REF!,8,FALSE))=TRUE,\"\",VLOOKUP($L85,#REF!,8,FALSE))","v":{"$error":"#REF!"}},{"$error":"#REF!"}]
[{"$f":"VLOOKUP($B86,#REF!,2,FALSE)","v":{"$error":"#N/A"}},{"$error":"#N/A"},{"$error":"#N/A"},{"$error":"#N/A"},{"$error":"#N/A"},{"$error":"#N/A"},{"$error":"#N/A"},83,null,null,{"$error":"#REF!"},83,{"$f":"IF(ISNA(VLOOKUP($L86,'All Individuals Day 1'!$C$3:$F$254,4,FALSE)+VLOOKUP($L86,#REF!,4,FALSE))=TRUE,\"\",VLOOKUP($L86,'All Individuals Day 1'!$C$3:$F$254,4,FALSE)+VLOOKUP($L86,#REF!,4,FALSE))","v":""},{"$f":"IF(ISNA(VLOOKUP($L86,'All Individuals Day 1'!$C$3:$F$254,5,FALSE)+VLOOKUP($L86,#REF!,5,FALSE))=TRUE,\"\",VLOOKUP($L86,'All Individuals Day 1'!$C$3:$F$254,5,FALSE)+VLOOKUP($L86,#REF!,5,FALSE))","v":""},{"$f":"IF(ISNA(VLOOKUP($L86,'All Individuals Day 1'!$C$3:$J$254,8,FALSE))=TRUE,\"\",VLOOKUP($L86,'All Individuals Day 1'!$C$3:$J$254,8,FALSE))","v":""},{"$f":"IF(ISNA(VLOOKUP($L86,#REF!,8,FALSE))=TRUE,\"\",VLOOKUP($L86,#REF!,8,FALSE))","v":{"$error":"#REF!"}},{"$error":"#REF!"}]
[{"$f":"VLOOKUP($B87,#REF!,2,FALSE)","v":{"$error":"#N/A"}},{"$error":"#N/A"},{"$error":"#N/A"},{"$error":"#N/A"},{"$error":"#N/A"},{"$error":"#N/A"},{"$error":"#N/A"},84,null,null,{"$error":"#REF!"},84,{"$f":"IF(ISNA(VLOOKUP($L87,'All Individuals Day 1'!$C$3:$F$254,4,FALSE)+VLOOKUP($L87,#REF!,4,FALSE))=TRUE,\"\",VLOOKUP($L87,'All Individuals Day 1'!$C$3:$F$254,4,FALSE)+VLOOKUP($L87,#REF!,4,FALSE))","v":""},{"$f":"IF(ISNA(VLOOKUP($L87,'All Individuals Day 1'!$C$3:$F$254,5,FALSE)+VLOOKUP($L87,#REF!,5,FALSE))=TRUE,\"\",VLOOKUP($L87,'All Individuals Day 1'!$C$3:$F$254,5,FALSE)+VLOOKUP($L87,#REF!,5,FALSE))","v":""},{"$f":"IF(ISNA(VLOOKUP($L87,'All Individuals Day 1'!$C$3:$J$254,8,FALSE))=TRUE,\"\",VLOOKUP($L87,'All Individuals Day 1'!$C$3:$J$254,8,FALSE))","v":""},{"$f":"IF(ISNA(VLOOKUP($L87,#REF!,8,FALSE))=TRUE,\"\",VLOOKUP($L87,#REF!,8,FALSE))","v":{"$error":"#REF!"}},{"$error":"#REF!"}]
[{"$f":"VLOOKUP($B88,#REF!,2,FALSE)","v":{"$error":"#N/A"}},{"$error":"#N/A"},{"$error":"#N/A"},{"$error":"#N/A"},{"$error":"#N/A"},{"$error":"#N/A"},{"$error":"#N/A"},{"$f":"IF(ISERROR(H87+1)=TRUE,1,H87+1)","v":85},null,null,{"$error":"#REF!"},85,{"$f":"IF(ISNA(VLOOKUP($L88,'All Individuals Day 1'!$C$3:$F$254,4,FALSE)+VLOOKUP($L88,#REF!,4,FALSE))=TRUE,\"\",VLOOKUP($L88,'All Individuals Day 1'!$C$3:$F$254,4,FALSE)+VLOOKUP($L88,#REF!,4,FALSE))","v":""},{"$f":"IF(ISNA(VLOOKUP($L88,'All Individuals Day 1'!$C$3:$F$254,5,FALSE)+VLOOKUP($L88,#REF!,5,FALSE))=TRUE,\"\",VLOOKUP($L88,'All Individuals Day 1'!$C$3:$F$254,5,FALSE)+VLOOKUP($L88,#REF!,5,FALSE))","v":""},{"$f":"IF(ISNA(VLOOKUP($L88,'All Individuals Day 1'!$C$3:$J$254,8,FALSE))=TRUE,\"\",VLOOKUP($L88,'All Individuals Day 1'!$C$3:$J$254,8,FALSE))","v":""},{"$f":"IF(ISNA(VLOOKUP($L88,#REF!,8,FALSE))=TRUE,\"\",VLOOKUP($L88,#REF!,8,FALSE))","v":{"$error":"#REF!"}},{"$error":"#REF!"}]
[{"$f":"VLOOKUP($B89,#REF!,2,FALSE)","v":{"$error":"#N/A"}},{"$error":"#N/A"},{"$error":"#N/A"},{"$error":"#N/A"},{"$error":"#N/A"},{"$error":"#N/A"},{"$error":"#N/A"},86,null,null,{"$error":"#REF!"},86,{"$f":"IF(ISNA(VLOOKUP($L89,'All Individuals Day 1'!$C$3:$F$254,4,FALSE)+VLOOKUP($L89,#REF!,4,FALSE))=TRUE,\"\",VLOOKUP($L89,'All Individuals Day 1'!$C$3:$F$254,4,FALSE)+VLOOKUP($L89,#REF!,4,FALSE))","v":""},{"$f":"IF(ISNA(VLOOKUP($L89,'All Individuals Day 1'!$C$3:$F$254,5,FALSE)+VLOOKUP($L89,#REF!,5,FALSE))=TRUE,\"\",VLOOKUP($L89,'All Individuals Day 1'!$C$3:$F$254,5,FALSE)+VLOOKUP($L89,#REF!,5,FALSE))","v":""},{"$f":"IF(ISNA(VLOOKUP($L89,'All Individuals Day 1'!$C$3:$J$254,8,FALSE))=TRUE,\"\",VLOOKUP($L89,'All Individuals Day 1'!$C$3:$J$254,8,FALSE))","v":""},{"$f":"IF(ISNA(VLOOKUP($L89,#REF!,8,FALSE))=TRUE,\"\",VLOOKUP($L89,#REF!,8,FALSE))","v":{"$error":"#REF!"}},{"$error":"#REF!"}]
[{"$f":"VLOOKUP($B90,#REF!,2,FALSE)","v":{"$error":"#N/A"}},{"$error":"#N/A"},{"$error":"#N/A"},{"$error":"#N/A"},{"$error":"#N/A"},{"$error":"#N/A"},{"$error":"#N/A"},87,null,null,{"$error":"#REF!"},87,{"$f":"IF(ISNA(VLOOKUP($L90,'All Individuals Day 1'!$C$3:$F$254,4,FALSE)+VLOOKUP($L90,#REF!,4,FALSE))=TRUE,\"\",VLOOKUP($L90,'All Individuals Day 1'!$C$3:$F$254,4,FALSE)+VLOOKUP($L90,#REF!,4,FALSE))","v":""},{"$f":"IF(ISNA(VLOOKUP($L90,'All Individuals Day 1'!$C$3:$F$254,5,FALSE)+VLOOKUP($L90,#REF!,5,FALSE))=TRUE,\"\",VLOOKUP($L90,'All Individuals Day 1'!$C$3:$F$254,5,FALSE)+VLOOKUP($L90,#REF!,5,FALSE))","v":""},{"$f":"IF(ISNA(VLOOKUP($L90,'All Individuals Day 1'!$C$3:$J$254,8,FALSE))=TRUE,\"\",VLOOKUP($L90,'All Individuals Day 1'!$C$3:$J$254,8,FALSE))","v":""},{"$f":"IF(ISNA(VLOOKUP($L90,#REF!,8,FALSE))=TRUE,\"\",VLOOKUP($L90,#REF!,8,FALSE))","v":{"$error":"#REF!"}},{"$error":"#REF!"}]
[{"$f":"VLOOKUP($B91,#REF!,2,FALSE)","v":{"$error":"#N/A"}},{"$error":"#N/A"},{"$error":"#N/A"},{"$error":"#N/A"},{"$error":"#N/A"},{"$error":"#N/A"},{"$error":"#N/A"},88,null,null,{"$error":"#REF!"},88,{"$f":"IF(ISNA(VLOOKUP($L91,'All Individuals Day 1'!$C$3:$F$254,4,FALSE)+VLOOKUP($L91,#REF!,4,FALSE))=TRUE,\"\",VLOOKUP($L91,'All Individuals Day 1'!$C$3:$F$254,4,FALSE)+VLOOKUP($L91,#REF!,4,FALSE))","v":""},{"$f":"IF(ISNA(VLOOKUP($L91,'All Individuals Day 1'!$C$3:$F$254,5,FALSE)+VLOOKUP($L91,#REF!,5,FALSE))=TRUE,\"\",VLOOKUP($L91,'All Individuals Day 1'!$C$3:$F$254,5,FALSE)+VLOOKUP($L91,#REF!,5,FALSE))","v":""},{"$f":"IF(ISNA(VLOOKUP($L91,'All Individuals Day 1'!$C$3:$J$254,8,FALSE))=TRUE,\"\",VLOOKUP($L91,'All Individuals Day 1'!$C$3:$J$254,8,FALSE))","v":""},{"$f":"IF(ISNA(VLOOKUP($L91,#REF!,8,FALSE))=TRUE,\"\",VLOOKUP($L91,#REF!,8,FALSE))","v":{"$error":"#REF!"}},{"$error":"#REF!"}]
[{"$f":"VLOOKUP($B92,#REF!,2,FALSE)","v":{"$error":"#N/A"}},{"$error":"#N/A"},{"$error":"#N/A"},{"$error":"#N/A"},{"$error":"#N/A"},{"$error":"#N/A"},{"$error":"#N/A"},89,null,null,{"$error":"#REF!"},89,{"$f":"IF(ISNA(VLOOKUP($L92,'All Individuals Day 1'!$C$3:$F$254,4,FALSE)+VLOOKUP($L92,#REF!,4,FALSE))=TRUE,\"\",VLOOKUP($L92,'All Individuals Day 1'!$C$3:$F$254,4,FALSE)+VLOOKUP($L92,#REF!,4,FALSE))","v":""},{"$f":"IF(ISNA(VLOOKUP($L92,'All Individuals Day 1'!$C$3:$F$254,5,FALSE)+VLOOKUP($L92,#REF!,5,FALSE))=TRUE,\"\",VLOOKUP($L92,'All Individuals Day 1'!$C$3:$F$254,5,FALSE)+VLOOKUP($L92,#REF!,5,FALSE))","v":""},{"$f":"IF(ISNA(VLOOKUP($L92,'All Individuals Day 1'!$C$3:$J$254,8,FALSE))=TRUE,\"\",VLOOKUP($L92,'All Individuals Day 1'!$C$3:$J$254,8,FALSE))","v":""},{"$f":"IF(ISNA(VLOOKUP($L92,#REF!,8,FALSE))=TRUE,\"\",VLOOKUP($L92,#REF!,8,FALSE))","v":{"$error":"#REF!"}},{"$error":"#REF!"}]
[{"$f":"VLOOKUP($B93,#REF!,2,FALSE)","v":{"$error":"#N/A"}},{"$error":"#N/A"},{"$error":"#N/A"},{"$error":"#N/A"},{"$error":"#N/A"},{"$error":"#N/A"},{"$error":"#N/A"},90,null,null,{"$error":"#REF!"},90,{"$f":"IF(ISNA(VLOOKUP($L93,'All Individuals Day 1'!$C$3:$F$254,4,FALSE)+VLOOKUP($L93,#REF!,4,FALSE))=TRUE,\"\",VLOOKUP($L93,'All Individuals Day 1'!$C$3:$F$254,4,FALSE)+VLOOKUP($L93,#REF!,4,FALSE))","v":""},{"$f":"IF(ISNA(VLOOKUP($L93,'All Individuals Day 1'!$C$3:$F$254,5,FALSE)+VLOOKUP($L93,#REF!,5,FALSE))=TRUE,\"\",VLOOKUP($L93,'All Individuals Day 1'!$C$3:$F$254,5,FALSE)+VLOOKUP($L93,#REF!,5,FALSE))","v":""},{"$f":"IF(ISNA(VLOOKUP($L93,'All Individuals Day 1'!$C$3:$J$254,8,FALSE))=TRUE,\"\",VLOOKUP($L93,'All Individuals Day 1'!$C$3:$J$254,8,FALSE))","v":""},{"$f":"IF(ISNA(VLOOKUP($L93,#REF!,8,FALSE))=TRUE,\"\",VLOOKUP($L93,#REF!,8,FALSE))","v":{"$error":"#REF!"}},{"$error":"#REF!"}]
[{"$f":"VLOOKUP($B94,#REF!,2,FALSE)","v":{"$error":"#N/A"}},{"$error":"#N/A"},{"$error":"#N/A"},{"$error":"#N/A"},{"$error":"#N/A"},{"$error":"#N/A"},{"$error":"#N/A"},91,null,null,{"$error":"#REF!"},91,{"$f":"IF(ISNA(VLOOKUP($L94,'All Individuals Day 1'!$C$3:$F$254,4,FALSE)+VLOOKUP($L94,#REF!,4,FALSE))=TRUE,\"\",VLOOKUP($L94,'All Individuals Day 1'!$C$3:$F$254,4,FALSE)+VLOOKUP($L94,#REF!,4,FALSE))","v":""},{"$f":"IF(ISNA(VLOOKUP($L94,'All Individuals Day 1'!$C$3:$F$254,5,FALSE)+VLOOKUP($L94,#REF!,5,FALSE))=TRUE,\"\",VLOOKUP($L94,'All Individuals Day 1'!$C$3:$F$254,5,FALSE)+VLOOKUP($L94,#REF!,5,FALSE))","v":""},{"$f":"IF(ISNA(VLOOKUP($L94,'All Individuals Day 1'!$C$3:$J$254,8,FALSE))=TRUE,\"\",VLOOKUP($L94,'All Individuals Day 1'!$C$3:$J$254,8,FALSE))","v":""},{"$f":"IF(ISNA(VLOOKUP($L94,#REF!,8,FALSE))=TRUE,\"\",VLOOKUP($L94,#REF!,8,FALSE))","v":{"$error":"#REF!"}},{"$error":"#REF!"}]
[{"$f":"VLOOKUP($B95,#REF!,2,FALSE)","v":{"$error":"#N/A"}},{"$error":"#N/A"},{"$error":"#N/A"},{"$error":"#N/A"},{"$error":"#N/A"},{"$error":"#N/A"},{"$error":"#N/A"},92,null,null,{"$error":"#REF!"},92,{"$f":"IF(ISNA(VLOOKUP($L95,'All Individuals Day 1'!$C$3:$F$254,4,FALSE)+VLOOKUP($L95,#REF!,4,FALSE))=TRUE,\"\",VLOOKUP($L95,'All Individuals Day 1'!$C$3:$F$254,4,FALSE)+VLOOKUP($L95,#REF!,4,FALSE))","v":""},{"$f":"IF(ISNA(VLOOKUP($L95,'All Individuals Day 1'!$C$3:$F$254,5,FALSE)+VLOOKUP($L95,#REF!,5,FALSE))=TRUE,\"\",VLOOKUP($L95,'All Individuals Day 1'!$C$3:$F$254,5,FALSE)+VLOOKUP($L95,#REF!,5,FALSE))","v":""},{"$f":"IF(ISNA(VLOOKUP($L95,'All Individuals Day 1'!$C$3:$J$254,8,FALSE))=TRUE,\"\",VLOOKUP($L95,'All Individuals Day 1'!$C$3:$J$254,8,FALSE))","v":""},{"$f":"IF(ISNA(VLOOKUP($L95,#REF!,8,FALSE))=TRUE,\"\",VLOOKUP($L95,#REF!,8,FALSE))","v":{"$error":"#REF!"}},{"$error":"#REF!"}]
[{"$f":"VLOOKUP($B96,#REF!,2,FALSE)","v":{"$error":"#N/A"}},{"$error":"#N/A"},{"$error":"#N/A"},{"$error":"#N/A"},{"$error":"#N/A"},{"$error":"#N/A"},{"$error":"#N/A"},93,null,null,{"$error":"#REF!"},93,{"$f":"IF(ISNA(VLOOKUP($L96,'All Individuals Day 1'!$C$3:$F$254,4,FALSE)+VLOOKUP($L96,#REF!,4,FALSE))=TRUE,\"\",VLOOKUP($L96,'All Individuals Day 1'!$C$3:$F$254,4,FALSE)+VLOOKUP($L96,#REF!,4,FALSE))","v":""},{"$f":"IF(ISNA(VLOOKUP($L96,'All Individuals Day 1'!$C$3:$F$254,5,FALSE)+VLOOKUP($L96,#REF!,5,FALSE))=TRUE,\"\",VLOOKUP($L96,'All Individuals Day 1'!$C$3:$F$254,5,FALSE)+VLOOKUP($L96,#REF!,5,FALSE))","v":""},{"$f":"IF(ISNA(VLOOKUP($L96,'All Individuals Day 1'!$C$3:$J$254,8,FALSE))=TRUE,\"\",VLOOKUP($L96,'All Individuals Day 1'!$C$3:$J$254,8,FALSE))","v":""},{"$f":"IF(ISNA(VLOOKUP($L96,#REF!,8,FALSE))=TRUE,\"\",VLOOKUP($L96,#REF!,8,FALSE))","v":{"$error":"#REF!"}},{"$error":"#REF!"}]
[{"$f":"VLOOKUP($B97,#REF!,2,FALSE)","v":{"$error":"#N/A"}},{"$error":"#N/A"},{"$error":"#N/A"},{"$error":"#N/A"},{"$error":"#N/A"},{"$error":"#N/A"},{"$error":"#N/A"},94,null,null,{"$error":"#REF!"},94,{"$f":"IF(ISNA(VLOOKUP($L97,'All Individuals Day 1'!$C$3:$F$254,4,FALSE)+VLOOKUP($L97,#REF!,4,FALSE))=TRUE,\"\",VLOOKUP($L97,'All Individuals Day 1'!$C$3:$F$254,4,FALSE)+VLOOKUP($L97,#REF!,4,FALSE))","v":""},{"$f":"IF(ISNA(VLOOKUP($L97,'All Individuals Day 1'!$C$3:$F$254,5,FALSE)+VLOOKUP($L97,#REF!,5,FALSE))=TRUE,\"\",VLOOKUP($L97,'All Individuals Day 1'!$C$3:$F$254,5,FALSE)+VLOOKUP($L97,#REF!,5,FALSE))","v":""},{"$f":"IF(ISNA(VLOOKUP($L97,'All Individuals Day 1'!$C$3:$J$254,8,FALSE))=TRUE,\"\",VLOOKUP($L97,'All Individuals Day 1'!$C$3:$J$254,8,FALSE))","v":""},{"$f":"IF(ISNA(VLOOKUP($L97,#REF!,8,FALSE))=TRUE,\"\",VLOOKUP($L97,#REF!,8,FALSE))","v":{"$error":"#REF!"}},{"$error":"#REF!"}]
[{"$f":"VLOOKUP($B98,#REF!,2,FALSE)","v":{"$error":"#N/A"}},{"$error":"#N/A"},{"$error":"#N/A"},{"$error":"#N/A"},{"$error":"#N/A"},{"$error":"#N/A"},{"$error":"#N/A"},95,null,null,{"$error":"#REF!"},95,{"$f":"IF(ISNA(VLOOKUP($L98,'All Individuals Day 1'!$C$3:$F$254,4,FALSE)+VLOOKUP($L98,#REF!,4,FALSE))=TRUE,\"\",VLOOKUP($L98,'All Individuals Day 1'!$C$3:$F$254,4,FALSE)+VLOOKUP($L98,#REF!,4,FALSE))","v":""},{"$f":"IF(ISNA(VLOOKUP($L98,'All Individuals Day 1'!$C$3:$F$254,5,FALSE)+VLOOKUP($L98,#REF!,5,FALSE))=TRUE,\"\",VLOOKUP($L98,'All Individuals Day 1'!$C$3:$F$254,5,FALSE)+VLOOKUP($L98,#REF!,5,FALSE))","v":""},{"$f":"IF(ISNA(VLOOKUP($L98,'All Individuals Day 1'!$C$3:$J$254,8,FALSE))=TRUE,\"\",VLOOKUP($L98,'All Individuals Day 1'!$C$3:$J$254,8,FALSE))","v":""},{"$f":"IF(ISNA(VLOOKUP($L98,#REF!,8,FALSE))=TRUE,\"\",VLOOKUP($L98,#REF!,8,FALSE))","v":{"$error":"#REF!"}},{"$error":"#REF!"}]
[{"$f":"VLOOKUP($B99,#REF!,2,FALSE)","v":{"$error":"#N/A"}},{"$error":"#N/A"},{"$error":"#N/A"},{"$error":"#N/A"},{"$error":"#N/A"},{"$error":"#N/A"},{"$error":"#N/A"},96,null,null,{"$error":"#REF!"},96,{"$f":"IF(ISNA(VLOOKUP($L99,'All Individuals Day 1'!$C$3:$F$254,4,FALSE)+VLOOKUP($L99,#REF!,4,FALSE))=TRUE,\"\",VLOOKUP($L99,'All Individuals Day 1'!$C$3:$F$254,4,FALSE)+VLOOKUP($L99,#REF!,4,FALSE))","v":""},{"$f":"IF(ISNA(VLOOKUP($L99,'All Individuals Day 1'!$C$3:$F$254,5,FALSE)+VLOOKUP($L99,#REF!,5,FALSE))=TRUE,\"\",VLOOKUP($L99,'All Individuals Day 1'!$C$3:$F$254,5,FALSE)+VLOOKUP($L99,#REF!,5,FALSE))","v":""},{"$f":"IF(ISNA(VLOOKUP($L99,'All Individuals Day 1'!$C$3:$J$254,8,FALSE))=TRUE,\"\",VLOOKUP($L99,'All Individuals Day 1'!$C$3:$J$254,8,FALSE))","v":""},{"$f":"IF(ISNA(VLOOKUP($L99,#REF!,8,FALSE))=TRUE,\"\",VLOOKUP($L99,#REF!,8,FALSE))","v":{"$error":"#REF!"}},{"$error":"#REF!"}]
[{"$f":"VLOOKUP($B100,#REF!,2,FALSE)","v":{"$error":"#N/A"}},{"$error":"#N/A"},{"$error":"#N/A"},{"$error":"#N/A"},{"$error":"#N/A"},{"$error":"#N/A"},{"$error":"#N/A"},97,null,null,{"$error":"#REF!"},97,{"$f":"IF(ISNA(VLOOKUP($L100,'All Individuals Day 1'!$C$3:$F$254,4,FALSE)+VLOOKUP($L100,#REF!,4,FALSE))=TRUE,\"\",VLOOKUP($L100,'All Individuals Day 1'!$C$3:$F$254,4,FALSE)+VLOOKUP($L100,#REF!,4,FALSE))","v":""},{"$f":"IF(ISNA(VLOOKUP($L100,'All Individuals Day 1'!$C$3:$F$254,5,FALSE)+VLOOKUP($L100,#REF!,5,FALSE))=TRUE,\"\",VLOOKUP($L100,'All Individuals Day 1'!$C$3:$F$254,5,FALSE)+VLOOKUP($L100,#REF!,5,FALSE))","v":""},{"$f":"IF(ISNA(VLOOKUP($L100,'All Individuals Day 1'!$C$3:$J$254,8,FALSE))=TRUE,\"\",VLOOKUP($L100,'All Individuals Day 1'!$C$3:$J$254,8,FALSE))","v":""},{"$f":"IF(ISNA(VLOOKUP($L100,#REF!,8,FALSE))=TRUE,\"\",VLOOKUP($L100,#REF!,8,FALSE))","v":{"$error":"#REF!"}},{"$f":"IF(OR(M100=\"\",M100=0),NpZ*2,(O100+P100)-N100/100000-M100/1000000)","v":{"$error":"#REF!"}}]
[{"$f":"VLOOKUP($B101,#REF!,2,FALSE)","v":{"$error":"#N/A"}},{"$error":"#N/A"},{"$error":"#N/A"},{"$error":"#N/A"},{"$error":"#N/A"},{"$error":"#N/A"},{"$error":"#N/A"},98,null,null,{"$error":"#REF!"},98,{"$f":"IF(ISNA(VLOOKUP($L101,'All Individuals Day 1'!$C$3:$F$254,4,FALSE)+VLOOKUP($L101,#REF!,4,FALSE))=TRUE,\"\",VLOOKUP($L101,'All Individuals Day 1'!$C$3:$F$254,4,FALSE)+VLOOKUP($L101,#REF!,4,FALSE))","v":""},{"$f":"IF(ISNA(VLOOKUP($L101,'All Individuals Day 1'!$C$3:$F$254,5,FALSE)+VLOOKUP($L101,#REF!,5,FALSE))=TRUE,\"\",VLOOKUP($L101,'All Individuals Day 1'!$C$3:$F$254,5,FALSE)+VLOOKUP($L101,#REF!,5,FALSE))","v":""},{"$f":"IF(ISNA(VLOOKUP($L101,'All Individuals Day 1'!$C$3:$J$254,8,FALSE))=TRUE,\"\",VLOOKUP($L101,'All Individuals Day 1'!$C$3:$J$254,8,FALSE))","v":""},{"$f":"IF(ISNA(VLOOKUP($L101,#REF!,8,FALSE))=TRUE,\"\",VLOOKUP($L101,#REF!,8,FALSE))","v":{"$error":"#REF!"}},{"$f":"IF(OR(M101=\"\",M101=0),NpZ*2,(O101+P101)-N101/100000-M101/1000000)","v":{"$error":"#REF!"}}]
[{"$f":"VLOOKUP($B102,#REF!,2,FALSE)","v":{"$error":"#N/A"}},{"$error":"#N/A"},{"$error":"#N/A"},{"$error":"#N/A"},{"$error":"#N/A"},{"$error":"#N/A"},{"$error":"#N/A"},99,null,null,{"$error":"#REF!"},99,{"$f":"IF(ISNA(VLOOKUP($L102,'All Individuals Day 1'!$C$3:$F$254,4,FALSE)+VLOOKUP($L102,#REF!,4,FALSE))=TRUE,\"\",VLOOKUP($L102,'All Individuals Day 1'!$C$3:$F$254,4,FALSE)+VLOOKUP($L102,#REF!,4,FALSE))","v":""},{"$f":"IF(ISNA(VLOOKUP($L102,'All Individuals Day 1'!$C$3:$F$254,5,FALSE)+VLOOKUP($L102,#REF!,5,FALSE))=TRUE,\"\",VLOOKUP($L102,'All Individuals Day 1'!$C$3:$F$254,5,FALSE)+VLOOKUP($L102,#REF!,5,FALSE))","v":""},{"$f":"IF(ISNA(VLOOKUP($L102,'All Individuals Day 1'!$C$3:$J$254,8,FALSE))=TRUE,\"\",VLOOKUP($L102,'All Individuals Day 1'!$C$3:$J$254,8,FALSE))","v":""},{"$f":"IF(ISNA(VLOOKUP($L102,#REF!,8,FALSE))=TRUE,\"\",VLOOKUP($L102,#REF!,8,FALSE))","v":{"$error":"#REF!"}},{"$f":"IF(OR(M102=\"\",M102=0),NpZ*2,(O102+P102)-N102/100000-M102/1000000)","v":{"$error":"#REF!"}}]
[{"$f":"VLOOKUP($B103,#REF!,2,FALSE)","v":{"$error":"#N/A"}},{"$error":"#N/A"},{"$error":"#N/A"},{"$error":"#N/A"},{"$error":"#N/A"},{"$error":"#N/A"},{"$error":"#N/A"},100,null,null,{"$error":"#REF!"},100,{"$f":"IF(ISNA(VLOOKUP($L103,'All Individuals Day 1'!$C$3:$F$254,4,FALSE)+VLOOKUP($L103,#REF!,4,FALSE))=TRUE,\"\",VLOOKUP($L103,'All Individuals Day 1'!$C$3:$F$254,4,FALSE)+VLOOKUP($L103,#REF!,4,FALSE))","v":""},{"$f":"IF(ISNA(VLOOKUP($L103,'All Individuals Day 1'!$C$3:$F$254,5,FALSE)+VLOOKUP($L103,#REF!,5,FALSE))=TRUE,\"\",VLOOKUP($L103,'All Individuals Day 1'!$C$3:$F$254,5,FALSE)+VLOOKUP($L103,#REF!,5,FALSE))","v":""},{"$f":"IF(ISNA(VLOOKUP($L103,'All Individuals Day 1'!$C$3:$J$254,8,FALSE))=TRUE,\"\",VLOOKUP($L103,'All Individuals Day 1'!$C$3:$J$254,8,FALSE))","v":""},{"$f":"IF(ISNA(VLOOKUP($L103,#REF!,8,FALSE))=TRUE,\"\",VLOOKUP($L103,#REF!,8,FALSE))","v":{"$error":"#REF!"}},{"$f":"IF(OR(M103=\"\",M103=0),NpZ*2,(O103+P103)-N103/100000-M103/1000000)","v":{"$error":"#REF!"}}]

{"sheet":"Weight Point Table (qtr oz)","index":25,"n_rows":671,"n_cols":4,"rows_kept":671,"cut":false,"hidden":true,"merged":[]}
["Species","Length","Lookup","Weight Points"]
["b",18,{"$f":"CONCATENATE(A2,B2)","v":"b18"},10]
["b",19,{"$f":"CONCATENATE(A3,B3)","v":"b19"},13]
["b",20,"b20",14]
["b",21,"b21",15]
["b",22,"b22",16]
["b",23,"b23",18]
["b",24,"b24",20]
["b",25,"b25",24]
["b",26,"b26",28]
["b",27,"b27",32]
["b",28,"b28",38]
["b",29,"b29",40]
["b",30,"b30",44]
["b",31,"b31",48]
["b",32,"b32",52]
["b",33,"b33",56]
["b",34,"b34",64]
["b",35,"b35",68]
["b",36,"b36",76]
["b",37,"b37",80]
["b",38,"b38",84]
["b",39,"b39",88]
["b",40,"b40",92]
["b",41,"b41",96]
["b",42,"b42",104]
["b",43,"b43",112]
["b",44,"b44",120]
["c",18,"c18",10]
["c",19,"c19",13]
["c",20,"c20",14]
["c",21,"c21",15]
["c",22,"c22",16]
["c",23,"c23",18]
["c",24,"c24",20]
["c",25,"c25",24]
["c",26,"c26",28]
["c",27,"c27",32]
["c",28,"c28",38]
["c",29,"c29",40]
["c",30,"c30",44]
["c",31,"c31",48]
["c",32,"c32",52]
["c",33,"c33",56]
["c",34,"c34",64]
["c",35,"c35",68]
["c",36,"c36",76]
["c",37,"c37",80]
["c",38,"c38",84]
["c",39,"c39",88]
["c",40,"c40",92]
["c",41,"c41",96]
["c",42,"c42",104]
["c",43,"c43",112]
["c",44,"c44",120]
["p",18,"p18",10]
["p",19,"p19",13]
["p",20,"p20",14]
["p",21,"p21",15]
["p",22,"p22",16]
["p",23,"p23",18]
["p",24,"p24",20]
["p",25,"p25",24]
["p",26,"p26",28]
["p",27,"p27",32]
["p",28,"p28",38]
["p",29,{"$f":"CONCATENATE(A67,B67)","v":"p29"},40]
["p",30,"p30",44]
["p",31,"p31",48]
["p",32,"p32",52]
["p",33,"p33",56]
["p",34,"p34",64]
["p",35,"p35",68]
["p",36,"p36",76]
["p",37,"p37",80]
["p",38,"p38",84]
["p",39,"p39",88]
["p",40,"p40",92]
["p",41,"p41",96]
["p",42,"p42",104]
["p",43,"p43",112]
["p",44,"p44",120]
["g",18,"g18",10]
["g",19,"g19",13]
["g",20,"g20",14]
["g",21,"g21",15]
["g",22,"g22",16]
["g",23,"g23",18]
["g",24,"g24",20]
["g",25,"g25",24]
["g",26,"g26",28]
["g",27,"g27",32]
["g",28,"g28",38]
["g",29,"g29",40]
["g",30,"g30",44]
["g",31,"g31",48]
["g",32,"g32",52]
["g",33,"g33",56]
["g",34,"g34",64]
["g",35,"g35",68]
["g",36,"g36",76]
["g",37,"g37",80]
["g",38,"g38",84]
["g",39,"g39",88]
["g",40,"g40",92]
["g",41,"g41",96]
["g",42,"g42",104]
["g",43,"g43",112]
["g",44,"g44",120]
["m",18,"m18",10]
["m",19,"m19",13]
["m",20,"m20",14]
["m",21,"m21",15]
["m",22,"m22",16]
["m",23,"m23",18]
["m",24,"m24",20]
["m",25,"m25",24]
["m",26,"m26",28]
["m",27,"m27",32]
["m",28,"m28",38]
["m",29,"m29",40]
["m",30,"m30",44]
["m",31,"m31",48]
["m",32,"m32",52]
["m",33,"m33",56]
["m",34,"m34",64]
["m",35,"m35",68]
["m",36,"m36",76]
["m",37,"m37",80]
["m",38,"m38",84]
["m",39,{"$f":"CONCATENATE(A131,B131)","v":"m39"},88]
["m",40,"m40",92]
["m",41,"m41",96]
["m",42,"m42",104]
["m",43,"m43",112]
["m",44,"m44",120]
["sc",18,"sc18",10]
["sc",19,"sc19",13]
["sc",20,"sc20",14]
["sc",21,"sc21",15]
["sc",22,"sc22",16]
["sc",23,"sc23",18]
["sc",24,"sc24",20]
["sc",25,"sc25",24]
["sc",26,"sc26",28]
["sc",27,"sc27",32]
["sc",28,"sc28",38]
["sc",29,"sc29",40]
["sc",30,"sc30",44]
["sc",31,"sc31",48]
["sc",32,"sc32",52]
["sc",33,"sc33",56]
["sc",34,"sc34",64]
["sc",35,"sc35",68]
["sc",36,"sc36",76]
["sc",37,"sc37",80]
["sc",38,"sc38",84]
["sc",39,"sc39",88]
["sc",40,"sc40",92]
["sc",41,"sc41",96]
["sc",42,"sc42",104]
["sc",43,"sc43",112]
["sc",44,"sc44",120]
["db",18,"db18",8]
["db",19,"db19",10]
["db",20,"db20",11]
["db",21,"db21",12]
["db",22,"db22",14]
["db",23,"db23",16]
["db",24,"db24",18]
["db",25,"db25",20]
["db",26,"db26",24]
["db",27,"db27",28]
["db",28,"db28",32]
["db",29,"db29",40]
["db",30,"db30",48]
["db",31,"db31",56]
["db",32,"db32",60]
["db",33,"db33",64]
["db",34,"db34",68]
["db",35,"db35",72]
["db",36,"db36",76]
["db",37,"db37",80]
["db",38,"db38",88]
["db",39,"db39",96]
["db",40,"db40",104]
["db",41,"db41",112]
["db",42,"db42",124]
["db",43,"db43",136]
["db",44,"db44",148]
["f",18,"f18",8]
["f",19,"f19",10]
["f",20,"f20",11]
["f",21,"f21",12]
["f",22,{"$f":"CONCATENATE(A195,B195)","v":"f22"},14]
["f",23,"f23",16]
["f",24,"f24",18]
["f",25,"f25",20]
["f",26,"f26",24]
["f",27,"f27",28]
["f",28,"f28",32]
["f",29,"f29",40]
["f",30,"f30",48]
["f",31,"f31",56]
["f",32,"f32",60]
["f",33,"f33",64]
["f",34,"f34",68]
["f",35,"f35",72]
["f",36,"f36",76]
["f",37,"f37",80]
["f",38,"f38",88]
["f",39,"f39",96]
["f",40,"f40",104]
["f",41,"f41",112]
["f",42,"f42",124]
["f",43,"f43",136]
["f",44,"f44",148]
["s",18,"s18",8]
["s",19,"s19",10]
["s",20,"s20",11]
["s",21,"s21",12]
["s",22,"s22",14]
["s",23,"s23",16]
["s",24,"s24",18]
["s",25,"s25",20]
["s",26,"s26",24]
["s",27,"s27",28]
["s",28,"s28",32]
["s",29,"s29",40]
["s",30,"s30",48]
["s",31,"s31",56]
["s",32,"s32",60]
["s",33,"s33",64]
["s",34,"s34",68]
["s",35,"s35",72]
["s",36,"s36",76]
["s",37,"s37",80]
["s",38,"s38",88]
["s",39,"s39",96]
["s",40,"s40",104]
["s",41,"s41",112]
["s",42,"s42",124]
["s",43,"s43",136]
["s",44,"s44",148]
["p",18,"p18",8]
["p",19,"p19",10]
["p",20,"p20",11]
["p",21,"p21",12]
["p",22,"p22",14]
["p",23,"p23",16]
["p",24,"p24",18]
["p",25,"p25",20]
["p",26,"p26",24]
["p",27,"p27",28]
["p",28,"p28",32]
["p",29,"p29",40]
["p",30,"p30",48]
["p",31,"p31",56]
["p",32,{"$f":"CONCATENATE(A259,B259)","v":"p32"},60]
["p",33,"p33",64]
["p",34,"p34",68]
["p",35,"p35",72]
["p",36,"p36",76]
["p",37,"p37",80]
["p",38,"p38",88]
["p",39,"p39",96]
["p",40,"p40",104]
["p",41,"p41",112]
["p",42,"p42",124]
["p",43,"p43",136]
["p",44,"p44",148]
["r",18,"r18",8]
["r",19,"r19",10]
["r",20,"r20",11]
["r",21,"r21",12]
["r",22,"r22",14]
["r",23,"r23",16]
["r",24,"r24",18]
["r",25,"r25",20]
["r",26,"r26",24]
["r",27,"r27",28]
["r",28,"r28",32]
["r",29,"r29",40]
["r",30,"r30",48]
["r",31,"r31",56]
["r",32,"r32",60]
["r",33,"r33",64]
["r",34,"r34",68]
["r",35,"r35",72]
["r",36,"r36",76]
["r",37,"r37",80]
["r",38,"r38",88]
["r",39,"r39",96]
["r",40,"r40",104]
["r",41,"r41",112]
["r",42,"r42",124]
["r",43,"r43",136]
["r",44,"r44",148]
["ro",18,"ro18",8]
["ro",19,"ro19",10]
["ro",20,"ro20",11]
["ro",21,"ro21",12]
["ro",22,"ro22",13]
["ro",23,"ro23",14]
["ro",24,"ro24",15]
["ro",25,"ro25",16]
["ro",26,"ro26",18]
["ro",27,"ro27",20]
["ro",28,"ro28",24]
["ro",29,"ro29",28]
["ro",30,"ro30",32]
["ro",31,"ro31",36]
["ro",32,"ro32",40]
["ro",33,"ro33",44]
["ro",34,"ro34",48]
["ro",35,"ro35",52]
["ro",36,"ro36",54]
["ro",37,"ro37",56]
["ro",38,"ro38",64]
["ro",39,"ro39",68]
["ro",40,"ro40",72]
["ro",41,"ro41",76]
["ro",42,{"$f":"CONCATENATE(A323,B323)","v":"ro42"},80]
["ro",43,"ro43",84]
["ro",44,"ro44",88]
["w",18,"w18",8]
["w",19,"w19",10]
["w",20,"w20",11]
["w",21,"w21",12]
["w",22,"w22",13]
["w",23,"w23",14]
["w",24,"w24",15]
["w",25,"w25",16]
["w",26,"w26",18]
["w",27,"w27",20]
["w",28,"w28",24]
["w",29,"w29",28]
["w",30,"w30",32]
["w",31,"w31",36]
["w",32,"w32",40]
["w",33,"w33",44]
["w",34,"w34",48]
["w",35,"w35",52]
["w",36,"w36",54]
["w",37,"w37",56]
["w",38,"w38",64]
["w",39,"w39",68]
["w",40,"w40",72]
["w",41,"w41",76]
["w",42,"w42",80]
["w",43,"w43",84]
["w",44,"w44",88]
["u",18,"u18",8]
["u",19,"u19",10]
["u",20,"u20",11]
["u",21,"u21",12]
["u",22,"u22",13]
["u",23,"u23",14]
["u",24,"u24",15]
["u",25,"u25",16]
["u",26,"u26",18]
["u",27,"u27",20]
["u",28,"u28",24]
["u",29,"u29",28]
["u",30,"u30",32]
["u",31,"u31",36]
["u",32,"u32",40]
["u",33,"u33",44]
["u",34,"u34",48]
["u",35,"u35",52]
["u",36,"u36",54]
["u",37,"u37",56]
["u",38,"u38",64]
["u",39,"u39",68]
["u",40,"u40",72]
["u",41,"u41",76]
["u",42,"u42",80]
["u",43,"u43",84]
["u",44,"u44",88]
["co",18,"co18",8]
["co",19,"co19",10]
["co",20,"co20",11]
["co",21,"co21",12]
["co",22,"co22",13]
["co",23,"co23",14]
["co",24,"co24",15]
["co",25,{"$f":"CONCATENATE(A387,B387)","v":"co25"},16]
["co",26,"co26",18]
["co",27,"co27",20]
["co",28,"co28",24]
["co",29,"co29",28]
["co",30,"co30",32]
["co",31,"co31",36]
["co",32,"co32",40]
["co",33,"co33",44]
["co",34,"co34",48]
["co",35,"co35",52]
["co",36,"co36",54]
["co",37,"co37",56]
["co",38,"co38",64]
["co",39,"co39",68]
["co",40,"co40",72]
["co",41,"co41",76]
["co",42,"co42",80]
["co",43,"co43",84]
["co",44,"co44",88]
["pc",18,"pc18",8]
["pc",19,"pc19",10]
["pc",20,"pc20",11]
["pc",21,"pc21",12]
["pc",22,"pc22",13]
["pc",23,"pc23",14]
["pc",24,"pc24",15]
["pc",25,"pc25",16]
["pc",26,"pc26",18]
["pc",27,"pc27",20]
["pc",28,"pc28",24]
["pc",29,"pc29",28]
["pc",30,"pc30",32]
["pc",31,"pc31",36]
["pc",32,"pc32",40]
["pc",33,"pc33",44]
["pc",34,"pc34",48]
["pc",35,"pc35",52]
["pc",36,"pc36",54]
["pc",37,"pc37",56]
["pc",38,"pc38",64]
["pc",39,"pc39",68]
["pc",40,"pc40",72]
["pc",41,"pc41",76]
["pc",42,"pc42",80]
["pc",43,"pc43",84]
["pc",44,"pc44",88]
["po",18,"po18",8]
["po",19,"po19",10]
["po",20,"po20",11]
["po",21,"po21",12]
["po",22,"po22",13]
["po",23,"po23",14]
["po",24,"po24",15]
["po",25,"po25",16]
["po",26,"po26",18]
["po",27,"po27",20]
["po",28,"po28",24]
["po",29,"po29",28]
["po",30,"po30",32]
["po",31,"po31",36]
["po",32,"po32",40]
["po",33,"po33",44]
["po",34,"po34",48]
["po",35,{"$f":"CONCATENATE(A451,B451)","v":"po35"},52]
["po",36,"po36",54]
["po",37,"po37",56]
["po",38,"po38",64]
["po",39,"po39",68]
["po",40,"po40",72]
["po",41,"po41",76]
["po",42,"po42",80]
["po",43,"po43",84]
["po",44,"po44",88]
["b",18,"b18",10]
["b",19,"b19",12]
["b",20,"b20",15]
["b",21,"b21",18]
["b",22,"b22",20]
["b",23,"b23",24]
["b",24,"b24",28]
["b",25,"b25",32]
["b",26,"b26",36]
["b",27,"b27",44]
["b",28,"b28",48]
["b",29,"b29",56]
["b",30,"b30",64]
["b",31,"b31",68]
["b",32,"b32",72]
["b",33,"b33",84]
["b",34,"b34",96]
["b",35,"b35",104]
["b",36,"b36",112]
["b",37,"b37",120]
["b",38,"b38",128]
["b",39,"b39",136]
["b",40,"b40",144]
["b",41,"b41",152]
["b",42,"b42",160]
["b",43,"b43",164]
["b",44,"b44",168]
["w",18,"w18",10]
["w",19,"w19",12]
["w",20,"w20",15]
["w",21,"w21",18]
["w",22,"w22",20]
["w",23,"w23",24]
["w",24,"w24",28]
["w",25,"w25",32]
["w",26,"w26",36]
["w",27,"w27",44]
["w",28,"w28",48]
["w",29,"w29",56]
["w",30,"w30",64]
["w",31,"w31",68]
["w",32,"w32",72]
["w",33,"w33",84]
["w",34,"w34",96]
["w",35,"w35",104]
["w",36,"w36",112]
["w",37,"w37",120]
["w",38,"w38",128]
["w",39,"w39",136]
["w",40,"w40",144]
["w",41,"w41",152]
["w",42,"w42",160]
["w",43,"w43",164]
["w",44,"w44",168]
["sh",18,{"$f":"CONCATENATE(A515,B515)","v":"sh18"},32]
["sh",19,"sh19",32]
["sh",20,"sh20",32]
["sh",21,"sh21",32]
["sh",22,"sh22",32]
["sh",23,"sh23",32]
["sh",24,{"$f":"CONCATENATE(A521,B521)","v":"sh24"},32]
["sh",25,"sh25",32]
["sh",26,"sh26",32]
["sh",27,"sh27",32]
["sh",28,"sh28",32]
["sh",29,"sh29",32]
["sh",30,"sh30",32]
["sh",31,"sh31",56]
["sh",32,"sh32",56]
["sh",33,{"$f":"CONCATENATE(A530,B530)","v":"sh33"},56]
["sh",34,"sh34",56]
["sh",35,"sh35",56]
["sh",36,"sh36",56]
["sh",37,"sh37",56]
["sh",38,"sh38",56]
["sh",39,"sh39",56]
["sh",40,"sh40",56]
["sh",41,"sh41",56]
["sh",42,"sh42",56]
["sh",43,"sh43",56]
["sh",44,"sh44",56]
["sh",45,"sh45",56]
["sh",46,"sh46",56]
["sh",47,"sh47",56]
["sh",48,"sh48",56]
["sh",49,{"$f":"CONCATENATE(A546,B546)","v":"sh49"},56]
["sh",50,"sh50",56]
["sh",51,"sh51",84]
["sh",52,"sh52",84]
["sh",53,{"$f":"CONCATENATE(A550,B550)","v":"sh53"},84]
["sh",54,{"$f":"CONCATENATE(A551,B551)","v":"sh54"},84]
["sh",55,{"$f":"CONCATENATE(A552,B552)","v":"sh55"},84]
["sh",56,"sh56",120]
["sh",57,"sh57",120]
["sh",58,"sh58",120]
["sh",59,"sh59",120]
["sh",60,"sh60",120]
["sh",61,{"$f":"CONCATENATE(A558,B558)","v":"sh61"},160]
["sh",62,{"$f":"CONCATENATE(A559,B559)","v":"sh62"},160]
["sh",63,{"$f":"CONCATENATE(A560,B560)","v":"sh63"},160]
["sh",64,"sh64",160]
["sh",65,"sh65",160]
["sh",66,"sh66",160]
["sh",67,"sh67",160]
["sh",68,"sh68",160]
["sh",69,"sh69",160]
["sh",70,"sh70",160]
["sh",71,"sh71",236]
["sh",72,"sh72",236]
["sh",73,{"$f":"CONCATENATE(A570,B570)","v":"sh73"},236]
["sh",74,"sh74",236]
["sh",75,"sh75",236]
["sh",76,"sh76",236]
["sh",77,"sh77",236]
["sh",78,"sh78",236]
["sh",79,"sh79",236]
["sh",80,"sh80",236]
["sh",81,"sh81",332]
["sh",82,"sh82",332]
["sh",83,"sh83",332]
["sh",84,"sh84",332]
["sh",85,"sh85",332]
["sh",86,"sh86",332]
["sh",87,"sh87",332]
["sh",88,"sh88",332]
["sh",89,"sh89",332]
["sh",90,"sh90",332]
["d",18,"d18",56]
["d",19,"d19",56]
["d",20,"d20",56]
["d",21,"d21",56]
["d",22,"d22",56]
["d",23,"d23",56]
["d",24,{"$f":"CONCATENATE(A594,B594)","v":"d24"},56]
["d",25,"d25",56]
["d",26,"d26",56]
["d",27,"d27",56]
["d",28,"d28",56]
["d",29,"d29",56]
["d",30,"d30",56]
["d",31,"d31",56]
["d",32,"d32",56]
["d",33,"d33",56]
["d",34,"d34",56]
["d",35,"d35",56]
["d",36,"d36",56]
["d",37,"d37",56]
["d",38,"d38",80]
["d",39,{"$f":"CONCATENATE(A609,B609)","v":"d39"},80]
["d",40,"d40",80]
["d",41,"d41",80]
["d",42,"d42",80]
["d",43,"d43",80]
["d",44,"d44",80]
["d",45,"d45",96]
["d",46,{"$f":"CONCATENATE(A616,B616)","v":"d46"},96]
["d",47,"d47",96]
["d",48,"d48",96]
["d",49,"d49",96]
["d",50,"d50",96]
["d",51,"d51",112]
["d",52,"d52",112]
["d",53,"d53",112]
["d",54,"d54",112]
["d",55,"d55",112]
["d",56,"d56",124]
["d",57,"d57",124]
["d",58,"d58",124]
["d",59,"d59",124]
["d",60,"d60",124]
["d",61,"d61",124]
["d",62,"d62",124]
["d",63,"d63",124]
["d",64,"d64",124]
["d",65,"d65",124]
["d",66,{"$f":"CONCATENATE(A636,B636)","v":"d66"},124]
["d",67,"d67",124]
["d",68,"d68",124]
["d",69,"d69",124]
["d",70,"d70",124]
["d",71,"d71",124]
["d",72,"d72",124]
["d",73,"d73",124]
["d",74,"d74",124]
["d",75,"d75",124]
["d",76,"d76",124]
["d",77,"d77",124]
["d",78,"d78",124]
["d",79,"d79",124]
["d",80,{"$f":"CONCATENATE(A650,B650)","v":"d80"},124]
["d",81,"d81",124]
["d",82,"d82",124]
["d",83,"d83",124]
["d",84,"d84",124]
["d",85,"d85",124]
["d",86,"d86",124]
["d",87,"d87",124]
["d",88,"d88",124]
["d",89,"d89",124]
["d",90,"d90",124]
["d",91,"d91",124]
["d",92,"d92",124]
["d",93,"d93",124]
["d",94,"d94",124]
["d",95,"d95",124]
["d",96,"d96",124]
["d",97,"d97",124]
["d",98,"d98",124]
["d",99,"d99",124]
["d",100,"d100",124]
["g",null,{"$f":"CONCATENATE(A671,B671)","v":"g"},32]